From mboxrd@z Thu Jan 1 00:00:00 1970 Return-Path: Received: from mails.dpdk.org (mails.dpdk.org [217.70.189.124]) by inbox.dpdk.org (Postfix) with ESMTP id 6DB7E48AF6 for ; Thu, 13 Nov 2025 07:12:55 +0100 (CET) Received: from mails.dpdk.org (localhost [127.0.0.1]) by mails.dpdk.org (Postfix) with ESMTP id 67A2D4003C; Thu, 13 Nov 2025 07:12:55 +0100 (CET) Received: from mail-oo1-f98.google.com (mail-oo1-f98.google.com [209.85.161.98]) by mails.dpdk.org (Postfix) with ESMTP id 3B8524003C for ; Thu, 13 Nov 2025 07:12:54 +0100 (CET) Received: by mail-oo1-f98.google.com with SMTP id 006d021491bc7-656b32a0cc4so83609eaf.1 for ; Wed, 12 Nov 2025 22:12:54 -0800 (PST) DKIM-Signature: v=1; a=rsa-sha256; c=relaxed/relaxed; d=iol.unh.edu; s=unh-iol; t=1763014373; x=1763619173; darn=dpdk.org; h=references:in-reply-to:cc:to:from:subject:message-id:date:from:to :cc:subject:date:message-id:reply-to; bh=TVA4c7PAd3L8QIvrdpVOZszgoa7qi9I7K2dGplmH+4Y=; b=Rj/P2bfqMgqfG8nZVf8mX1js5jS1LZ2opCWmDukBM+AP+wMPOYUce9acfIPjQMQkL2 PfFjms2Y3Isc7MfBv0w3v+sWsJSiBFD+3Ul2fp4sCfn+iXTwG1CV1QUKJA3WgCoKAA8g SmshqYkheOmIAZ8mGXeVDvPpjupcIMUnSHKYw= X-Google-DKIM-Signature: v=1; a=rsa-sha256; c=relaxed/relaxed; d=1e100.net; s=20230601; t=1763014373; x=1763619173; h=references:in-reply-to:cc:to:from:subject:message-id:date:x-gm-gg :x-gm-message-state:from:to:cc:subject:date:message-id:reply-to; bh=TVA4c7PAd3L8QIvrdpVOZszgoa7qi9I7K2dGplmH+4Y=; b=q43K5NkZCtoTxKgEbC5uNPJVgZTUo66ef7z3lem0HO9sKHbd625R1N76CFKehPtNuH yLIwBv6jzw73PZkgoODg4HkLw6hyzVKVmz3ZNBy1WoJ8TkyHTbFSNnpaO1uon7oX2DpZ zekZdnNWkgiEFU04JuOgzEizcAaLaTvHd3J+0OZbOWVANEwRPYvIGkFQtuTRp7TN6A+H byWsCDoVpfVqilZHZXThSrH5/05LSXel8VY2SGaAybMVQ9k79DTxm/Nn7PW/6WFp6DGb e3FxTNVh4UajRbgqaXOIrgEJDY3HiwZzDIUvA0zBQlrG2qWKywniLTWrm6bxz8fXKMbX 0v0A== X-Gm-Message-State: AOJu0YyA5cYQUgA5rO6N5lzlN3bmPFm67/+YJn60qYfHVM9SsbJ0EAJi pYOT3CK7bU/Qay3ftUDgC49/+sreUKiY1vKwZjRwLVg89FfXgUNDhFoMa8xNl4tJrzUGBLNJVRk /6p7bq2y+4JRnPblM6cxQUnuh3vEeJSw1l7cANI93w8QulN+TUaQLUtJcz7Xq X-Gm-Gg: ASbGncssYEwuGZZaARyDqPgllUVMn6gASsHRcl5yEB7p0Gom5U7kKnzYz1GmGzEkOR2 sGmtCbVMtkbIHGnrnwXksOB3W2/+AvIuvB1WtHiMFNgggbal+Rn7jorENsnlqRWQfO6iJjCvZXT 5ZPjJsDvaXOLJVIVBhecziHFmuDjsiTCUXtnCuQzp6wMn9KuuyRefnElrB6jRGdGKAVbCri6h2O vNMdl+vP9NyoDSEfMxw99lFPfEAmzCdQ0jn2+U9w7KR4jzoxdYFQ4ATuVQjiZ0B6pQy131K5G0b Bz0A8gUgSS2trqqIyCHC7tatLlyLHQxqIl/f5Xx0uiBdeKj+89Pe1RWw54EfnJ14OduN59Q98n5 1adYzsaNK X-Google-Smtp-Source: AGHT+IHddWMb90K3IRi4McXLmoJVutcIls47kY+JcMfgKya6G2+qs1IQQPbe5alW4sf9nW0XQQc+a/qLrr5/ X-Received: by 2002:a05:6870:1e89:b0:3c9:895a:d9ec with SMTP id 586e51a60fabf-3e833f8acb7mr2106676fac.17.1763014373335; Wed, 12 Nov 2025 22:12:53 -0800 (PST) Received: from postal.iol.unh.edu (postal.iol.unh.edu. [2606:4100:3880:1234::84]) by smtp-relay.gmail.com with ESMTPS id 586e51a60fabf-3e851fc79f0sm91727fac.1.2025.11.12.22.12.53 (version=TLS1_2 cipher=ECDHE-ECDSA-AES128-GCM-SHA256 bits=128/128); Wed, 12 Nov 2025 22:12:53 -0800 (PST) X-Relaying-Domain: iol.unh.edu Date: Wed, 12 Nov 2025 22:12:53 -0800 (PST) Message-ID: <691576e5.050a0220.cda76.4e95SMTPIN_ADDED_MISSING@mx.google.com> Received: from [172.21.0.2] (unknown [172.18.0.240]) by postal.iol.unh.edu (Postfix) with ESMTP id 9C7996051830; Thu, 13 Nov 2025 01:12:52 -0500 (EST) Subject: |SUCCESS| pw158655-158657 [PATCH] [v2,4/4] net/nbl: add IOVA mode ch From: dpdklab@iol.unh.edu To: Test Report Cc: dpdk-test-reports@iol.unh.edu, Stephen Hemminger In-Reply-To: <20251111113144.3567291-5-dimon.zhao@nebula-matrix.com> References: <20251111113144.3567291-5-dimon.zhao@nebula-matrix.com> Content-Type: text/plain X-BeenThere: test-report@dpdk.org X-Mailman-Version: 2.1.29 Precedence: list List-Id: automatic DPDK test reports List-Unsubscribe: , List-Archive: List-Post: List-Help: List-Subscribe: , Errors-To: test-report-bounces@dpdk.org Test-Label: iol-unit-amd64-testing Test-Status: SUCCESS http://dpdk.org/patch/158657 _Testing PASS_ Submitter: Dimon Zhao Date: Tuesday, November 11 2025 11:31:43 DPDK git baseline: Repo:dpdk-next-net Branch: master CommitID:591ee7f468aebec30d68d30afa8d5e4dcfc897dc 158655-158657 --> testing pass Upstream job id: Generic-VM-Unit-Test-DPDK#32461 Test environment and result as below: +-------------------------------+----------------+ | Environment | dpdk_unit_test | +===============================+================+ | CentOS Stream 9 | PASS | +-------------------------------+----------------+ | CentOS Stream 10 | PASS | +-------------------------------+----------------+ | Debian GNU/Linux 12 | PASS | +-------------------------------+----------------+ | Fedora Linux 40 | PASS | +-------------------------------+----------------+ | Fedora Linux 41 | PASS | +-------------------------------+----------------+ | Fedora Linux 42 | PASS | +-------------------------------+----------------+ | Ubuntu 24.04 | PASS | +-------------------------------+----------------+ | Red Hat Enterprise Linux 9.5 | PASS | +-------------------------------+----------------+ | Red Hat Enterprise Linux 8.10 | PASS | +-------------------------------+----------------+ | Ubuntu 22.04 | PASS | +-------------------------------+----------------+ | Ubuntu 20.04 | PASS | +-------------------------------+----------------+ | Windows Server 2022 | PASS | +-------------------------------+----------------+ CentOS Stream 9 Kernel: 5.15 Compiler: gcc gcc (GCC) 11.5.0 20240719 (Red Hat 11.5.0-11) CentOS Stream 10 Kernel: 5.15 Compiler: gcc gcc (GCC) 14.2.1 20250110 (Red Hat 14.2.1-8) Debian GNU/Linux 12 Kernel: 5.15 Compiler: gcc gcc (Debian 12.2.0-14+deb12u1) 12.2.0 Fedora Linux 40 Kernel: 5.15 Compiler: gcc gcc (GCC) 14.2.1 20240912 (Red Hat 14.2.1-3) Fedora Linux 41 Kernel: 5.15 Compiler: clang gcc (GCC) 14.3.1 20250523 (Red Hat 14.3.1-1) Fedora Linux 42 Kernel: 5.15 Compiler: clang gcc (GCC) 15.2.1 20250808 (Red Hat 15.2.1-1) Ubuntu 24.04 Kernel: 5.15 Compiler: gcc gcc (Ubuntu 13.3.0-6ubuntu2~24.04) 13.3.0 Red Hat Enterprise Linux 9.5 Kernel: 5.15 Compiler: gcc gcc (GCC) 11.5.0 20240719 (Red Hat 11.5.0-2) Red Hat Enterprise Linux 8.10 Kernel: 5.15 Compiler: gcc gcc (GCC) 8.5.0 20210514 (Red Hat 8.5.0-22) Ubuntu 22.04 Kernel: 5.15 Compiler: gcc gcc (Ubuntu 11.4.0-1ubuntu1~22.04) 11.4.0 Ubuntu 20.04 Kernel: 5.15 Compiler: gcc gcc (Ubuntu 9.4.0-1ubuntu1~20.04.2) 9.4.0 Windows Server 2022 Kernel: 10.0.20348.2031 Compiler: clang 15.0.7, gcc 14.1.0 (MinGW), and MSVC VS 19.39.33521 To view detailed results, visit: https://lab.dpdk.org/results/dashboard/patchsets/34534/ UNH-IOL DPDK Community Lab To manage your email subscriptions, visit: https://lab.dpdk.org/results/dashboard/preferences/subscriptions/