From mboxrd@z Thu Jan 1 00:00:00 1970 Return-Path: Received: from mails.dpdk.org (mails.dpdk.org [217.70.189.124]) by inbox.dpdk.org (Postfix) with ESMTP id D110648ACF for ; Thu, 13 Nov 2025 07:16:40 +0100 (CET) Received: from mails.dpdk.org (localhost [127.0.0.1]) by mails.dpdk.org (Postfix) with ESMTP id C600B4003C; Thu, 13 Nov 2025 07:16:40 +0100 (CET) Received: from mail-io1-f98.google.com (mail-io1-f98.google.com [209.85.166.98]) by mails.dpdk.org (Postfix) with ESMTP id 7EF3B4003C for ; Thu, 13 Nov 2025 07:16:39 +0100 (CET) Received: by mail-io1-f98.google.com with SMTP id ca18e2360f4ac-9487e2b95f1so20146339f.2 for ; Wed, 12 Nov 2025 22:16:39 -0800 (PST) DKIM-Signature: v=1; a=rsa-sha256; c=relaxed/relaxed; d=iol.unh.edu; s=unh-iol; t=1763014599; x=1763619399; darn=dpdk.org; h=references:in-reply-to:cc:to:from:subject:message-id:date:from:to :cc:subject:date:message-id:reply-to; bh=SVf8OIP+DkxdKJRgvFHoul/HE1fcBNsAZ0J0S4EQVcI=; b=jQv/yERmIolR/Np5djtUKGjfF8R00SEgbX0Z0nYo9o2mUTgT78iJ4JEgRvYob3gOsY 6QuyJ9NdXmQ6PLYOGOb+nSwNpB3zgJoAE+SJk2+1W6YheGrADjmdGIemYJxQKz9yYKw5 XpGP1P1R97jtZ9haf9BwdVQBxQOqTSXTsdUKw= X-Google-DKIM-Signature: v=1; a=rsa-sha256; c=relaxed/relaxed; d=1e100.net; s=20230601; t=1763014599; x=1763619399; h=references:in-reply-to:cc:to:from:subject:message-id:date:x-gm-gg :x-gm-message-state:from:to:cc:subject:date:message-id:reply-to; bh=SVf8OIP+DkxdKJRgvFHoul/HE1fcBNsAZ0J0S4EQVcI=; b=UgGHA84kAHbWp0zyvm5gOcJvq8H9FOHleTIxNooBXRLrU9u//efQ0pDwNdmM16tfgk IIWfr63UYhir20YY8EpGB1DwtufqB9yJ57Tx5ouCcNQlZYqK+oLClEmtWRvyx0aPLwr/ 7VUp3z6i1CurOBBK+yBrxteDK5c8CfqlqWI0P8ld36bfjQUxW6g39JZgg9O4M/UaBMV9 fvuru1V1TLqlxs1kgtemY/6BXeiqaRmHNAa3TscZp6YD2fLMnx+SYWE2Vk39AZK34Xd8 Mp7YddHISFXfSRNzkDHfRjnD3gDQVaZDqAvXaMd/Z9afp6w8z4AEwCzsE9/CO0lw5AkB EaUw== X-Gm-Message-State: AOJu0YyVJgLQ5PvNLzagDhyoTQuL993xidePcFxdbdi7BMyAJDx2Q182 g0SSaN51V8ADmzN01GEDTwSHr1+0TW/BFAkAYaSviFaN8EHQftXvgoMaOfd5CE/7WUvoPEJzCKW NB372RCfNWHCnYmVW/LC9fWye3vG46CKWrHGBWOWurtdero09c6am0cNQt0r8 X-Gm-Gg: ASbGncuqEkMnXWEdieUmyAnCa4GU3W89vKHzoBRCFAfFVh9hybUoJj8fMN8sUFATWgW iUOUhfWRpIdZcsViimLNlufF7jqjB0o1XZdwwZToGU3wOTFJrCooV/BU//KrlzjyP67aQAhUR4b pP3IQCgHRRS7/OTJMLyB8BY4tmeC4JT8jQ0ZEysGfk+MbQ91DZjzf4qlvX5hLdOSuA1yN3FMu1t WyqssjmGEyCw5hcPQBFKS/UggMBTtzerFbFhWzYvkB3r1bN2LGcqqKlGp0TfltIsOAEcgLx2Kus Uc+e75cPAPqptPOuSt6d6WNVReKnDfHW2sTknQ1jDgSrdiLocO2EfTvPIYrpCMVZbT3Wrb8fpQo pz34QuSPu X-Google-Smtp-Source: AGHT+IEb1C5lhORwEoO6F8SLhi4qjQpt+KeNrGWBzV3OK5z4UyExOlny2mLDjkFqLtO0KB1s7uM2OPGt/UCd X-Received: by 2002:a05:6602:3411:b0:945:cbd9:55cc with SMTP id ca18e2360f4ac-948c466f994mr778754939f.15.1763014598818; Wed, 12 Nov 2025 22:16:38 -0800 (PST) Received: from postal.iol.unh.edu (postal.iol.unh.edu. [2606:4100:3880:1234::84]) by smtp-relay.gmail.com with ESMTPS id ca18e2360f4ac-948d2bb758bsm5316039f.5.2025.11.12.22.16.38 (version=TLS1_2 cipher=ECDHE-ECDSA-AES128-GCM-SHA256 bits=128/128); Wed, 12 Nov 2025 22:16:38 -0800 (PST) X-Relaying-Domain: iol.unh.edu Date: Wed, 12 Nov 2025 22:16:38 -0800 (PST) Message-ID: <691577c6.6b0a0220.1a3917.2bceSMTPIN_ADDED_MISSING@mx.google.com> Received: from [172.21.0.4] (unknown [172.18.0.240]) by postal.iol.unh.edu (Postfix) with ESMTP id 65DC66051830; Thu, 13 Nov 2025 01:16:38 -0500 (EST) Subject: |SUCCESS| pw158696-158697 [PATCH] [v3,2/2] test/crypto: add QAT AES- From: dpdklab@iol.unh.edu To: Test Report Cc: dpdk-test-reports@iol.unh.edu, Akhil Goyal In-Reply-To: <20251112101911.2377840-2-emma.finn@intel.com> References: <20251112101911.2377840-2-emma.finn@intel.com> Content-Type: text/plain X-BeenThere: test-report@dpdk.org X-Mailman-Version: 2.1.29 Precedence: list List-Id: automatic DPDK test reports List-Unsubscribe: , List-Archive: List-Post: List-Help: List-Subscribe: , Errors-To: test-report-bounces@dpdk.org Test-Label: iol-compile-arm64-testing Test-Status: SUCCESS http://dpdk.org/patch/158697 _Testing PASS_ Submitter: Emma Finn Date: Wednesday, November 12 2025 10:19:11 DPDK git baseline: Repo:dpdk-next-crypto Branch: master CommitID:8ae4f1d511226fd65a979e9f8a1e51835281a59b 158696-158697 --> testing pass Upstream job id: Generic-DPDK-Compile-Meson#443381 Test environment and result as below: +------------------------------+--------------------+ | Environment | dpdk_meson_compile | +==============================+====================+ | Red Hat Enterprise Linux 9.5 | PASS | +------------------------------+--------------------+ | Ubuntu 20.04 | PASS | +------------------------------+--------------------+ | Debian GNU/Linux 12 | PASS | +------------------------------+--------------------+ | Fedora Linux 42 | PASS | +------------------------------+--------------------+ | Ubuntu 22.04 | PASS | +------------------------------+--------------------+ | Ubuntu 24.04 | PASS | +------------------------------+--------------------+ | CentOS Stream 9 | PASS | +------------------------------+--------------------+ | CentOS Stream 10 | PASS | +------------------------------+--------------------+ Red Hat Enterprise Linux 9.5 Kernel: 5.4 Compiler: gcc gcc (GCC) 11.5.0 20240719 (Red Hat 11.5.0-2) Ubuntu 20.04 Kernel: 5.15 Compiler: aarch64-linux-gnu-gcc gcc (Ubuntu 9.4.0-1ubuntu1~20.04.2) 9.4.0 Debian GNU/Linux 12 Kernel: 5.4 Compiler: gcc gcc (Debian 12.2.0-14+deb12u1) 12.2.0 Fedora Linux 42 Kernel: 5.4 Compiler: gcc gcc (GCC) 15.2.1 20250808 (Red Hat 15.2.1-1) Ubuntu 22.04 Kernel: 5.4 Compiler: gcc gcc (Ubuntu 11.4.0-1ubuntu1~22.04) 11.4.0 Ubuntu 24.04 Kernel: 5.4 Compiler: gcc gcc (Ubuntu 13.3.0-6ubuntu2~24.04) 13.3.0 CentOS Stream 9 Kernel: 5.4 Compiler: gcc gcc (GCC) 11.5.0 20240719 (Red Hat 11.5.0-11) CentOS Stream 10 Kernel: 5.4 Compiler: gcc gcc (GCC) 14.2.1 20250110 (Red Hat 14.2.1-8) To view detailed results, visit: https://lab.dpdk.org/results/dashboard/patchsets/34546/ UNH-IOL DPDK Community Lab To manage your email subscriptions, visit: https://lab.dpdk.org/results/dashboard/preferences/subscriptions/