From mboxrd@z Thu Jan 1 00:00:00 1970 Return-Path: Received: from mails.dpdk.org (mails.dpdk.org [217.70.189.124]) by inbox.dpdk.org (Postfix) with ESMTP id E238B48AF6 for ; Thu, 13 Nov 2025 07:17:13 +0100 (CET) Received: from mails.dpdk.org (localhost [127.0.0.1]) by mails.dpdk.org (Postfix) with ESMTP id DAD4C40A7A; Thu, 13 Nov 2025 07:17:13 +0100 (CET) Received: from mail-il1-f227.google.com (mail-il1-f227.google.com [209.85.166.227]) by mails.dpdk.org (Postfix) with ESMTP id 3746F4003C for ; Thu, 13 Nov 2025 07:17:13 +0100 (CET) Received: by mail-il1-f227.google.com with SMTP id e9e14a558f8ab-4330eb0f232so6946825ab.0 for ; Wed, 12 Nov 2025 22:17:13 -0800 (PST) DKIM-Signature: v=1; a=rsa-sha256; c=relaxed/relaxed; d=iol.unh.edu; s=unh-iol; t=1763014632; x=1763619432; darn=dpdk.org; h=cc:to:from:subject:message-id:date:from:to:cc:subject:date :message-id:reply-to; bh=M9PaQZ9kXIkTA4QH/JZ7i8fuVvL61+feGkx6eFeiLfA=; b=Xpadnly6Rn9jfWthqO5cdvQYD6gn5jqqxIAOnI9Pi7LS0JmFsoPJcQqGgJcFTTHUcq 5bcjY+8ZdwbtuaaSAyygvWrjLwPGsxJfFaONCUMiveZiznlndrwLDbl/u7yLePmZNr84 LQKsMVRuMYuDeDWCtiZX2XYCGqlSGAynzzE3A= X-Google-DKIM-Signature: v=1; a=rsa-sha256; c=relaxed/relaxed; d=1e100.net; s=20230601; t=1763014632; x=1763619432; h=cc:to:from:subject:message-id:date:x-gm-gg:x-gm-message-state:from :to:cc:subject:date:message-id:reply-to; bh=M9PaQZ9kXIkTA4QH/JZ7i8fuVvL61+feGkx6eFeiLfA=; b=UU5YNdF0XZQej0lwJ23AQDcJj01kzVDF5OcQMM5+Dg/pZspCVfHy+IfC/heKKVzBts d8R6teP/lmTVUR2/Ul9/C9eeFtj/c6gJV08Xw2d8G9CBuEsZqmaW7lDMQxLs7eKdzD49 h5biSApZuz4z3FPm5eDgFasnagjyr8bZokP8eEqVRk732pn2iCk99qhsLb8/alzi9+bx 7V0LjrL3k4n0KvpJN4z9gCKT+t8NW0E1+btBFe6s37fAalGwxD5azRNQfbbRgDKESRmQ gXEhXFdNTssfFWcnw80OPQkAQuK/zvFNWI49PGJ/6XE0TsxbhF8s83Wuo91NYHb6z0CI VWsg== X-Gm-Message-State: AOJu0YxeL5CFLKk9WnQaSzc1kQriz/+YUKnEz2mWXjc3VsWQqQMOMfqy rE2QEWPUhkTUUSaidAvth4oqExzK3QVzFDF8JyJMG4B+8i1067utBGbu5aQWI0Tn+oDJyV/8Ewm ++EbL9rqwj4CKZgJ0fG1u7Ax/N8/eLTxFdLdRwJJLVb3Ku4i6e0fd X-Gm-Gg: ASbGnctUvX4hozfyJ6Z1aorxT4ITIwKHJyky0i+hEQ+6tsfrr7+j3MPWP0esiakniER CHLtancojjvaMfpnLlTCqULdBmwTcuUbQlzJklKasqZCb/+mWJAfV6gGXOY4E+IEHUYbK/4ZxWI g+ZmQ57San2SgjtzfAp52tepDmeXxJDYcq6wU45LfA4kesMl8Y4JbunG5MGxq+b6b8EfN0tKwx6 tbq8WXoZQBnJJQMtLvUTwuwzhL59SVDEXp9ZoyBpV7cncUlJ2xhFwupGOG4HG/j5Dm5STxxIJDh HKByor22fCUGs5ndNkQ1Pi44uurEhmT1N0E3FZrWvBNrwwORiRj1ApABLDtqepj8lpuIwFYCarh 8YfD9Vs54 X-Google-Smtp-Source: AGHT+IEnLfZXsk/vnrHd8FJzgM05/Fnbztk794zQVobfLKOdnxGdWpsIl06LSNF8aLBShy5GD7ZLaNjI48i0 X-Received: by 2002:a05:6e02:3c88:b0:433:70a2:4bb3 with SMTP id e9e14a558f8ab-4347c3480e6mr34357795ab.4.1763014632486; Wed, 12 Nov 2025 22:17:12 -0800 (PST) Received: from postal.iol.unh.edu (postal.iol.unh.edu. [2606:4100:3880:1234::84]) by smtp-relay.gmail.com with ESMTPS id 8926c6da1cb9f-5b7bd3356c2sm79075173.32.2025.11.12.22.17.12 (version=TLS1_2 cipher=ECDHE-ECDSA-AES128-GCM-SHA256 bits=128/128); Wed, 12 Nov 2025 22:17:12 -0800 (PST) X-Relaying-Domain: iol.unh.edu Date: Wed, 12 Nov 2025 22:17:12 -0800 (PST) Message-ID: <691577e8.050a0220.338768.428bSMTPIN_ADDED_MISSING@mx.google.com> Received: from [172.21.0.2] (unknown [172.18.0.240]) by postal.iol.unh.edu (Postfix) with ESMTP id 1AB1A6051830; Thu, 13 Nov 2025 01:17:12 -0500 (EST) Subject: |WARNING| [GIT MASTER] 62f583c49bf67dd4d6733ece14e55fe6839e66d1 From: dpdklab@iol.unh.edu To: Test Report Cc: dpdk-test-reports@iol.unh.edu, Xueming Li , Christian Ehrhardt , Kevin Traynor , Luca Boccassi Content-Type: text/plain X-BeenThere: test-report@dpdk.org X-Mailman-Version: 2.1.29 Precedence: list List-Id: automatic DPDK test reports List-Unsubscribe: , List-Archive: List-Post: List-Help: List-Subscribe: , Errors-To: test-report-bounces@dpdk.org _Testing issues_ Branch: tags/v23.11 62f583c49bf67dd4d6733ece14e55fe6839e66d1 --> testing issues Upstream job id: Generic-Unit-Test-DPDK#391760 Test environment and result as below: +-------------------------------+----------------+ | Environment | dpdk_unit_test | +===============================+================+ | CentOS Stream 9 | PASS | +-------------------------------+----------------+ | Debian GNU/Linux 12 | PASS | +-------------------------------+----------------+ | CentOS Stream 10 | PASS | +-------------------------------+----------------+ | Fedora Linux 40 | PASS | +-------------------------------+----------------+ | Fedora Linux 41 | PASS | +-------------------------------+----------------+ | Fedora Linux 42 | PASS | +-------------------------------+----------------+ | Ubuntu 22.04 | PASS | +-------------------------------+----------------+ | Red Hat Enterprise Linux 8.10 | PASS | +-------------------------------+----------------+ | Ubuntu 20.04 | PASS | +-------------------------------+----------------+ | Ubuntu 24.04 | PASS | +-------------------------------+----------------+ | Red Hat Enterprise Linux 9.5 | PASS | +-------------------------------+----------------+ CentOS Stream 9 Kernel: 5.15 Compiler: gcc gcc (GCC) 11.5.0 20240719 (Red Hat 11.5.0-11) Debian GNU/Linux 12 Kernel: 5.15 Compiler: gcc gcc (Debian 12.2.0-14+deb12u1) 12.2.0 CentOS Stream 10 Kernel: 5.15 Compiler: gcc gcc (GCC) 14.2.1 20250110 (Red Hat 14.2.1-8) Fedora Linux 40 Kernel: 5.15 Compiler: gcc gcc (GCC) 14.2.1 20240912 (Red Hat 14.2.1-3) Fedora Linux 41 Kernel: 5.15 Compiler: gcc gcc (GCC) 14.3.1 20250523 (Red Hat 14.3.1-1) Fedora Linux 42 Kernel: 5.15 Compiler: gcc gcc (GCC) 15.2.1 20250808 (Red Hat 15.2.1-1) Ubuntu 22.04 Kernel: 5.15 Compiler: gcc gcc (Ubuntu 11.4.0-1ubuntu1~22.04) 11.4.0 Red Hat Enterprise Linux 8.10 Kernel: 5.15 Compiler: gcc gcc (GCC) 8.5.0 20210514 (Red Hat 8.5.0-22) Ubuntu 20.04 Kernel: 5.15 Compiler: gcc gcc (Ubuntu 9.4.0-1ubuntu1~20.04.2) 9.4.0 Ubuntu 24.04 Kernel: 5.15 Compiler: gcc gcc (Ubuntu 13.3.0-6ubuntu2~24.04) 13.3.0 Red Hat Enterprise Linux 9.5 Kernel: 5.15 Compiler: gcc gcc (GCC) 11.5.0 20240719 (Red Hat 11.5.0-2) To view detailed results, visit: https://lab.dpdk.org/results/dashboard/tarballs/35564/ UNH-IOL DPDK Community Lab To manage your email subscriptions, visit: https://lab.dpdk.org/results/dashboard/preferences/subscriptions/