From mboxrd@z Thu Jan 1 00:00:00 1970 Return-Path: Received: from mails.dpdk.org (mails.dpdk.org [217.70.189.124]) by inbox.dpdk.org (Postfix) with ESMTP id F36D348AF6 for ; Thu, 13 Nov 2025 07:17:30 +0100 (CET) Received: from mails.dpdk.org (localhost [127.0.0.1]) by mails.dpdk.org (Postfix) with ESMTP id ED4FA4003C; Thu, 13 Nov 2025 07:17:30 +0100 (CET) Received: from mail-yw1-f225.google.com (mail-yw1-f225.google.com [209.85.128.225]) by mails.dpdk.org (Postfix) with ESMTP id 3C49140A7A for ; Thu, 13 Nov 2025 07:17:30 +0100 (CET) Received: by mail-yw1-f225.google.com with SMTP id 00721157ae682-7880686d178so5036317b3.1 for ; Wed, 12 Nov 2025 22:17:30 -0800 (PST) DKIM-Signature: v=1; a=rsa-sha256; c=relaxed/relaxed; d=iol.unh.edu; s=unh-iol; t=1763014649; x=1763619449; darn=dpdk.org; h=references:in-reply-to:cc:to:from:subject:message-id:date:from:to :cc:subject:date:message-id:reply-to; bh=E1b6GVpIFpCqnPmrHlutASzoHaoEkGnJvQY5IdBhN8g=; b=OWmNW8c8q87yspn+Elx/w6EAKB67yGcWsSnZBvgWUFb0g3ipvDj4zcgaU2KXJPIhDJ jT0nTBJscuVfy91STzLUGPXQ62ralFLNZw2X+eFJNMfWSG/gaBK7aEQVl0osTuc6Ga1K UH5zeCTpC1J+tiNp5rcNSuXq4AY9NKTXJiYmg= X-Google-DKIM-Signature: v=1; a=rsa-sha256; c=relaxed/relaxed; d=1e100.net; s=20230601; t=1763014649; x=1763619449; h=references:in-reply-to:cc:to:from:subject:message-id:date:x-gm-gg :x-gm-message-state:from:to:cc:subject:date:message-id:reply-to; bh=E1b6GVpIFpCqnPmrHlutASzoHaoEkGnJvQY5IdBhN8g=; b=d0YceV4cDKYIiV7mHL1wyW5EedwYT2363f6wvtqsbI8VJrF/ydmItAmJUsAifJqWSp 3mKQcoL0jfJz07Zq2t2I9QIt+cq2H6TESDmFrn/0aKABRsVsn0QEYTasYPlEVmuol7y1 MqNXnAEx8dgMkenK99cQHHAncDYUcxh0fVcX/9ko1JPWw0Gzm+URhvN8tWyLnOJ4bi5j OGwBGhou/XM6nD7Brt9AznRMCCi6TIIyxxfyPhqi/MV1PrsmRv/yhwBU/t8Pr6D1lnNL h4y4/vfsJkQ4WMNRHmztIa+78qYveQDQouDm8rzPXXssDGGJVft+UyiOsNlCspQK2AM4 Ee1Q== X-Gm-Message-State: AOJu0YwNams56LNEloEqspjk4CKWc5IHpO7dIbzFNw507ffY9B0n1Iv1 NRYRq+aM4zmqBhUT3euljheD4e4393TGJfQIaKBJ+tny8JoD4CpbXppHL5mTyZ0BsEZujofCYu4 SjAts1b6Gf74NGmXXRxE2wNcq8ruAjDc+I4qV6Tal02Hf X-Gm-Gg: ASbGncsMr93m1DUNe3sVxO2wb/HO9iVXu14ueV5YCIVEtV3UpqcqVW/fLWemc+qoCPp Aje5G0sCQR93I8jVZI8RNzSJ1FZ6qj1+2yo5hrTuZj3i/m4mH0F8G+FWyMhU+9bJtpGFbEHm+nD ZZbmNicNi+nPUdI3rTHftcP+Pylk3zeEoY4+sh+KfEBEH4xUqjxDZocRXW09cBNhgzPeWqmirIF jDVl2B0lFPeOnj+r1XY7ttOAZFl9ZRDSAS5J98p1+ccK8Yd+LaDlw7A7TVet8IONLSXe8G2n6f1 XJteG4m1GaeK3DslidEc1F9suQzWHsk0URQioRDGJ8ySY8bApCWhGCSWPHGMTtf0JJemDhoQQSf Kcmel0EwlhKMXyQu5/ZuGGptoXkmBcGs= X-Google-Smtp-Source: AGHT+IGPzrHOxhjgrVzJRSV6lK4iCBwdpDnJM3CqGyvHD9yR2dsiTxzXGxEJ3esDI2FjD6qKH96Gr3cHgHOF X-Received: by 2002:a05:690c:61c9:b0:786:4fd5:e5d2 with SMTP id 00721157ae682-7881368ce7dmr59652407b3.45.1763014649628; Wed, 12 Nov 2025 22:17:29 -0800 (PST) Received: from postal.iol.unh.edu (postal.iol.unh.edu. [132.177.123.84]) by smtp-relay.gmail.com with ESMTPS id 00721157ae682-78821fb7c6esm586257b3.25.2025.11.12.22.17.29 (version=TLS1_2 cipher=ECDHE-ECDSA-AES128-GCM-SHA256 bits=128/128); Wed, 12 Nov 2025 22:17:29 -0800 (PST) X-Relaying-Domain: iol.unh.edu Date: Wed, 12 Nov 2025 22:17:29 -0800 (PST) Message-ID: <691577f9.0d0a0220.2681d8.3174SMTPIN_ADDED_MISSING@mx.google.com> Received: from [172.21.0.2] (unknown [172.18.0.240]) by postal.iol.unh.edu (Postfix) with ESMTP id 55F546051830; Thu, 13 Nov 2025 01:17:29 -0500 (EST) Subject: |SUCCESS| pw158696-158697 [PATCH] [v3,2/2] test/crypto: add QAT AES- From: dpdklab@iol.unh.edu To: Test Report Cc: dpdk-test-reports@iol.unh.edu, Akhil Goyal In-Reply-To: <20251112101911.2377840-2-emma.finn@intel.com> References: <20251112101911.2377840-2-emma.finn@intel.com> Content-Type: text/plain X-BeenThere: test-report@dpdk.org X-Mailman-Version: 2.1.29 Precedence: list List-Id: automatic DPDK test reports List-Unsubscribe: , List-Archive: List-Post: List-Help: List-Subscribe: , Errors-To: test-report-bounces@dpdk.org Test-Label: iol-compile-arm64-testing Test-Status: SUCCESS http://dpdk.org/patch/158697 _Testing PASS_ Submitter: Emma Finn Date: Wednesday, November 12 2025 10:19:11 DPDK git baseline: Repo:dpdk-next-crypto Branch: master CommitID:8ae4f1d511226fd65a979e9f8a1e51835281a59b 158696-158697 --> testing pass Upstream job id: Generic-DPDK-Compile-Meson#443380 Test environment and result as below: +------------------------------+--------------------+ | Environment | dpdk_meson_compile | +==============================+====================+ | Red Hat Enterprise Linux 9.5 | PASS | +------------------------------+--------------------+ | Ubuntu 20.04 | PASS | +------------------------------+--------------------+ | Debian GNU/Linux 12 | PASS | +------------------------------+--------------------+ | Fedora Linux 42 | PASS | +------------------------------+--------------------+ | Ubuntu 22.04 | PASS | +------------------------------+--------------------+ | Ubuntu 24.04 | PASS | +------------------------------+--------------------+ | CentOS Stream 9 | PASS | +------------------------------+--------------------+ | CentOS Stream 10 | PASS | +------------------------------+--------------------+ Red Hat Enterprise Linux 9.5 Kernel: 5.4 Compiler: gcc gcc (GCC) 11.5.0 20240719 (Red Hat 11.5.0-2) Ubuntu 20.04 Kernel: 5.15 Compiler: aarch64-linux-gnu-gcc gcc (Ubuntu 9.4.0-1ubuntu1~20.04.2) 9.4.0 Debian GNU/Linux 12 Kernel: 5.4 Compiler: gcc gcc (Debian 12.2.0-14+deb12u1) 12.2.0 Fedora Linux 42 Kernel: 5.4 Compiler: gcc gcc (GCC) 15.2.1 20250808 (Red Hat 15.2.1-1) Ubuntu 22.04 Kernel: 5.4 Compiler: gcc gcc (Ubuntu 11.4.0-1ubuntu1~22.04) 11.4.0 Ubuntu 24.04 Kernel: 5.4 Compiler: gcc gcc (Ubuntu 13.3.0-6ubuntu2~24.04) 13.3.0 CentOS Stream 9 Kernel: 5.4 Compiler: gcc gcc (GCC) 11.5.0 20240719 (Red Hat 11.5.0-11) CentOS Stream 10 Kernel: 5.4 Compiler: gcc gcc (GCC) 14.2.1 20250110 (Red Hat 14.2.1-8) To view detailed results, visit: https://lab.dpdk.org/results/dashboard/patchsets/34546/ UNH-IOL DPDK Community Lab To manage your email subscriptions, visit: https://lab.dpdk.org/results/dashboard/preferences/subscriptions/