From mboxrd@z Thu Jan 1 00:00:00 1970 Return-Path: Received: from mails.dpdk.org (mails.dpdk.org [217.70.189.124]) by inbox.dpdk.org (Postfix) with ESMTP id 1989A48AF6 for ; Thu, 13 Nov 2025 07:18:22 +0100 (CET) Received: from mails.dpdk.org (localhost [127.0.0.1]) by mails.dpdk.org (Postfix) with ESMTP id 1265F4003C; Thu, 13 Nov 2025 07:18:22 +0100 (CET) Received: from mail-vs1-f99.google.com (mail-vs1-f99.google.com [209.85.217.99]) by mails.dpdk.org (Postfix) with ESMTP id 2BF414003C for ; Thu, 13 Nov 2025 07:18:21 +0100 (CET) Received: by mail-vs1-f99.google.com with SMTP id ada2fe7eead31-5dbe6304b79so197904137.3 for ; Wed, 12 Nov 2025 22:18:21 -0800 (PST) DKIM-Signature: v=1; a=rsa-sha256; c=relaxed/relaxed; d=iol.unh.edu; s=unh-iol; t=1763014700; x=1763619500; darn=dpdk.org; h=references:in-reply-to:cc:to:from:subject:message-id:date:from:to :cc:subject:date:message-id:reply-to; bh=zP1g8Y8C3gyazDGfB0U9fuRycMquNqyDb3WRiJ4lm7Y=; b=DRYqaZQVuPIIh5RrMc2c3sbmsVeqUYgVGxgY6+iThqlr8Wj5Fcj2rzDFL+M/LjQ9Lw kpnljEL2A7KxAnMEas70bTH17ipMKLdkFJG5j4Aqy18joa1qO0BB1uuF4YZp143pzpj6 bS70LHimZzcPqDSMyH0GHKBXU1HvoSmWtLBeM= X-Google-DKIM-Signature: v=1; a=rsa-sha256; c=relaxed/relaxed; d=1e100.net; s=20230601; t=1763014700; x=1763619500; h=references:in-reply-to:cc:to:from:subject:message-id:date:x-gm-gg :x-gm-message-state:from:to:cc:subject:date:message-id:reply-to; bh=zP1g8Y8C3gyazDGfB0U9fuRycMquNqyDb3WRiJ4lm7Y=; b=nR/8DOyrXTC0Re6Zpk1DWXpmSKS6M1SYdQJvfJ9cAkkde6pSX7lKpSnZ9QNO6Y6uYm avyJLe38q7SHww64xHr0o0LcVVdPrMXYliA9sjkUoml5V+GZxjUD/k0t/edysS5RHo++ 06UmKvWUzFgfXggkUeZFphZe+UsTJmzh638XqPNvhfjUxGoNYge2Ry8Qzh//oVXdHPIi +jk/xo2//BSPLtNaLbIwkvp3QpCo1b2Yjj8KsMLPOOzBXnCirGXCPdGXojt03hJfKdBt k6Wf+OpLjDl+0R+Y+SG5QD9IbV8elwuvTWzzxJyTa0s5Ce/fIInTuP8EhCZjxKtSHQ36 nxKw== X-Gm-Message-State: AOJu0YzghFKK2aQdXreViR6FGFbFyiReKPJ4w4oxjp1coccpj89JBU7k pXdCpgD1uz/1ylcCT1ALhWuO2qb80xUuWBj4dcl3jouTOW97sV7bE9g39k32OaNWiriz+PVul+1 c8TlV7o2QL3xoyUQckCNq4T3540YosytYNz0X1tFh8VzC X-Gm-Gg: ASbGncvEWVPB2rJbuVK4Sc5yW/wknvk6k8PRMIDFC8F9oSycwLy42xTE43OIR4ex8T/ SQWlsJyw5o9LknH1/WmrvI7rFWLLj1RRyYspRq1oxgKA5PWliI+Ppuq9jJCPBNl4TQxMDSwl2Cc EDBjwaa15AJGCxsICDgL4+cj8HBDnzezBjdYfgM0jpKWIBZ51OtuNP1fR3DH/TMQz9RIE9bIC8E mIUuLceZr2JNmhlmfx7dr+nrMav8rroAK03rzJKM8yaqs9aUe1Z5DTZeTl0SQzY1JjaNs/oR4Oo oOKp/VDe/Ppdtv4VXGlzdrQqeO1uufel0CBKpo7iNA5trV+HulEkEJbB7J+1WwzwMKn/g+UCBIu xPKtX5P9e7ucpaYnLv+AXJmsBZEYGxHA= X-Google-Smtp-Source: AGHT+IFrh/MMGnbJGQ/n/wzspucJIHuKgtQfcneRo3jDjXsBBc4d/z6qste1mpbmC9MXu4Ac57nVH7OoRgrk X-Received: by 2002:a05:6102:dd3:b0:5dd:b28a:2e7 with SMTP id ada2fe7eead31-5de07ae7b0amr1763157137.0.1763014700503; Wed, 12 Nov 2025 22:18:20 -0800 (PST) Received: from postal.iol.unh.edu (postal.iol.unh.edu. [132.177.123.84]) by smtp-relay.gmail.com with ESMTPS id ada2fe7eead31-5dfb708456dsm100778137.2.2025.11.12.22.18.20 (version=TLS1_2 cipher=ECDHE-ECDSA-AES128-GCM-SHA256 bits=128/128); Wed, 12 Nov 2025 22:18:20 -0800 (PST) X-Relaying-Domain: iol.unh.edu Date: Wed, 12 Nov 2025 22:18:20 -0800 (PST) Message-ID: <6915782c.050a0220.2a416b.54bfSMTPIN_ADDED_MISSING@mx.google.com> Received: from [172.21.0.3] (unknown [172.18.0.240]) by postal.iol.unh.edu (Postfix) with ESMTP id 1D1246051830; Thu, 13 Nov 2025 01:18:20 -0500 (EST) Subject: |SUCCESS| pw158699 [PATCH] net/ice: fix path selection for QinQ Tx o From: dpdklab@iol.unh.edu To: Test Report Cc: dpdk-test-reports@iol.unh.edu, Bruce Richardson In-Reply-To: <20251112115726.1286735-1-bruce.richardson@intel.com> References: <20251112115726.1286735-1-bruce.richardson@intel.com> Content-Type: text/plain X-BeenThere: test-report@dpdk.org X-Mailman-Version: 2.1.29 Precedence: list List-Id: automatic DPDK test reports List-Unsubscribe: , List-Archive: List-Post: List-Help: List-Subscribe: , Errors-To: test-report-bounces@dpdk.org Test-Label: iol-compile-arm64-testing Test-Status: SUCCESS http://dpdk.org/patch/158699 _Testing PASS_ Submitter: Bruce Richardson Date: Wednesday, November 12 2025 11:57:26 DPDK git baseline: Repo:dpdk-next-net-intel Branch: master CommitID:1655dc989bc95fa85fc76d32912d2e46c0851148 158699 --> testing pass Upstream job id: Generic-DPDK-Compile-Meson#443417 Test environment and result as below: +------------------------------+--------------------+ | Environment | dpdk_meson_compile | +==============================+====================+ | Red Hat Enterprise Linux 9.5 | PASS | +------------------------------+--------------------+ | Ubuntu 20.04 | PASS | +------------------------------+--------------------+ | Debian GNU/Linux 12 | PASS | +------------------------------+--------------------+ | Fedora Linux 42 | PASS | +------------------------------+--------------------+ | Ubuntu 22.04 | PASS | +------------------------------+--------------------+ | Ubuntu 24.04 | PASS | +------------------------------+--------------------+ | CentOS Stream 9 | PASS | +------------------------------+--------------------+ | CentOS Stream 10 | PASS | +------------------------------+--------------------+ Red Hat Enterprise Linux 9.5 Kernel: 5.4 Compiler: gcc gcc (GCC) 11.5.0 20240719 (Red Hat 11.5.0-2) Ubuntu 20.04 Kernel: 5.15 Compiler: aarch64-linux-gnu-gcc gcc (Ubuntu 9.4.0-1ubuntu1~20.04.2) 9.4.0 Debian GNU/Linux 12 Kernel: 5.4 Compiler: gcc gcc (Debian 12.2.0-14+deb12u1) 12.2.0 Fedora Linux 42 Kernel: 5.4 Compiler: gcc gcc (GCC) 15.2.1 20250808 (Red Hat 15.2.1-1) Ubuntu 22.04 Kernel: 5.4 Compiler: gcc gcc (Ubuntu 11.4.0-1ubuntu1~22.04) 11.4.0 Ubuntu 24.04 Kernel: 5.4 Compiler: gcc gcc (Ubuntu 13.3.0-6ubuntu2~24.04) 13.3.0 CentOS Stream 9 Kernel: 5.4 Compiler: gcc gcc (GCC) 11.5.0 20240719 (Red Hat 11.5.0-11) CentOS Stream 10 Kernel: 5.4 Compiler: gcc gcc (GCC) 14.2.1 20250110 (Red Hat 14.2.1-8) To view detailed results, visit: https://lab.dpdk.org/results/dashboard/patchsets/34548/ UNH-IOL DPDK Community Lab To manage your email subscriptions, visit: https://lab.dpdk.org/results/dashboard/preferences/subscriptions/