From mboxrd@z Thu Jan 1 00:00:00 1970 Return-Path: Received: from mails.dpdk.org (mails.dpdk.org [217.70.189.124]) by inbox.dpdk.org (Postfix) with ESMTP id 688E248AF6 for ; Thu, 13 Nov 2025 07:32:58 +0100 (CET) Received: from mails.dpdk.org (localhost [127.0.0.1]) by mails.dpdk.org (Postfix) with ESMTP id 6318A4003C; Thu, 13 Nov 2025 07:32:58 +0100 (CET) Received: from mail-pl1-f225.google.com (mail-pl1-f225.google.com [209.85.214.225]) by mails.dpdk.org (Postfix) with ESMTP id D42A54003C for ; Thu, 13 Nov 2025 07:32:56 +0100 (CET) Received: by mail-pl1-f225.google.com with SMTP id d9443c01a7336-298456bb53aso4679865ad.0 for ; Wed, 12 Nov 2025 22:32:56 -0800 (PST) DKIM-Signature: v=1; a=rsa-sha256; c=relaxed/relaxed; d=iol.unh.edu; s=unh-iol; t=1763015576; x=1763620376; darn=dpdk.org; h=references:in-reply-to:cc:to:from:subject:message-id:date:from:to :cc:subject:date:message-id:reply-to; bh=eLLEHfsgDPxG+PnmDN82FnT6YB0/+Yv/Sd5gfV/ZfS4=; b=BEU5kwXAiQheeE3Ly5ZXkufvSg2mCpbYJwmQYUup1hqSE1JPBDTaG+uO0n0F2J3InT uAdhxN1EuIamp1S6rK2xzFmGJUuVvYdVNFwasthxRqFMuyHMHa0a9Hykt+kSasS1i/f0 wdn4onk+C+DeyZTzabq8h+CszCKBfEGf7XeBc= X-Google-DKIM-Signature: v=1; a=rsa-sha256; c=relaxed/relaxed; d=1e100.net; s=20230601; t=1763015576; x=1763620376; h=references:in-reply-to:cc:to:from:subject:message-id:date:x-gm-gg :x-gm-message-state:from:to:cc:subject:date:message-id:reply-to; bh=eLLEHfsgDPxG+PnmDN82FnT6YB0/+Yv/Sd5gfV/ZfS4=; b=aJw3sPbkxvhNunNvTKB+yJbhBT+eqITObY1+2WN+MFcKQ0Z8s/l62K9a3NfWwQm4PL cV2VQmcNcwZXG9X26sXxXJXH84+t/kPm0KinYTP/ntEn6R9u/f+9y+Aqrw0ZuzlPjY6L /ZiqkXlRHxE8P2tm8ibTJNHmqFtXvVQctcX6xR61/ECIebN2+gCpjatQh1ip+MVK2BGQ bRESxThS7qAwPqtSkGK3DdLYApwpGkiQRD7yg7vPF9kpu2ImSX9Cmq3Sj5kacxvaLRTx 17SiVSs4Zja9pPay4cy9kbb82jTuQPdoc6fqLhdNItTSzNbTYoclEhNWzW8yQoqHDxWG mogw== X-Gm-Message-State: AOJu0YxvLGK3gCWNJccgypsZGfBLYnOZXzhLm3//rWeEl4CYxztFABvd /ywdgg7sNxzw7Is62c+/tA1WwkW11bd7a4p33j4OZU/uB02JnosqQRIKGEvIo0ZnNPX0LJgGQ/5 csysKIQ9fA0mddLYOmI2ij6J5c/h29NZ/6CCKBwA1L4P+y34BrFNhK1XwP+I3 X-Gm-Gg: ASbGncsdL1eTVtGSaCpJ8rAb9c3fEPnnB5C0Gi9NEzNXMaVFqYXDq4vm15PSUWMGk+I WNJ1Ck6MV6Lndh48qNXtY+r9wzZrPcIUIBWC3bDdYT6hKBGudrQrXlnAGJEtWpmqlsXlOAV7v33 UBUWGehij8KDI5TkD1P9GtbEkxjjz7iE+vP6IpC7TCgJGFXuPfxoNj5CeTWy1O4jVHJapd1MkoG WDgCTxYZyIX9etPDU42MW/CIN06vVfX608qFSZnx9YjXAKF28k0wIeJ7t32W2XdyeUerhybeJDz VuaOeevyn1GKXItSAATa2GuDAVceT3MS9f1Yrk2d697kJ09qJOM+F2hgtPBs7vKx+foO7+ptjIu LS5M4FFPP X-Google-Smtp-Source: AGHT+IFMCZP+4VzNYZ4YovsWD7qFmXtLAD2mJpPT0IJPvKoCX/SteysXeAMUhhwel6lDh5i3Hufthx+1i669 X-Received: by 2002:a17:902:d588:b0:297:c889:ba37 with SMTP id d9443c01a7336-2984eddda58mr71536435ad.41.1763015575974; Wed, 12 Nov 2025 22:32:55 -0800 (PST) Received: from postal.iol.unh.edu (postal.iol.unh.edu. [2606:4100:3880:1234::84]) by smtp-relay.gmail.com with ESMTPS id d9443c01a7336-2985c2c47f3sm1136415ad.65.2025.11.12.22.32.55 (version=TLS1_2 cipher=ECDHE-ECDSA-AES128-GCM-SHA256 bits=128/128); Wed, 12 Nov 2025 22:32:55 -0800 (PST) X-Relaying-Domain: iol.unh.edu Date: Wed, 12 Nov 2025 22:32:55 -0800 (PST) Message-ID: <69157b97.170a0220.2ffa66.5ecdSMTPIN_ADDED_MISSING@mx.google.com> Received: from [172.21.0.3] (unknown [172.18.0.240]) by postal.iol.unh.edu (Postfix) with ESMTP id 77FF76051830; Thu, 13 Nov 2025 01:32:55 -0500 (EST) Subject: |SUCCESS| pw158702-158704 [PATCH] [v2,3/3] net/fm10k: fix null packe From: dpdklab@iol.unh.edu To: Test Report Cc: dpdk-test-reports@iol.unh.edu, Bruce Richardson In-Reply-To: <20251112141059.1576919-4-bruce.richardson@intel.com> References: <20251112141059.1576919-4-bruce.richardson@intel.com> Content-Type: text/plain X-BeenThere: test-report@dpdk.org X-Mailman-Version: 2.1.29 Precedence: list List-Id: automatic DPDK test reports List-Unsubscribe: , List-Archive: List-Post: List-Help: List-Subscribe: , Errors-To: test-report-bounces@dpdk.org Test-Label: iol-compile-arm64-testing Test-Status: SUCCESS http://dpdk.org/patch/158704 _Testing PASS_ Submitter: Bruce Richardson Date: Wednesday, November 12 2025 14:10:59 DPDK git baseline: Repo:dpdk-next-net-intel Branch: master CommitID:be0112878b4fc3a1b918370ed2fe615c52039d77 158702-158704 --> testing pass Upstream job id: Generic-DPDK-Compile-Meson#443471 Test environment and result as below: +------------------------------+--------------------+ | Environment | dpdk_meson_compile | +==============================+====================+ | Red Hat Enterprise Linux 9.5 | PASS | +------------------------------+--------------------+ | Ubuntu 20.04 | PASS | +------------------------------+--------------------+ | Debian GNU/Linux 12 | PASS | +------------------------------+--------------------+ | Fedora Linux 42 | PASS | +------------------------------+--------------------+ | Ubuntu 22.04 | PASS | +------------------------------+--------------------+ | Ubuntu 24.04 | PASS | +------------------------------+--------------------+ | CentOS Stream 9 | PASS | +------------------------------+--------------------+ | CentOS Stream 10 | PASS | +------------------------------+--------------------+ Red Hat Enterprise Linux 9.5 Kernel: 5.4 Compiler: gcc gcc (GCC) 11.5.0 20240719 (Red Hat 11.5.0-2) Ubuntu 20.04 Kernel: 5.15 Compiler: aarch64-linux-gnu-gcc gcc (Ubuntu 9.4.0-1ubuntu1~20.04.2) 9.4.0 Debian GNU/Linux 12 Kernel: 5.4 Compiler: gcc gcc (Debian 12.2.0-14+deb12u1) 12.2.0 Fedora Linux 42 Kernel: 5.4 Compiler: gcc gcc (GCC) 15.2.1 20250808 (Red Hat 15.2.1-1) Ubuntu 22.04 Kernel: 5.4 Compiler: gcc gcc (Ubuntu 11.4.0-1ubuntu1~22.04) 11.4.0 Ubuntu 24.04 Kernel: 5.4 Compiler: gcc gcc (Ubuntu 13.3.0-6ubuntu2~24.04) 13.3.0 CentOS Stream 9 Kernel: 5.4 Compiler: gcc gcc (GCC) 11.5.0 20240719 (Red Hat 11.5.0-11) CentOS Stream 10 Kernel: 5.4 Compiler: gcc gcc (GCC) 14.2.1 20250110 (Red Hat 14.2.1-8) To view detailed results, visit: https://lab.dpdk.org/results/dashboard/patchsets/34551/ UNH-IOL DPDK Community Lab To manage your email subscriptions, visit: https://lab.dpdk.org/results/dashboard/preferences/subscriptions/