From mboxrd@z Thu Jan 1 00:00:00 1970 Return-Path: Received: from mails.dpdk.org (mails.dpdk.org [217.70.189.124]) by inbox.dpdk.org (Postfix) with ESMTP id 80D3C48AF6 for ; Thu, 13 Nov 2025 07:33:47 +0100 (CET) Received: from mails.dpdk.org (localhost [127.0.0.1]) by mails.dpdk.org (Postfix) with ESMTP id 7A5A24003C; Thu, 13 Nov 2025 07:33:47 +0100 (CET) Received: from mail-io1-f98.google.com (mail-io1-f98.google.com [209.85.166.98]) by mails.dpdk.org (Postfix) with ESMTP id E0D654003C for ; Thu, 13 Nov 2025 07:33:45 +0100 (CET) Received: by mail-io1-f98.google.com with SMTP id ca18e2360f4ac-9486251090eso21605639f.2 for ; Wed, 12 Nov 2025 22:33:45 -0800 (PST) DKIM-Signature: v=1; a=rsa-sha256; c=relaxed/relaxed; d=iol.unh.edu; s=unh-iol; t=1763015625; x=1763620425; darn=dpdk.org; h=references:in-reply-to:cc:to:from:subject:message-id:date:from:to :cc:subject:date:message-id:reply-to; bh=muPrbsxTdcLJYlGfnV/g+p007nb1JUvZWH3X/lrvZlk=; b=J91g+RxcTTeHgkz4WMqRBhNHsH+5Xc46e4eLmzSD5vKyefEwGV+oMPSpjvuSD37ZYM IfwdhSCXrO2vTC5a+ZtArZhaAso2Rvswq41CVK4yrwjtXCWkV9sCURWxsg13nR3lkF92 gvxgUjqug6GNkmIKOuD4yRMQtYcRuZj6Rslkk= X-Google-DKIM-Signature: v=1; a=rsa-sha256; c=relaxed/relaxed; d=1e100.net; s=20230601; t=1763015625; x=1763620425; h=references:in-reply-to:cc:to:from:subject:message-id:date:x-gm-gg :x-gm-message-state:from:to:cc:subject:date:message-id:reply-to; bh=muPrbsxTdcLJYlGfnV/g+p007nb1JUvZWH3X/lrvZlk=; b=jP2uqJJvKMLF4amGiXdqIj+7FM7nHvWFy/6PHcQhputBrOhmOmupxcHhgOgyEBWMa2 Bk35Tb71m5X0vb3a7VS6pRQLc4jWylt41AnrSFlTiAYISBYiXhUCCitpyJeYLMlT2H4v RwTNMoyA0brvSe30LgjOWFG55gVLaIOZY71LaYW0RQmCCGLjkndhl1YC4poNvUujUEQX lAA2aH11RR02UqdNzogtmkjGGxo7/2nMmAfph3Cd0AzZKRz9ynR5Su1vVTs5qaQ0LOIj hYImFHpFtf0SDPq2UqVfyZuqO7LP/vyPo9Eu9GHachHdOEXqYXlxqlW5M5cr5ltzsX1V s0wg== X-Gm-Message-State: AOJu0Yy3toRsLFWyw2SwZsTeMxUrDBGUjOsOaoUkY6cPwKx2IkNLNv2s tXDmfn6gquUB7l/CIpNxQ5VHhQ+dQgklWwX7qrlhmj/YOPQx72uWUNGvIz3m/HJBXDbS1QHvOJG YeOq4MsbN9PCiz8wFtP0gM8Nch6fgIgj1zYC8hfwge0R/ X-Gm-Gg: ASbGncsVkWr7nOc1OlUa/vrfIqTLU18ib6b7OxuKLp0W6JUvGIFNSGRPEc8B/eL00dQ hY7P0qjghJZetxsltoH1DiorWo5x5QCdZwU3wCwobh3q0w7XtscZC0OUl+zcZTZ1HMMZM3DHK5m 6oIxkuupDd95IUsX7L2kpinnpPoEOqii1Nt9Qzf6yvbLxrqjeFVd1OD8S4GZj9PA/6SL1r/eZbt 66VDg6JR2UdW4aRIKap3WsWHz0s45ZknZatc6DjWTTNdCjcl+44MyxzU6g1X8uCTSUCrQS/Rxb4 GVTqTQmv+coJ8dO7HDiDY3ZZMBtM/XDea/bdDyqdU9PjVZ0ly5fw9yKAhcJRZFlQfEOJ8HwOtsQ syONX5+Lgp2s1lXal9B52CQNF66rNqRg= X-Google-Smtp-Source: AGHT+IFEOv+1Fgfffh4dMachB6yVxLum3gn+/rlWAtLb4W3ukDnEUXgmrhZSe2EvdvbCtFpQylV6dsPsUoLx X-Received: by 2002:a05:6602:2dd1:b0:948:c9a5:5172 with SMTP id ca18e2360f4ac-948c9a55361mr540693939f.12.1763015625195; Wed, 12 Nov 2025 22:33:45 -0800 (PST) Received: from postal.iol.unh.edu (postal.iol.unh.edu. [132.177.123.84]) by smtp-relay.gmail.com with ESMTPS id ca18e2360f4ac-948d2ba338dsm5694039f.4.2025.11.12.22.33.45 (version=TLS1_2 cipher=ECDHE-ECDSA-AES128-GCM-SHA256 bits=128/128); Wed, 12 Nov 2025 22:33:45 -0800 (PST) X-Relaying-Domain: iol.unh.edu Date: Wed, 12 Nov 2025 22:33:45 -0800 (PST) Message-ID: <69157bc9.6b0a0220.2121c.2e2dSMTPIN_ADDED_MISSING@mx.google.com> Received: from [172.21.0.4] (unknown [172.18.0.240]) by postal.iol.unh.edu (Postfix) with ESMTP id B25946051830; Thu, 13 Nov 2025 01:33:44 -0500 (EST) Subject: |SUCCESS| pw158705 [PATCH] net/intel: ensure correct Rx path is sele From: dpdklab@iol.unh.edu To: Test Report Cc: dpdk-test-reports@iol.unh.edu, Bruce Richardson In-Reply-To: <20251112151123.3757688-1-ciara.loftus@intel.com> References: <20251112151123.3757688-1-ciara.loftus@intel.com> Content-Type: text/plain X-BeenThere: test-report@dpdk.org X-Mailman-Version: 2.1.29 Precedence: list List-Id: automatic DPDK test reports List-Unsubscribe: , List-Archive: List-Post: List-Help: List-Subscribe: , Errors-To: test-report-bounces@dpdk.org Test-Label: iol-compile-arm64-testing Test-Status: SUCCESS http://dpdk.org/patch/158705 _Testing PASS_ Submitter: Loftus, Ciara Date: Wednesday, November 12 2025 15:11:23 DPDK git baseline: Repo:dpdk-next-net-intel Branch: master CommitID:c63646d076330fb2ef3282cbd413aaf93f0509e6 158705 --> testing pass Upstream job id: Generic-DPDK-Compile-Meson#443428 Test environment and result as below: +------------------------------+--------------------+ | Environment | dpdk_meson_compile | +==============================+====================+ | Fedora Linux 42 | PASS | +------------------------------+--------------------+ | Red Hat Enterprise Linux 9.5 | PASS | +------------------------------+--------------------+ | Ubuntu 20.04 | PASS | +------------------------------+--------------------+ | Debian GNU/Linux 12 | PASS | +------------------------------+--------------------+ | Ubuntu 22.04 | PASS | +------------------------------+--------------------+ | Ubuntu 24.04 | PASS | +------------------------------+--------------------+ | CentOS Stream 9 | PASS | +------------------------------+--------------------+ | CentOS Stream 10 | PASS | +------------------------------+--------------------+ Fedora Linux 42 Kernel: 5.4 Compiler: gcc gcc (GCC) 15.2.1 20250808 (Red Hat 15.2.1-1) Red Hat Enterprise Linux 9.5 Kernel: 5.4 Compiler: gcc gcc (GCC) 11.5.0 20240719 (Red Hat 11.5.0-2) Ubuntu 20.04 Kernel: 5.15 Compiler: aarch64-linux-gnu-gcc gcc (Ubuntu 9.4.0-1ubuntu1~20.04.2) 9.4.0 Debian GNU/Linux 12 Kernel: 5.4 Compiler: gcc gcc (Debian 12.2.0-14+deb12u1) 12.2.0 Ubuntu 22.04 Kernel: 5.4 Compiler: gcc gcc (Ubuntu 11.4.0-1ubuntu1~22.04) 11.4.0 Ubuntu 24.04 Kernel: 5.4 Compiler: gcc gcc (Ubuntu 13.3.0-6ubuntu2~24.04) 13.3.0 CentOS Stream 9 Kernel: 5.4 Compiler: gcc gcc (GCC) 11.5.0 20240719 (Red Hat 11.5.0-11) CentOS Stream 10 Kernel: 5.4 Compiler: gcc gcc (GCC) 14.2.1 20250110 (Red Hat 14.2.1-8) To view detailed results, visit: https://lab.dpdk.org/results/dashboard/patchsets/34552/ UNH-IOL DPDK Community Lab To manage your email subscriptions, visit: https://lab.dpdk.org/results/dashboard/preferences/subscriptions/