From mboxrd@z Thu Jan 1 00:00:00 1970 Return-Path: Received: from mails.dpdk.org (mails.dpdk.org [217.70.189.124]) by inbox.dpdk.org (Postfix) with ESMTP id 9A4F048AF6 for ; Thu, 13 Nov 2025 07:34:26 +0100 (CET) Received: from mails.dpdk.org (localhost [127.0.0.1]) by mails.dpdk.org (Postfix) with ESMTP id 95EFC4003C; Thu, 13 Nov 2025 07:34:26 +0100 (CET) Received: from mail-io1-f100.google.com (mail-io1-f100.google.com [209.85.166.100]) by mails.dpdk.org (Postfix) with ESMTP id D84604003C for ; Thu, 13 Nov 2025 07:34:24 +0100 (CET) Received: by mail-io1-f100.google.com with SMTP id ca18e2360f4ac-948a3979af4so29541839f.0 for ; Wed, 12 Nov 2025 22:34:24 -0800 (PST) DKIM-Signature: v=1; a=rsa-sha256; c=relaxed/relaxed; d=iol.unh.edu; s=unh-iol; t=1763015664; x=1763620464; darn=dpdk.org; h=references:in-reply-to:cc:to:from:subject:message-id:date:from:to :cc:subject:date:message-id:reply-to; bh=CHOGboZFyq036AthPwvSbkicrRMwOuy9G1b9OSnmGro=; b=V5SrqNx53HRJlw73+m6gM6knLWGUIdn8q5oxAg1icsJEZN3QFruEVwLJ0Osu2R8zb1 AnwbFwyMvni6IIVq0ZU2HPEi2HQDYO542v81XY5Wxivig0L7VBtyW5q/dPX8uXo6hLJs 5fzd12rvAxXyhvZ2IS3C5SYGysf99eN1o4eYs= X-Google-DKIM-Signature: v=1; a=rsa-sha256; c=relaxed/relaxed; d=1e100.net; s=20230601; t=1763015664; x=1763620464; h=references:in-reply-to:cc:to:from:subject:message-id:date:x-gm-gg :x-gm-message-state:from:to:cc:subject:date:message-id:reply-to; bh=CHOGboZFyq036AthPwvSbkicrRMwOuy9G1b9OSnmGro=; b=EPAskLiHmAAzk5g9kXGxOvbfMwdUMzUwsC4885Qyk1c13/5OA29KOMvuwtcnGajEfP kvB1iBT0UwwlN6qUCjNPRG8cioRx/8Dt3Rfopfxcl+vCHdDXrdSDHVntjNeVbInwpIim EdxexiwTDPzQQ3V+cgR/bla+jViZMofhlkySxDB4THDSfWVQt/+g9Mzgd4oCawZ0JMhH VRVyftiwbNolRhtUn3POOX9n6+qnXWTR9dYKZNpjSt0C/QruSKWbBZ79pjoHVy3+oXoJ 9sD2zIFWMbQrvplkMByT+ld+aPX9DqPZS8CBjyYXM+IgaToXviwCGg/q12lElbhqzdfB BU9Q== X-Gm-Message-State: AOJu0Yzt1LZa+d4/gca3onbmRNkjl3AYTSXhynJEbb854snqrGVVMTFG 468B/r8qRrULpeqt3YrepoiNYejSVmY1SJGdscgMRdgmcs9g4ka1vpkJzlu56n69IIzk11IDd1U uTND0TlDbGDxB7fVhUyUuNqp/A20umus/jRACffMSI5C4zyFUQ16atAw/Xv11 X-Gm-Gg: ASbGnctFf8T76aAY6dhXhsVJSa9YRGfYST9v2K4ytIelV+R9tJSTOazITpV4bSdLDyD 0Y3j+XUKK6rwnNpFT3ks5qjG7IcbsbQnBPtB0Yrp9QS0uc74oaZBiwY7xLrggQ7DytdEtgwmJQD 2A+0IK08dZYeBAoz9TSQsvTPuZwbwtak7rkpHLkJCS+y6A5PEK3DHlfYazjEgbHdHr2bZ6b1/Pk MVl1ZRbLKQfhs1xVQjQkmM7GDBXO9wKGjGjGDtNYuFY9JRRSe68jCs0iaDjnshpdJBbTtib5SUW BZficg0Z4OrZ+t1r/VrqQxGOkF1K16GTFNlKntDsrDsersn3uZAKkv2JpF+d5jGzERZKXovLDXT W9US9zgE5 X-Google-Smtp-Source: AGHT+IGBHsHQR3g9Gv6OK630A64JCPmOyZvq3Y0iaWiWricDcj5wqFdobpUTKdjz+yCc+6pVb+bBnXKk0pkI X-Received: by 2002:a05:6602:2563:b0:948:a9aa:1650 with SMTP id ca18e2360f4ac-948cfae613amr256240139f.8.1763015664252; Wed, 12 Nov 2025 22:34:24 -0800 (PST) Received: from postal.iol.unh.edu (postal.iol.unh.edu. [2606:4100:3880:1234::84]) by smtp-relay.gmail.com with ESMTPS id 8926c6da1cb9f-5b7bd266587sm87510173.13.2025.11.12.22.34.24 (version=TLS1_2 cipher=ECDHE-ECDSA-AES128-GCM-SHA256 bits=128/128); Wed, 12 Nov 2025 22:34:24 -0800 (PST) X-Relaying-Domain: iol.unh.edu Date: Wed, 12 Nov 2025 22:34:24 -0800 (PST) Message-ID: <69157bf0.050a0220.2a2e34.4aa3SMTPIN_ADDED_MISSING@mx.google.com> Received: from [172.21.0.5] (unknown [172.18.0.240]) by postal.iol.unh.edu (Postfix) with ESMTP id E506C6051830; Thu, 13 Nov 2025 01:34:23 -0500 (EST) Subject: |SUCCESS| pw158705 [PATCH] net/intel: ensure correct Rx path is sele From: dpdklab@iol.unh.edu To: Test Report Cc: dpdk-test-reports@iol.unh.edu, Bruce Richardson In-Reply-To: <20251112151123.3757688-1-ciara.loftus@intel.com> References: <20251112151123.3757688-1-ciara.loftus@intel.com> Content-Type: text/plain X-BeenThere: test-report@dpdk.org X-Mailman-Version: 2.1.29 Precedence: list List-Id: automatic DPDK test reports List-Unsubscribe: , List-Archive: List-Post: List-Help: List-Subscribe: , Errors-To: test-report-bounces@dpdk.org Test-Label: iol-compile-arm64-testing Test-Status: SUCCESS http://dpdk.org/patch/158705 _Testing PASS_ Submitter: Loftus, Ciara Date: Wednesday, November 12 2025 15:11:23 DPDK git baseline: Repo:dpdk-next-net-intel Branch: master CommitID:c63646d076330fb2ef3282cbd413aaf93f0509e6 158705 --> testing pass Upstream job id: Generic-DPDK-Compile-Meson#443497 Test environment and result as below: +------------------------------+--------------------+ | Environment | dpdk_meson_compile | +==============================+====================+ | Fedora Linux 42 | PASS | +------------------------------+--------------------+ | Red Hat Enterprise Linux 9.5 | PASS | +------------------------------+--------------------+ | Ubuntu 20.04 | PASS | +------------------------------+--------------------+ | Debian GNU/Linux 12 | PASS | +------------------------------+--------------------+ | Ubuntu 22.04 | PASS | +------------------------------+--------------------+ | Ubuntu 24.04 | PASS | +------------------------------+--------------------+ | CentOS Stream 9 | PASS | +------------------------------+--------------------+ | CentOS Stream 10 | PASS | +------------------------------+--------------------+ Fedora Linux 42 Kernel: 5.4 Compiler: gcc gcc (GCC) 15.2.1 20250808 (Red Hat 15.2.1-1) Red Hat Enterprise Linux 9.5 Kernel: 5.4 Compiler: gcc gcc (GCC) 11.5.0 20240719 (Red Hat 11.5.0-2) Ubuntu 20.04 Kernel: 5.15 Compiler: aarch64-linux-gnu-gcc gcc (Ubuntu 9.4.0-1ubuntu1~20.04.2) 9.4.0 Debian GNU/Linux 12 Kernel: 5.4 Compiler: gcc gcc (Debian 12.2.0-14+deb12u1) 12.2.0 Ubuntu 22.04 Kernel: 5.4 Compiler: gcc gcc (Ubuntu 11.4.0-1ubuntu1~22.04) 11.4.0 Ubuntu 24.04 Kernel: 5.4 Compiler: gcc gcc (Ubuntu 13.3.0-6ubuntu2~24.04) 13.3.0 CentOS Stream 9 Kernel: 5.4 Compiler: gcc gcc (GCC) 11.5.0 20240719 (Red Hat 11.5.0-11) CentOS Stream 10 Kernel: 5.4 Compiler: gcc gcc (GCC) 14.2.1 20250110 (Red Hat 14.2.1-8) To view detailed results, visit: https://lab.dpdk.org/results/dashboard/patchsets/34552/ UNH-IOL DPDK Community Lab To manage your email subscriptions, visit: https://lab.dpdk.org/results/dashboard/preferences/subscriptions/