From mboxrd@z Thu Jan 1 00:00:00 1970 Return-Path: Received: from mails.dpdk.org (mails.dpdk.org [217.70.189.124]) by inbox.dpdk.org (Postfix) with ESMTP id A901648AF6 for ; Thu, 13 Nov 2025 07:34:45 +0100 (CET) Received: from mails.dpdk.org (localhost [127.0.0.1]) by mails.dpdk.org (Postfix) with ESMTP id A43B54003C; Thu, 13 Nov 2025 07:34:45 +0100 (CET) Received: from mail-pl1-f225.google.com (mail-pl1-f225.google.com [209.85.214.225]) by mails.dpdk.org (Postfix) with ESMTP id CE99A4003C for ; Thu, 13 Nov 2025 07:34:43 +0100 (CET) Received: by mail-pl1-f225.google.com with SMTP id d9443c01a7336-2980d9b7df5so3907315ad.3 for ; Wed, 12 Nov 2025 22:34:43 -0800 (PST) DKIM-Signature: v=1; a=rsa-sha256; c=relaxed/relaxed; d=iol.unh.edu; s=unh-iol; t=1763015683; x=1763620483; darn=dpdk.org; h=references:in-reply-to:cc:to:from:subject:message-id:date:from:to :cc:subject:date:message-id:reply-to; bh=CR5yVGzd0XaP35uXG3fFxOaqFWGNbNZRpbfd0mAJtUc=; b=fpmzhcrIp7cPAU8jw+ZWVu3RNGcxf0ftEyEKNChkMWqh85qFcn9p5pb80BOY50ya+1 ZWA8/HoOw0+VhbRhS0yrhuuymd5ZRo3NPu/5Cz1A3RVDjKkfiPInZgixNcaAUtQ6f2ji SeXwuIJxlTd/E37UvAt64lqzyIlD7WfYGUGpM= X-Google-DKIM-Signature: v=1; a=rsa-sha256; c=relaxed/relaxed; d=1e100.net; s=20230601; t=1763015683; x=1763620483; h=references:in-reply-to:cc:to:from:subject:message-id:date:x-gm-gg :x-gm-message-state:from:to:cc:subject:date:message-id:reply-to; bh=CR5yVGzd0XaP35uXG3fFxOaqFWGNbNZRpbfd0mAJtUc=; b=GZ47wFaazfQrag3eu9R/A5RuZa3q8FmzkqEzWQ98c7YkuNKy1hunJAC6/ky1y0SCOS Cnr24cyvI8vdCnJzKwHKelMuoS1XfXw0Jx+QWHIzZpOIuwf6RR2Un5XlZDoIn2IJpiZX CbMnsAlgFu2hAemERonH2CZOaGqYzfFBfOdjSfeiFwp48R6DxoW/HVPPGE6Z74iUG5Re EBEhXTBGlQoScRPd0L924k2VQX0WAsnWuaP9PwBMO7vRLUdvIgU7X7va32+mFC4jp1qK SjdzOBkewbiI1LNn3o8lgLm1wrw+4Q2/rZYjtrsd1dXx1g0jCdGLh6+kiUblZ6/GFFbH znBA== X-Gm-Message-State: AOJu0YwZteMND7QwpHrbLhmZruRZWkLi1QCOX8MYOffMCxKEsEVNoNO6 188Dk0DFYJn8GnO//YqyREJgVfkWkmzS2hm2FbgEVR6oQwAsVamURoZWjahIdKmK3hhmjFYvZhe IlPeNJx/gz2WZnt/w+Ud8+AEXpyrzsKTxDTZjBPWoxMKp X-Gm-Gg: ASbGnctkiQnRwIkVe8g8Np1K6tYm3Tma7pHXC4Br4a+AVIeThU/AeCqgikpWEs+PQFg izMUtpo2kit/vjowBfTvh73lT4VTkr5GLHG3N7e7/CoA0SjeGX5Fift8Vh7TpqhTySJb2vwfVXh dFIc/1GViJ9KjoQCj9AQVqkjKoVt7xBZnaLtWlwZlqxSXVfqQeyggNMJvgDN86uhDi4jK+b4KOi Ig30Y5SXDaf0Wc9197gYu9i4tD0J6OqNC0m6W6TjhIjQAH0nXhZKeKTGYCnmRJA55X4BLYJSEw9 ygu04RQ7Nlc0iu9VLgM0jwjpM8a6840lRSeZRDpehwKnTXDY7kJBh3mwuaOouu2Ng5cG5DzVCGm jWGL0F/mCQMO4KE0F8ZUAp8q0uhYYWY0= X-Google-Smtp-Source: AGHT+IHNy+nVn0x+V5uTcirZ6gFFkzyYKl5zTaODQPZBIefL8tdaIZOEZFsYzIKjqQOsA+FUNN4SYOCsjj/M X-Received: by 2002:a17:902:da4b:b0:297:c0f0:42b3 with SMTP id d9443c01a7336-2984ed4b960mr78315155ad.25.1763015682909; Wed, 12 Nov 2025 22:34:42 -0800 (PST) Received: from postal.iol.unh.edu (postal.iol.unh.edu. [132.177.123.84]) by smtp-relay.gmail.com with ESMTPS id d9443c01a7336-2985c2b8935sm1221545ad.52.2025.11.12.22.34.42 (version=TLS1_2 cipher=ECDHE-ECDSA-AES128-GCM-SHA256 bits=128/128); Wed, 12 Nov 2025 22:34:42 -0800 (PST) X-Relaying-Domain: iol.unh.edu Date: Wed, 12 Nov 2025 22:34:42 -0800 (PST) Message-ID: <69157c02.170a0220.234aea.6fc8SMTPIN_ADDED_MISSING@mx.google.com> Received: from [172.21.0.4] (unknown [172.18.0.240]) by postal.iol.unh.edu (Postfix) with ESMTP id 1F5636051830; Thu, 13 Nov 2025 01:34:42 -0500 (EST) Subject: |SUCCESS| pw158655-158657 [PATCH] [v2,4/4] net/nbl: add IOVA mode ch From: dpdklab@iol.unh.edu To: Test Report Cc: dpdk-test-reports@iol.unh.edu, Stephen Hemminger In-Reply-To: <20251111113144.3567291-5-dimon.zhao@nebula-matrix.com> References: <20251111113144.3567291-5-dimon.zhao@nebula-matrix.com> Content-Type: text/plain X-BeenThere: test-report@dpdk.org X-Mailman-Version: 2.1.29 Precedence: list List-Id: automatic DPDK test reports List-Unsubscribe: , List-Archive: List-Post: List-Help: List-Subscribe: , Errors-To: test-report-bounces@dpdk.org Test-Label: iol-unit-amd64-testing Test-Status: SUCCESS http://dpdk.org/patch/158657 _Testing PASS_ Submitter: Dimon Zhao Date: Tuesday, November 11 2025 11:31:43 DPDK git baseline: Repo:dpdk-next-net Branch: master CommitID:591ee7f468aebec30d68d30afa8d5e4dcfc897dc 158655-158657 --> testing pass Upstream job id: Generic-VM-Unit-Test-DPDK#32462 Test environment and result as below: +-------------------------------+----------------+ | Environment | dpdk_unit_test | +===============================+================+ | CentOS Stream 9 | PASS | +-------------------------------+----------------+ | CentOS Stream 10 | PASS | +-------------------------------+----------------+ | Debian GNU/Linux 12 | PASS | +-------------------------------+----------------+ | Fedora Linux 40 | PASS | +-------------------------------+----------------+ | Fedora Linux 41 | PASS | +-------------------------------+----------------+ | Fedora Linux 42 | PASS | +-------------------------------+----------------+ | Ubuntu 24.04 | PASS | +-------------------------------+----------------+ | Red Hat Enterprise Linux 9.5 | PASS | +-------------------------------+----------------+ | Red Hat Enterprise Linux 8.10 | PASS | +-------------------------------+----------------+ | Ubuntu 22.04 | PASS | +-------------------------------+----------------+ | Ubuntu 20.04 | PASS | +-------------------------------+----------------+ | Windows Server 2022 | PASS | +-------------------------------+----------------+ CentOS Stream 9 Kernel: 5.15 Compiler: gcc gcc (GCC) 11.5.0 20240719 (Red Hat 11.5.0-11) CentOS Stream 10 Kernel: 5.15 Compiler: gcc gcc (GCC) 14.2.1 20250110 (Red Hat 14.2.1-8) Debian GNU/Linux 12 Kernel: 5.15 Compiler: gcc gcc (Debian 12.2.0-14+deb12u1) 12.2.0 Fedora Linux 40 Kernel: 5.15 Compiler: gcc gcc (GCC) 14.2.1 20240912 (Red Hat 14.2.1-3) Fedora Linux 41 Kernel: 5.15 Compiler: clang gcc (GCC) 14.3.1 20250523 (Red Hat 14.3.1-1) Fedora Linux 42 Kernel: 5.15 Compiler: clang gcc (GCC) 15.2.1 20250808 (Red Hat 15.2.1-1) Ubuntu 24.04 Kernel: 5.15 Compiler: gcc gcc (Ubuntu 13.3.0-6ubuntu2~24.04) 13.3.0 Red Hat Enterprise Linux 9.5 Kernel: 5.15 Compiler: gcc gcc (GCC) 11.5.0 20240719 (Red Hat 11.5.0-2) Red Hat Enterprise Linux 8.10 Kernel: 5.15 Compiler: gcc gcc (GCC) 8.5.0 20210514 (Red Hat 8.5.0-22) Ubuntu 22.04 Kernel: 5.15 Compiler: gcc gcc (Ubuntu 11.4.0-1ubuntu1~22.04) 11.4.0 Ubuntu 20.04 Kernel: 5.15 Compiler: gcc gcc (Ubuntu 9.4.0-1ubuntu1~20.04.2) 9.4.0 Windows Server 2022 Kernel: 10.0.20348.2031 Compiler: clang 15.0.7, gcc 14.1.0 (MinGW), and MSVC VS 19.39.33521 To view detailed results, visit: https://lab.dpdk.org/results/dashboard/patchsets/34534/ UNH-IOL DPDK Community Lab To manage your email subscriptions, visit: https://lab.dpdk.org/results/dashboard/preferences/subscriptions/