From mboxrd@z Thu Jan 1 00:00:00 1970 Return-Path: Received: from mails.dpdk.org (mails.dpdk.org [217.70.189.124]) by inbox.dpdk.org (Postfix) with ESMTP id 47C4648AF6 for ; Thu, 13 Nov 2025 07:51:50 +0100 (CET) Received: from mails.dpdk.org (localhost [127.0.0.1]) by mails.dpdk.org (Postfix) with ESMTP id 2F8FF4003C; Thu, 13 Nov 2025 07:51:50 +0100 (CET) Received: from mail-qt1-f227.google.com (mail-qt1-f227.google.com [209.85.160.227]) by mails.dpdk.org (Postfix) with ESMTP id 5E1FB4003C for ; Thu, 13 Nov 2025 07:51:48 +0100 (CET) Received: by mail-qt1-f227.google.com with SMTP id d75a77b69052e-4b109c6b9fcso4234911cf.3 for ; Wed, 12 Nov 2025 22:51:48 -0800 (PST) DKIM-Signature: v=1; a=rsa-sha256; c=relaxed/relaxed; d=iol.unh.edu; s=unh-iol; t=1763016707; x=1763621507; darn=dpdk.org; h=references:in-reply-to:cc:to:from:subject:message-id:date:from:to :cc:subject:date:message-id:reply-to; bh=+YdbLVS1C9Ad19FvvN7bXZrTNZ5YqyXTzW8f+mhnRT8=; b=aMtodPHtTV4ABBkP6XtuP6IxySn9vzv7n9fJbOULbG2aQlrwmjvpqBqZ70m9Mp5H4g uqcSIdPrnUCE/Um1CY5EgV74yeoJ0v4MMPVQpWCi9UQeV8tokbw7D+U5xiDoWOxS/jhO Ffyxbu+29ClVk5tTQ4p1gEO7X9W1A4wWYxuS0= X-Google-DKIM-Signature: v=1; a=rsa-sha256; c=relaxed/relaxed; d=1e100.net; s=20230601; t=1763016707; x=1763621507; h=references:in-reply-to:cc:to:from:subject:message-id:date:x-gm-gg :x-gm-message-state:from:to:cc:subject:date:message-id:reply-to; bh=+YdbLVS1C9Ad19FvvN7bXZrTNZ5YqyXTzW8f+mhnRT8=; b=rL9NKKnOpfYsYeqaRiuMiA4BlTH4FBoyQpryAiESsWO3s5Tb3DCzF2xWNa2eUO+Ijw AJHZxBkGIwI10C3ht3H5kgM1efET+Or5saZgrZw7sDOvZzaYSvPHEXGecIbxdSggk4yQ qVe/hcxQ5VQmraHM2lchr5jfPshUHr1QKTlsQvGvg6QUzhMTpGSBNLcALHjwix2o3IZy 7v9JL1Fwh+FaZAXqx7JKnpkQcVyYzhEDaDaIL+duK18gmeCkh2sb79T/zMkKkk9kv0pU 0w4BgBL3sCHaGvP/5BEUCpT6YRnpj4B4OBPX9raQcWDMhLYYF3nqUeVDLm2P8E5iKtWU S+Vg== X-Gm-Message-State: AOJu0YzCudxS10us2Vp+yQqHlp8pSMX336/x2BiFoGCAE7EkoTQUYGdb Q8M2QuPgg/xwDAUy8AUwtqTs6EKx3NI/hHupC/XvCvLXSnAY5C3oPSSxNIeJXD3bkeDzkeRBc4G QSiHsf6CJxJe20t2rE8GLVZGxI1YrEiYb6RhUaFp225C3 X-Gm-Gg: ASbGncshnaszQF4Mo12yCzSNTUWglyDkRPP5E00TdPXrMJHOgjJ7I+c0E+Yqv0xl63x xed8qclRLr+/s2Jo7Yl/c33qrmj0o8QLZBnh68uBgpX0p7svobK4oJzHZ1vg4Ee/8J/ElrHsK54 Uc4mk6wuvNVFqT9hJWG/Wnrn2C/le46QTQJOMfhp3fW8w3w9WCJ59vY9aCs+fhmPO1SgelPu1Yj zBGLY9KBaYhMVnJ+QP8lZPzadiDybPn0hEbH3Oeali8eRg25tZwV8wNracWqtUd+7LcVLDUttR7 M443+ssx6wSydFhqluhFUifweSkCFDGTRvbCLTTkm3ItUacfwIAV1LOTm59tSXfb5OniuNFbRDd jrzZO6U61k8c6SlAdDRKJphRPqN4EXSs= X-Google-Smtp-Source: AGHT+IE+r5AE49qvYoOT80/PiqH/r9/pHV+NifLJAE8Z2XfSE4Vbm6Hkb6oqj4E0D6ERTE+rS6zufWkq06V6 X-Received: by 2002:a05:622a:111:b0:4ed:b7b1:64d7 with SMTP id d75a77b69052e-4eddbd3ba97mr70896071cf.27.1763016707530; Wed, 12 Nov 2025 22:51:47 -0800 (PST) Received: from postal.iol.unh.edu (postal.iol.unh.edu. [132.177.123.84]) by smtp-relay.gmail.com with ESMTPS id 6a1803df08f44-882862f3d94sm1221296d6.8.2025.11.12.22.51.47 (version=TLS1_2 cipher=ECDHE-ECDSA-AES128-GCM-SHA256 bits=128/128); Wed, 12 Nov 2025 22:51:47 -0800 (PST) X-Relaying-Domain: iol.unh.edu Date: Wed, 12 Nov 2025 22:51:47 -0800 (PST) Message-ID: <69158003.d40a0220.2da1aa.6400SMTPIN_ADDED_MISSING@mx.google.com> Received: from [172.21.0.2] (unknown [172.18.0.240]) by postal.iol.unh.edu (Postfix) with ESMTP id 3CA756051830; Thu, 13 Nov 2025 01:51:47 -0500 (EST) Subject: |SUCCESS| pw158668 [PATCH] common/mlx5: add BlueField-4 DPU From: dpdklab@iol.unh.edu To: Test Report Cc: dpdk-test-reports@iol.unh.edu In-Reply-To: <20251111121628.75282-1-rasland@nvidia.com> References: <20251111121628.75282-1-rasland@nvidia.com> Content-Type: text/plain X-BeenThere: test-report@dpdk.org X-Mailman-Version: 2.1.29 Precedence: list List-Id: automatic DPDK test reports List-Unsubscribe: , List-Archive: List-Post: List-Help: List-Subscribe: , Errors-To: test-report-bounces@dpdk.org Test-Label: iol-compile-amd64-testing Test-Status: SUCCESS http://dpdk.org/patch/158668 _Testing PASS_ Submitter: Raslan Darawsheh Date: Tuesday, November 11 2025 12:16:28 DPDK git baseline: Repo:dpdk Branch: master CommitID:b63e7dbfb076d6a8247dcab014421d7b59e20255 158668 --> testing pass Upstream job id: Windows-Compile-DPDK-VS#7503 Test environment and result as below: +-------------------------------+--------------------+------------------+-------------------+ | Environment | dpdk_meson_compile | dpdk_compile_ovs | dpdk_msvc_compile | +===============================+====================+==================+===================+ | CentOS Stream 9 | PASS | SKIPPED | SKIPPED | +-------------------------------+--------------------+------------------+-------------------+ | CentOS Stream 10 | PASS | SKIPPED | SKIPPED | +-------------------------------+--------------------+------------------+-------------------+ | Debian GNU/Linux 12 | PASS | SKIPPED | SKIPPED | +-------------------------------+--------------------+------------------+-------------------+ | Fedora Linux 42 | PASS | PASS | SKIPPED | +-------------------------------+--------------------+------------------+-------------------+ | Red Hat Enterprise Linux 8.10 | PASS | SKIPPED | SKIPPED | +-------------------------------+--------------------+------------------+-------------------+ | Ubuntu 20.04 | PASS | SKIPPED | SKIPPED | +-------------------------------+--------------------+------------------+-------------------+ | openSUSE Leap 15.6 | PASS | SKIPPED | SKIPPED | +-------------------------------+--------------------+------------------+-------------------+ | Ubuntu 22.04 | PASS | SKIPPED | SKIPPED | +-------------------------------+--------------------+------------------+-------------------+ | Ubuntu 24.04 | PASS | PASS | SKIPPED | +-------------------------------+--------------------+------------------+-------------------+ | Red Hat Enterprise Linux 9.5 | PASS | SKIPPED | SKIPPED | +-------------------------------+--------------------+------------------+-------------------+ | Alpine Linux 3.22.0 | PASS | SKIPPED | SKIPPED | +-------------------------------+--------------------+------------------+-------------------+ | FreeBSD 14.2 | PASS | SKIPPED | SKIPPED | +-------------------------------+--------------------+------------------+-------------------+ | Windows Server 2022 | SKIPPED | SKIPPED | PASS | +-------------------------------+--------------------+------------------+-------------------+ CentOS Stream 9 Kernel: 5.15 Compiler: gcc gcc (GCC) 11.5.0 20240719 (Red Hat 11.5.0-11) CentOS Stream 10 Kernel: 5.15 Compiler: gcc gcc (GCC) 14.2.1 20250110 (Red Hat 14.2.1-8) Debian GNU/Linux 12 Kernel: 5.15 Compiler: gcc gcc (Debian 12.2.0-14+deb12u1) 12.2.0 Fedora Linux 42 Kernel: 5.15 Compiler: gcc gcc (GCC) 15.2.1 20250808 (Red Hat 15.2.1-1) Red Hat Enterprise Linux 8.10 Kernel: 5.15 Compiler: gcc gcc (GCC) 8.5.0 20210514 (Red Hat 8.5.0-22) Ubuntu 20.04 Kernel: 5.15 Compiler: gcc gcc (Ubuntu 9.4.0-1ubuntu1~20.04.2) 9.4.0 openSUSE Leap 15.6 Kernel: 5.15 Compiler: gcc gcc (SUSE Linux) 7.5.0 Ubuntu 22.04 Kernel: 5.15 Compiler: gcc gcc (Ubuntu 11.4.0-1ubuntu1~22.04) 11.4.0 Ubuntu 24.04 Kernel: 5.15 Compiler: gcc gcc (Ubuntu 13.3.0-6ubuntu2~24.04) 13.3.0 Red Hat Enterprise Linux 9.5 Kernel: 5.15 Compiler: gcc gcc (GCC) 11.5.0 20240719 (Red Hat 11.5.0-2) Alpine Linux 3.22.0 Kernel: 5.15 Compiler: gcc gcc (Alpine 14.2.0) 14.2.0 FreeBSD 14.2 Kernel: 14.2-RELEASE Compiler: clang 18.1.6 Windows Server 2022 Kernel: 10.0.20348.2031 Compiler: clang 15.0.7, gcc 14.1.0 (MinGW), and MSVC VS 19.39.33521 To view detailed results, visit: https://lab.dpdk.org/results/dashboard/patchsets/34536/ UNH-IOL DPDK Community Lab To manage your email subscriptions, visit: https://lab.dpdk.org/results/dashboard/preferences/subscriptions/