From mboxrd@z Thu Jan 1 00:00:00 1970 Return-Path: Received: from mails.dpdk.org (mails.dpdk.org [217.70.189.124]) by inbox.dpdk.org (Postfix) with ESMTP id 5B8AA48AF6 for ; Thu, 13 Nov 2025 07:53:15 +0100 (CET) Received: from mails.dpdk.org (localhost [127.0.0.1]) by mails.dpdk.org (Postfix) with ESMTP id 56E234003C; Thu, 13 Nov 2025 07:53:15 +0100 (CET) Received: from mail-qv1-f100.google.com (mail-qv1-f100.google.com [209.85.219.100]) by mails.dpdk.org (Postfix) with ESMTP id D4BE64003C for ; Thu, 13 Nov 2025 07:53:13 +0100 (CET) Received: by mail-qv1-f100.google.com with SMTP id 6a1803df08f44-882475d8851so5275586d6.2 for ; Wed, 12 Nov 2025 22:53:13 -0800 (PST) DKIM-Signature: v=1; a=rsa-sha256; c=relaxed/relaxed; d=iol.unh.edu; s=unh-iol; t=1763016793; x=1763621593; darn=dpdk.org; h=references:in-reply-to:cc:to:from:subject:message-id:date:from:to :cc:subject:date:message-id:reply-to; bh=ovh5EZsYxYKOdiSMmBb2HEURXVgL0w+Ey4e/qS4H4oY=; b=XuwcRVcs3ijBD+Rgkys+NkzlicW8w+nwwvYaxYsjxwg+HWwyr6ZCxMOahMn1WhyH9B sjK0UYiH4ufWHozYgtUAnBrTGRSkJNCtaqDzH0Gern0dzkYx+jQKda9juhKDIvoFeuSu kal8QxRqIlrcT6OprNv4tKMZYmPAmr/UwbJSI= X-Google-DKIM-Signature: v=1; a=rsa-sha256; c=relaxed/relaxed; d=1e100.net; s=20230601; t=1763016793; x=1763621593; h=references:in-reply-to:cc:to:from:subject:message-id:date:x-gm-gg :x-gm-message-state:from:to:cc:subject:date:message-id:reply-to; bh=ovh5EZsYxYKOdiSMmBb2HEURXVgL0w+Ey4e/qS4H4oY=; b=tU9/FCn+yIFcIXVOYDAbNEIo+96oRLVDO71xbPDDwL5EtHwF5pjJpioqadE6qkcJpd 3XlsraEWba801tED7CzhkmIntFBFHVD8MqLK1Q0dbAjPlSfl0ZkKCml6wKAWJlborGi6 5LfkWsTb0BZdeWoBCzRoUUTpXboA5fzQm3p6D3h6TFsrQNGwBrkEWqt81CiniIu05Z8z q2T5IyjcsnY9AlO7msQxnJvr1ayhDPAFaFHM4kj/XmqgMP4f0NPwD1aSOaesvIJl3uIh klfPYGoNlwmNFDu++ggORYHfEat6Pjuq8yMitGeSLGGcUfLodcn1n6HlZHZk9Fp5OddW lXmA== X-Gm-Message-State: AOJu0YxPnspNeEMGWcTMR+DmXNNZwzL/Dmds+pKa2HeH0wN32OZ0KyZy Qb//rH9wZpjomrmWqrx47GccrZSbWCS5X30hCShdjUTOcnUtTjxEVJDcSFA/kzl9RcpMSjJ6mPF MqpleGOweCcNzkRNk5rt5kiRstLz+K3aSG8ijHbMjZPMe X-Gm-Gg: ASbGncu4SWPNj8D5dyI4Q9xCHK7M8hM6888MCnWmHjhHaqMzfBYATowpuLgTCAZi0Ji E3NjZHa98+Dq8TziA+BeT1ZmQLqxGXv8TlmI16Lek6IBILIL8p3KSL22UkbpOpV5vbA8DnwL7py CepS0/bWdx8f7y9DueWU16z2lTsFoxSjkP9eZQNDimfn71ijalr7Zh1sfD73UnMwxKeq6xMHUMa FvoI92dawnV0b4RZ137OKsC4bC09tikxA9RSU9w6tEkezJsPIr0iL8e7a/MNuu8wU2+iEyyOmC8 5ee/cDeJVR1Mz/3axSBGHE3iJ0qwCzJAsVFga+nXilCO+MkkrjslmMLYq/ltRiyFc1E0A6DrtIJ Vgvz8xUnzSda0ZtHt7jyBqIx8JUhs70w= X-Google-Smtp-Source: AGHT+IGCnYIBBZ0u0V/Tea+/SmAbXGge24+GoVpHj/d8WUEudXrZCORPjgUZ6TBR6/y/km7ENpaN7J6CfA18 X-Received: by 2002:a05:6214:2246:b0:880:4c68:f24c with SMTP id 6a1803df08f44-882718bb5d0mr82721926d6.11.1763016793120; Wed, 12 Nov 2025 22:53:13 -0800 (PST) Received: from postal.iol.unh.edu (postal.iol.unh.edu. [132.177.123.84]) by smtp-relay.gmail.com with ESMTPS id 6a1803df08f44-88286572221sm1243836d6.28.2025.11.12.22.53.13 (version=TLS1_2 cipher=ECDHE-ECDSA-AES128-GCM-SHA256 bits=128/128); Wed, 12 Nov 2025 22:53:13 -0800 (PST) X-Relaying-Domain: iol.unh.edu Date: Wed, 12 Nov 2025 22:53:13 -0800 (PST) Message-ID: <69158059.050a0220.1c73a7.630cSMTPIN_ADDED_MISSING@mx.google.com> Received: from [172.21.0.2] (unknown [172.18.0.240]) by postal.iol.unh.edu (Postfix) with ESMTP id CEFE46051830; Thu, 13 Nov 2025 01:53:12 -0500 (EST) Subject: |SUCCESS| pw158645 [PATCH] [v3] lib/ring: do not allow zero size rin From: dpdklab@iol.unh.edu To: Test Report Cc: dpdk-test-reports@iol.unh.edu In-Reply-To: <20251111062253.578121-1-iboukris@gmail.com> References: <20251111062253.578121-1-iboukris@gmail.com> Content-Type: text/plain X-BeenThere: test-report@dpdk.org X-Mailman-Version: 2.1.29 Precedence: list List-Id: automatic DPDK test reports List-Unsubscribe: , List-Archive: List-Post: List-Help: List-Subscribe: , Errors-To: test-report-bounces@dpdk.org Test-Label: iol-compile-amd64-testing Test-Status: SUCCESS http://dpdk.org/patch/158645 _Testing PASS_ Submitter: Isaac Boukris Date: Tuesday, November 11 2025 06:22:52 DPDK git baseline: Repo:dpdk Branch: master CommitID:8ae4f1d511226fd65a979e9f8a1e51835281a59b 158645 --> testing pass Upstream job id: Windows-Compile-DPDK-Native#32281 Test environment and result as below: +-------------------------------+--------------------+------------------+-------------------+-------------------------+----------------------+ | Environment | dpdk_meson_compile | dpdk_compile_ovs | dpdk_msvc_compile | dpdk_llvm_clang_compile | dpdk_mingw64_compile | +===============================+====================+==================+===================+=========================+======================+ | Ubuntu 20.04 | PASS | SKIPPED | SKIPPED | SKIPPED | SKIPPED | +-------------------------------+--------------------+------------------+-------------------+-------------------------+----------------------+ | FreeBSD 14.2 | PASS | SKIPPED | SKIPPED | SKIPPED | SKIPPED | +-------------------------------+--------------------+------------------+-------------------+-------------------------+----------------------+ | Fedora Linux 42 | PASS | PASS | SKIPPED | SKIPPED | SKIPPED | +-------------------------------+--------------------+------------------+-------------------+-------------------------+----------------------+ | CentOS Stream 10 | PASS | SKIPPED | SKIPPED | SKIPPED | SKIPPED | +-------------------------------+--------------------+------------------+-------------------+-------------------------+----------------------+ | CentOS Stream 9 | PASS | SKIPPED | SKIPPED | SKIPPED | SKIPPED | +-------------------------------+--------------------+------------------+-------------------+-------------------------+----------------------+ | Debian GNU/Linux 12 | PASS | SKIPPED | SKIPPED | SKIPPED | SKIPPED | +-------------------------------+--------------------+------------------+-------------------+-------------------------+----------------------+ | openSUSE Leap 15.6 | PASS | SKIPPED | SKIPPED | SKIPPED | SKIPPED | +-------------------------------+--------------------+------------------+-------------------+-------------------------+----------------------+ | Ubuntu 22.04 | PASS | SKIPPED | SKIPPED | SKIPPED | SKIPPED | +-------------------------------+--------------------+------------------+-------------------+-------------------------+----------------------+ | Red Hat Enterprise Linux 8.10 | PASS | SKIPPED | SKIPPED | SKIPPED | SKIPPED | +-------------------------------+--------------------+------------------+-------------------+-------------------------+----------------------+ | Red Hat Enterprise Linux 9.5 | PASS | SKIPPED | SKIPPED | SKIPPED | SKIPPED | +-------------------------------+--------------------+------------------+-------------------+-------------------------+----------------------+ | Ubuntu 24.04 | PASS | PASS | SKIPPED | SKIPPED | SKIPPED | +-------------------------------+--------------------+------------------+-------------------+-------------------------+----------------------+ | Alpine Linux 3.22.0 | PASS | SKIPPED | SKIPPED | SKIPPED | SKIPPED | +-------------------------------+--------------------+------------------+-------------------+-------------------------+----------------------+ | Windows Server 2022 | SKIPPED | SKIPPED | PASS | PASS | PASS | +-------------------------------+--------------------+------------------+-------------------+-------------------------+----------------------+ Ubuntu 20.04 Kernel: 4.19 Compiler: gcc gcc (Ubuntu 9.4.0-1ubuntu1~20.04.2) 9.4.0 FreeBSD 14.2 Kernel: 14.2-RELEASE Compiler: clang 18.1.6 Fedora Linux 42 Kernel: 5.15 Compiler: gcc gcc (GCC) 15.2.1 20250808 (Red Hat 15.2.1-1) CentOS Stream 10 Kernel: 5.15 Compiler: gcc gcc (GCC) 14.2.1 20250110 (Red Hat 14.2.1-8) CentOS Stream 9 Kernel: 5.15 Compiler: gcc gcc (GCC) 11.5.0 20240719 (Red Hat 11.5.0-11) Debian GNU/Linux 12 Kernel: 5.15 Compiler: gcc gcc (Debian 12.2.0-14+deb12u1) 12.2.0 openSUSE Leap 15.6 Kernel: 5.15 Compiler: gcc gcc (SUSE Linux) 7.5.0 Ubuntu 22.04 Kernel: 5.15 Compiler: gcc gcc (Ubuntu 11.4.0-1ubuntu1~22.04) 11.4.0 Red Hat Enterprise Linux 8.10 Kernel: 5.15 Compiler: gcc gcc (GCC) 8.5.0 20210514 (Red Hat 8.5.0-22) Red Hat Enterprise Linux 9.5 Kernel: 5.15 Compiler: gcc gcc (GCC) 11.5.0 20240719 (Red Hat 11.5.0-2) Ubuntu 24.04 Kernel: 5.15 Compiler: gcc gcc (Ubuntu 13.3.0-6ubuntu2~24.04) 13.3.0 Alpine Linux 3.22.0 Kernel: 5.15 Compiler: gcc gcc (Alpine 14.2.0) 14.2.0 Windows Server 2022 Kernel: 10.0.20348.2031 Compiler: clang 15.0.7, gcc 14.1.0 (MinGW), and MSVC VS 19.39.33521 To view detailed results, visit: https://lab.dpdk.org/results/dashboard/patchsets/34529/ UNH-IOL DPDK Community Lab To manage your email subscriptions, visit: https://lab.dpdk.org/results/dashboard/preferences/subscriptions/