From mboxrd@z Thu Jan 1 00:00:00 1970 Return-Path: Received: from mails.dpdk.org (mails.dpdk.org [217.70.189.124]) by inbox.dpdk.org (Postfix) with ESMTP id 115C748AF6 for ; Thu, 13 Nov 2025 07:58:16 +0100 (CET) Received: from mails.dpdk.org (localhost [127.0.0.1]) by mails.dpdk.org (Postfix) with ESMTP id 0AD984003C; Thu, 13 Nov 2025 07:58:16 +0100 (CET) Received: from mail-pl1-f225.google.com (mail-pl1-f225.google.com [209.85.214.225]) by mails.dpdk.org (Postfix) with ESMTP id 3141E4003C for ; Thu, 13 Nov 2025 07:58:14 +0100 (CET) Received: by mail-pl1-f225.google.com with SMTP id d9443c01a7336-29812589890so5682605ad.3 for ; Wed, 12 Nov 2025 22:58:14 -0800 (PST) DKIM-Signature: v=1; a=rsa-sha256; c=relaxed/relaxed; d=iol.unh.edu; s=unh-iol; t=1763017093; x=1763621893; darn=dpdk.org; h=cc:to:from:subject:message-id:date:from:to:cc:subject:date :message-id:reply-to; bh=P2ecE8HEdhdJnq/Ag1/krtI6rSCsVGmSOreuqi8MYJo=; b=Gv7B2jm4vBtc5gzv+S0wvu/Z3YlR35/Mz7GAIYTYK0g8eV8F6ukJVNBAkezPQCuMsr +MVAdSVvIzSGvoN7RrciZagqcjo32BTvzL0QAmtMEOx/SiFFnZubVsJRZXVDoXN+z4Is cMLt0kItomL2/bDZlg+5N2ntNxbxbdGC6rC2M= X-Google-DKIM-Signature: v=1; a=rsa-sha256; c=relaxed/relaxed; d=1e100.net; s=20230601; t=1763017093; x=1763621893; h=cc:to:from:subject:message-id:date:x-gm-gg:x-gm-message-state:from :to:cc:subject:date:message-id:reply-to; bh=P2ecE8HEdhdJnq/Ag1/krtI6rSCsVGmSOreuqi8MYJo=; b=WYzKY6blCYPKmoH3uy2cdwXDwVtpwmE0USyraPqd6X0BqQh8opSHwE8LnGtnn4km3I 2gM5VMnU0dwCHR3xP0r/N5rwXs34rt5UdoJm6SPkVN1rzCthKG/O3K1NPcK8uStjVmJQ N4qrc1YULRBR2IQJ66OoukAIKxxZOTlW8GM5J+Qdp65QSDaI9jYvwEcD85jbSoJdCRQN HJRvnbOg2OIaDllfTVb6D5genTgZoawzyOOEl4JA+myYX8DjQATsOy5CmxDnt2nfIJDv +YNXs0TPCWSA9Cmd16HxugUTGNNcZjl6OQ19Tb/daf/gH3AVvOWxq2M3Tt+Vsko8A2dF wCxQ== X-Gm-Message-State: AOJu0YyIBI54sgVd19YIllJ9ppCqbKzWqRYWXuotCtwOUf1VcBhCajMR LuB8y/hBoY9ZWczsm4VriBdo7ZmcAtmHrh6ZBLTMU54kI1hCSCwlEUnolBVs9JBeXVWwP9BJQYh IriuButoDHgx+U3f0mSzGcNqVTdNBXR92w0T0 X-Gm-Gg: ASbGncuBx7iNptzda1xg3Ty4fKrgUihmMbXVvIP9dmtmumg3lU+A+44F3pA0bX++zB4 f8dLO1dXJwCJzRxeQ0lgCG/qi48P/jWJi4DkeGnv38OoVgE8gxfUVzCShW+BfahDkZon43mB48t kHY7TTk+T/AyJ/l0KMBp9hU86tOzu1N66lAvwQH2NMraGmoLihPBCl0qyiGGfaIaA6Y5FJEfg8F O2aUiz+eCtTmyVt7XSG/2TztKLAxF3JmvY3eD5+yo+5n6kKZeUK6zMUUb+xWkydGFS8DjaTypXQ sR/AN0SSqDxbef7J/tgGhW5bTpdzrXQA5TYgfhhE82ZBRJAyDW65t7pWQ/Ej5O67pVsApwrnFqr LwAFhyrDqdDhSI7b3MkrcN0yWgN6Fbuo= X-Google-Smtp-Source: AGHT+IFCrzEEbEhmWHU3Q/LvrH3YeAkXzLjKF+OHc48hBkBzKKu1QXhGxSQx9rzHp31qyNrV+M5MZYXXpGZE X-Received: by 2002:a17:903:4407:b0:295:1e92:6b6d with SMTP id d9443c01a7336-2984edcaf47mr82274185ad.46.1763017093274; Wed, 12 Nov 2025 22:58:13 -0800 (PST) Received: from postal.iol.unh.edu (postal.iol.unh.edu. [132.177.123.84]) by smtp-relay.gmail.com with ESMTPS id d9443c01a7336-2985c2a8b5dsm1336695ad.39.2025.11.12.22.58.13 (version=TLS1_2 cipher=ECDHE-ECDSA-AES128-GCM-SHA256 bits=128/128); Wed, 12 Nov 2025 22:58:13 -0800 (PST) X-Relaying-Domain: iol.unh.edu Date: Wed, 12 Nov 2025 22:58:13 -0800 (PST) Message-ID: <69158185.170a0220.13db6.7416SMTPIN_ADDED_MISSING@mx.google.com> Received: from [172.21.0.2] (unknown [172.18.0.240]) by postal.iol.unh.edu (Postfix) with ESMTP id BF0D16051830; Thu, 13 Nov 2025 01:58:12 -0500 (EST) Subject: |SUCCESS| [GIT MASTER] 0bd935abcb823f581ce53986986aa54eaf6f8140 From: dpdklab@iol.unh.edu To: Test Report Cc: dpdk-test-reports@iol.unh.edu, Xueming Li , Christian Ehrhardt , Kevin Traynor , Luca Boccassi Content-Type: text/plain X-BeenThere: test-report@dpdk.org X-Mailman-Version: 2.1.29 Precedence: list List-Id: automatic DPDK test reports List-Unsubscribe: , List-Archive: List-Post: List-Help: List-Subscribe: , Errors-To: test-report-bounces@dpdk.org _Testing PASS_ Branch: tags/v24.11 0bd935abcb823f581ce53986986aa54eaf6f8140 --> testing pass Upstream job id: Generic-Unit-Test-DPDK#391789 Test environment and result as below: +-------------------------------+----------------+ | Environment | dpdk_unit_test | +===============================+================+ | CentOS Stream 9 | PASS | +-------------------------------+----------------+ | Debian GNU/Linux 12 | PASS | +-------------------------------+----------------+ | CentOS Stream 10 | PASS | +-------------------------------+----------------+ | Fedora Linux 40 | PASS | +-------------------------------+----------------+ | Fedora Linux 41 | PASS | +-------------------------------+----------------+ | Red Hat Enterprise Linux 9.5 | PASS | +-------------------------------+----------------+ | Ubuntu 22.04 | PASS | +-------------------------------+----------------+ | Ubuntu 20.04 | PASS | +-------------------------------+----------------+ | Red Hat Enterprise Linux 8.10 | PASS | +-------------------------------+----------------+ | Fedora Linux 42 | PASS | +-------------------------------+----------------+ | Ubuntu 24.04 | PASS | +-------------------------------+----------------+ CentOS Stream 9 Kernel: 5.15 Compiler: gcc gcc (GCC) 11.5.0 20240719 (Red Hat 11.5.0-11) Debian GNU/Linux 12 Kernel: 5.15 Compiler: gcc gcc (Debian 12.2.0-14+deb12u1) 12.2.0 CentOS Stream 10 Kernel: 5.15 Compiler: gcc gcc (GCC) 14.2.1 20250110 (Red Hat 14.2.1-8) Fedora Linux 40 Kernel: 5.15 Compiler: gcc gcc (GCC) 14.2.1 20240912 (Red Hat 14.2.1-3) Fedora Linux 41 Kernel: 5.15 Compiler: clang gcc (GCC) 14.3.1 20250523 (Red Hat 14.3.1-1) Red Hat Enterprise Linux 9.5 Kernel: 5.15 Compiler: gcc gcc (GCC) 11.5.0 20240719 (Red Hat 11.5.0-2) Ubuntu 22.04 Kernel: 5.15 Compiler: gcc gcc (Ubuntu 11.4.0-1ubuntu1~22.04) 11.4.0 Ubuntu 20.04 Kernel: 5.15 Compiler: gcc gcc (Ubuntu 9.4.0-1ubuntu1~20.04.2) 9.4.0 Red Hat Enterprise Linux 8.10 Kernel: 5.15 Compiler: gcc gcc (GCC) 8.5.0 20210514 (Red Hat 8.5.0-22) Fedora Linux 42 Kernel: 5.15 Compiler: clang gcc (GCC) 15.2.1 20250808 (Red Hat 15.2.1-1) Ubuntu 24.04 Kernel: 5.15 Compiler: gcc gcc (Ubuntu 13.3.0-6ubuntu2~24.04) 13.3.0 To view detailed results, visit: https://lab.dpdk.org/results/dashboard/tarballs/35565/ UNH-IOL DPDK Community Lab To manage your email subscriptions, visit: https://lab.dpdk.org/results/dashboard/preferences/subscriptions/