From mboxrd@z Thu Jan 1 00:00:00 1970 Return-Path: Received: from mails.dpdk.org (mails.dpdk.org [217.70.189.124]) by inbox.dpdk.org (Postfix) with ESMTP id 7097B48AF7 for ; Thu, 13 Nov 2025 08:01:19 +0100 (CET) Received: from mails.dpdk.org (localhost [127.0.0.1]) by mails.dpdk.org (Postfix) with ESMTP id 4E5974003C; Thu, 13 Nov 2025 08:01:19 +0100 (CET) Received: from mail-pj1-f100.google.com (mail-pj1-f100.google.com [209.85.216.100]) by mails.dpdk.org (Postfix) with ESMTP id D05ED4003C for ; Thu, 13 Nov 2025 08:01:17 +0100 (CET) Received: by mail-pj1-f100.google.com with SMTP id 98e67ed59e1d1-3438d4ae152so593252a91.1 for ; Wed, 12 Nov 2025 23:01:17 -0800 (PST) DKIM-Signature: v=1; a=rsa-sha256; c=relaxed/relaxed; d=iol.unh.edu; s=unh-iol; t=1763017277; x=1763622077; darn=dpdk.org; h=references:in-reply-to:cc:to:from:subject:message-id:date:from:to :cc:subject:date:message-id:reply-to; bh=BrKKOzr9mdDd70uSZs41oWkOB8T5YTt5kWyqww05oII=; b=BMq5sEGdsjwPJ/81ugu7ZIs+AOyc8/QEHGI9n4pdn/nA4KgjsTnaHjFxkDwfkovsVQ 6gCdc+/XDtmt/ayVyGNathkthFCNcsndq1qu/Ly5Xhrkyo9gD2LcEa+17XNCp+defqjl Xpz68rmDCwyK10aIJB/kkI8yq2dtX5H2N47Co= X-Google-DKIM-Signature: v=1; a=rsa-sha256; c=relaxed/relaxed; d=1e100.net; s=20230601; t=1763017277; x=1763622077; h=references:in-reply-to:cc:to:from:subject:message-id:date:x-gm-gg :x-gm-message-state:from:to:cc:subject:date:message-id:reply-to; bh=BrKKOzr9mdDd70uSZs41oWkOB8T5YTt5kWyqww05oII=; b=uPVvqhPBCjB6eZJgunbV3+BGCJ0oqHT6lAw6MI4IhfDvTgNmDzPdaaHxi7XypGNNav qeKL6y+tzX5Qfa+3+wmkCXidHMrIPdYC9bFZiObQSbdZk24eUJlGaYrX8kIrUwgYp4O4 pJQaPh6u0gU80svWLcpOdR8zW3rk98vXpR6yRofYI0V2961ZpyXru+qpdBh8nKaYLIUI NN844r+adBvWjqTrtGWozzU2JfMtvzedw3te4H873jZERU5fJklphHzAPeSBBw7f+mUJ ovvJvjjVBf/YJxTvg2As2u/UzDBOGQSx8zTpXiJcy3rOYOf+O3tUoytJAvAF+5DngfEI aLAQ== X-Gm-Message-State: AOJu0Yzh/gIJqiDnywVWGnW6DXv2lI0YGixgRCpCSfk8y0hI8TpWDzq5 BBSDxADNfjk30bUYGXLKwJKOhu+wnuJg4f1nDAV/tWtp7tHBAvRTd5v5q8HJogLYBqpTTltJHPv qXMFtTnzGlADV1F4z3Di/WTJX5fVxSTJPfvY/qJinEVkM X-Gm-Gg: ASbGncs3VtmOHvRN0jdP5z8Blp7Xl2w1kpd5R707W+hfV+7hNVvr8VsGiXYWkj30b03 6HxmO4CEmxPKTn0c8tNXFlVpmgARoeHZeUMP8G5FmQeVNSnzPNzef+ip4Htunf0cHk6uGyv2ve5 +u4gG6G8rv/TJT8PhaIEPVBUeSVewDetAfoxaBjrl6PnOWn+xTVrVTIOxJguaxuV5ypauragNX4 BJQgNRnSPsI9rDufI1MUzWuAengOxrMW9UcqZjqhJ4cXS0yofwfdVK1w8cEkiLXyZfyg+ui9dIC xOQnxaLMtzbAr8J81RvyD9sPygIaTKq7tmMjHNhdObS4CKsNBid5tBbeI00803OXRzCOYXrnk4v k8/BBuLVTBafiOgNDrXsk3kJgs6rGozk= X-Google-Smtp-Source: AGHT+IEkX/NbVZIZBr0H3nc5Ul8GQD8pnHxNwch8ZKEenFjcENNbWRXBBtYXU+pU4wFxx2Gg6HlWE+iD715Z X-Received: by 2002:a17:90b:2f0b:b0:340:cb39:74cd with SMTP id 98e67ed59e1d1-343ddeaf400mr6438855a91.32.1763017276978; Wed, 12 Nov 2025 23:01:16 -0800 (PST) Received: from postal.iol.unh.edu (postal.iol.unh.edu. [132.177.123.84]) by smtp-relay.gmail.com with ESMTPS id 98e67ed59e1d1-343ed4c95d5sm153919a91.2.2025.11.12.23.01.16 (version=TLS1_2 cipher=ECDHE-ECDSA-AES128-GCM-SHA256 bits=128/128); Wed, 12 Nov 2025 23:01:16 -0800 (PST) X-Relaying-Domain: iol.unh.edu Date: Wed, 12 Nov 2025 23:01:16 -0800 (PST) Message-ID: <6915823c.170a0220.1a1beb.80a1SMTPIN_ADDED_MISSING@mx.google.com> Received: from [172.21.0.2] (unknown [172.18.0.240]) by postal.iol.unh.edu (Postfix) with ESMTP id 04BBB6051830; Thu, 13 Nov 2025 02:01:16 -0500 (EST) Subject: |SUCCESS| pw158663-158667 [PATCH] [v4,5/5] vhost_user: Increase numb From: dpdklab@iol.unh.edu To: Test Report Cc: dpdk-test-reports@iol.unh.edu, Chenbo Xia , Maxime Coquelin In-Reply-To: <20251111114521.2902867-6-pravin.bathija@dell.com> References: <20251111114521.2902867-6-pravin.bathija@dell.com> Content-Type: text/plain X-BeenThere: test-report@dpdk.org X-Mailman-Version: 2.1.29 Precedence: list List-Id: automatic DPDK test reports List-Unsubscribe: , List-Archive: List-Post: List-Help: List-Subscribe: , Errors-To: test-report-bounces@dpdk.org Test-Label: iol-unit-amd64-testing Test-Status: SUCCESS http://dpdk.org/patch/158667 _Testing PASS_ Submitter: Bathija, Pravin Date: Tuesday, November 11 2025 11:45:21 DPDK git baseline: Repo:dpdk-next-virtio Branch: master CommitID:6b37c26a95388aa41bb5267c7c42f604fd571a38 158663-158667 --> testing pass Upstream job id: Generic-VM-Unit-Test-DPDK#32463 Test environment and result as below: +-------------------------------+----------------+ | Environment | dpdk_unit_test | +===============================+================+ | CentOS Stream 9 | PASS | +-------------------------------+----------------+ | CentOS Stream 10 | PASS | +-------------------------------+----------------+ | Debian GNU/Linux 12 | PASS | +-------------------------------+----------------+ | Fedora Linux 40 | PASS | +-------------------------------+----------------+ | Fedora Linux 42 | PASS | +-------------------------------+----------------+ | Fedora Linux 41 | PASS | +-------------------------------+----------------+ | Red Hat Enterprise Linux 8.10 | PASS | +-------------------------------+----------------+ | Red Hat Enterprise Linux 9.5 | PASS | +-------------------------------+----------------+ | Ubuntu 22.04 | PASS | +-------------------------------+----------------+ | Ubuntu 24.04 | PASS | +-------------------------------+----------------+ | Ubuntu 20.04 | PASS | +-------------------------------+----------------+ | Windows Server 2022 | PASS | +-------------------------------+----------------+ CentOS Stream 9 Kernel: 5.15 Compiler: gcc gcc (GCC) 11.5.0 20240719 (Red Hat 11.5.0-11) CentOS Stream 10 Kernel: 5.15 Compiler: gcc gcc (GCC) 14.2.1 20250110 (Red Hat 14.2.1-8) Debian GNU/Linux 12 Kernel: 5.15 Compiler: gcc gcc (Debian 12.2.0-14+deb12u1) 12.2.0 Fedora Linux 40 Kernel: 5.15 Compiler: gcc gcc (GCC) 14.2.1 20240912 (Red Hat 14.2.1-3) Fedora Linux 42 Kernel: 5.15 Compiler: gcc gcc (GCC) 15.2.1 20250808 (Red Hat 15.2.1-1) Fedora Linux 41 Kernel: 5.15 Compiler: gcc gcc (GCC) 14.3.1 20250523 (Red Hat 14.3.1-1) Red Hat Enterprise Linux 8.10 Kernel: 5.15 Compiler: gcc gcc (GCC) 8.5.0 20210514 (Red Hat 8.5.0-22) Red Hat Enterprise Linux 9.5 Kernel: 5.15 Compiler: gcc gcc (GCC) 11.5.0 20240719 (Red Hat 11.5.0-2) Ubuntu 22.04 Kernel: 5.15 Compiler: gcc gcc (Ubuntu 11.4.0-1ubuntu1~22.04) 11.4.0 Ubuntu 24.04 Kernel: 5.15 Compiler: gcc gcc (Ubuntu 13.3.0-6ubuntu2~24.04) 13.3.0 Ubuntu 20.04 Kernel: 5.15 Compiler: gcc gcc (Ubuntu 9.4.0-1ubuntu1~20.04.2) 9.4.0 Windows Server 2022 Kernel: 10.0.20348.2031 Compiler: clang 15.0.7, gcc 14.1.0 (MinGW), and MSVC VS 19.39.33521 To view detailed results, visit: https://lab.dpdk.org/results/dashboard/patchsets/34535/ UNH-IOL DPDK Community Lab To manage your email subscriptions, visit: https://lab.dpdk.org/results/dashboard/preferences/subscriptions/