From mboxrd@z Thu Jan 1 00:00:00 1970 Return-Path: Received: from mails.dpdk.org (mails.dpdk.org [217.70.189.124]) by inbox.dpdk.org (Postfix) with ESMTP id 9B7DF48AF2 for ; Thu, 13 Nov 2025 08:25:43 +0100 (CET) Received: from mails.dpdk.org (localhost [127.0.0.1]) by mails.dpdk.org (Postfix) with ESMTP id 9755140DCD; Thu, 13 Nov 2025 08:25:43 +0100 (CET) Received: from mail-pg1-f225.google.com (mail-pg1-f225.google.com [209.85.215.225]) by mails.dpdk.org (Postfix) with ESMTP id 497584003C for ; Thu, 13 Nov 2025 08:25:39 +0100 (CET) Received: by mail-pg1-f225.google.com with SMTP id 41be03b00d2f7-b9a5b5b47bfso283692a12.1 for ; Wed, 12 Nov 2025 23:25:39 -0800 (PST) DKIM-Signature: v=1; a=rsa-sha256; c=relaxed/relaxed; d=iol.unh.edu; s=unh-iol; t=1763018738; x=1763623538; darn=dpdk.org; h=references:in-reply-to:cc:to:from:subject:message-id:date:from:to :cc:subject:date:message-id:reply-to; bh=u5oHxpiqNTGs/Yhl1xOK53dlUaBku4bxUBVJXlrWkRo=; b=VkZDSjwHwzIaofJ/zx51A+tH2lVcMYzIkwt+ia2qQCwZhbGbrSRJF4UjKRUIAAqAr7 rVvO2RdSxm/knC82tkHDVCiKREG/U+ma/+Kwj3a13qKfUIUrSv3HguBMkpHLd5eq83Tp c4G27BxiEfZT3keMn4yfvI0fRsXpYZqW380hk= X-Google-DKIM-Signature: v=1; a=rsa-sha256; c=relaxed/relaxed; d=1e100.net; s=20230601; t=1763018738; x=1763623538; h=references:in-reply-to:cc:to:from:subject:message-id:date:x-gm-gg :x-gm-message-state:from:to:cc:subject:date:message-id:reply-to; bh=u5oHxpiqNTGs/Yhl1xOK53dlUaBku4bxUBVJXlrWkRo=; b=ELjR4PzMFmhuV/8B5dcrt2Cs0G7g62pWjRMbCwi9J7zCD3kW6bSiK/0BSu3rJmoKZW 1DfhexYHckm5aj7f06LMn6oDC/GfyEI2eYsO/h1spcPdX+wXoQper0l1TJMIvR9OL1GL F19Uas8NZOAKxAVc2MkdczU7DpZfwdmg4cVWmcmQFbwDcE69InA0+26BXNAmJv3D39+i ZboAo6lJSBsMwWj54c2yBqwCya0o4k9wOUzEflD7B6/bWkpIyv8Az69mdYeEF+UimIyU tltrlItDKsm0x17quOGTSkXS8An5NISZBkn3AYxHJGJY2vy0mOs0LZOXMV5qTPkrk4l3 U9eQ== X-Gm-Message-State: AOJu0YzfG4XkYI5VRU6nNnXQ9vt/drAet5igGobajPjaSMERncPvQ8rC tjFOHsvfr0l4lZlXSUa4TFUh8jsgRDU6BCCtDuRmjERUtVcCMMdibt45tqYRsmzlv5l8hpENUu6 Ax1GYAuTwbB0Aye7vYzYc9orGqc8Tehgkl7IrBu2m5an3cL565eI3ktsYY95C X-Gm-Gg: ASbGncsz166BjB1ZnJbCr9wqBo7jURonFD2nmibwntBVrkJMzaArPoCRRtRgq8sjZuT kj06O/DYAUth3ryGgVmqTkUf3HrxOxjsEqKs0pUV17npRbBva3AckB8BbBVjNAfp3ideaR6dRqK sO4LUFc71jxkAznYfDuhxWR3v+/PG05QUUB/LQujy4AfrcwCYsPOcMHtwGgkkg2SAdQBftsSTiL Tr5OIBzB7J10uoh9Xloyuf6lwhFexPlItRRTlAPsy2JE+gx9/59uld3JJLvKZA5xnBoM1r8vmPK 5el0zET8pdhsWtpenJMeySs3we0UnrHjgNowW/gh0r63VK27rLh6RTwI02MjTzxkpxaDQmuZDBD 2V3waYU5V X-Google-Smtp-Source: AGHT+IE+UaUdYLsvXYD3t86rrSUvqVv2UC2rBEhfqPsZIzVa2eVswlxEoeOyg69DkVoRvMXtj+wbwlUvvrmE X-Received: by 2002:a17:903:3c46:b0:295:560a:e474 with SMTP id d9443c01a7336-2984edacbedmr70195755ad.32.1763018738137; Wed, 12 Nov 2025 23:25:38 -0800 (PST) Received: from postal.iol.unh.edu (postal.iol.unh.edu. [2606:4100:3880:1234::84]) by smtp-relay.gmail.com with ESMTPS id d9443c01a7336-2985c2a8b2fsm1223985ad.30.2025.11.12.23.25.38 (version=TLS1_2 cipher=ECDHE-ECDSA-AES128-GCM-SHA256 bits=128/128); Wed, 12 Nov 2025 23:25:38 -0800 (PST) X-Relaying-Domain: iol.unh.edu Date: Wed, 12 Nov 2025 23:25:38 -0800 (PST) Message-ID: <691587f2.170a0220.38d01a.694eSMTPIN_ADDED_MISSING@mx.google.com> Received: from [172.21.0.4] (unknown [172.18.0.240]) by postal.iol.unh.edu (Postfix) with ESMTP id A26196051830; Thu, 13 Nov 2025 02:25:37 -0500 (EST) Subject: |SUCCESS| pw158663-158667 [PATCH] [v4,5/5] vhost_user: Increase numb From: dpdklab@iol.unh.edu To: Test Report Cc: dpdk-test-reports@iol.unh.edu, Chenbo Xia , Maxime Coquelin In-Reply-To: <20251111114521.2902867-6-pravin.bathija@dell.com> References: <20251111114521.2902867-6-pravin.bathija@dell.com> Content-Type: text/plain X-BeenThere: test-report@dpdk.org X-Mailman-Version: 2.1.29 Precedence: list List-Id: automatic DPDK test reports List-Unsubscribe: , List-Archive: List-Post: List-Help: List-Subscribe: , Errors-To: test-report-bounces@dpdk.org Test-Label: iol-unit-amd64-testing Test-Status: SUCCESS http://dpdk.org/patch/158667 _Testing PASS_ Submitter: Bathija, Pravin Date: Tuesday, November 11 2025 11:45:21 DPDK git baseline: Repo:dpdk-next-virtio Branch: master CommitID:6b37c26a95388aa41bb5267c7c42f604fd571a38 158663-158667 --> testing pass Upstream job id: Generic-VM-Unit-Test-DPDK#32464 Test environment and result as below: +-------------------------------+----------------+ | Environment | dpdk_unit_test | +===============================+================+ | CentOS Stream 9 | PASS | +-------------------------------+----------------+ | CentOS Stream 10 | PASS | +-------------------------------+----------------+ | Debian GNU/Linux 12 | PASS | +-------------------------------+----------------+ | Fedora Linux 40 | PASS | +-------------------------------+----------------+ | Fedora Linux 42 | PASS | +-------------------------------+----------------+ | Fedora Linux 41 | PASS | +-------------------------------+----------------+ | Red Hat Enterprise Linux 8.10 | PASS | +-------------------------------+----------------+ | Red Hat Enterprise Linux 9.5 | PASS | +-------------------------------+----------------+ | Ubuntu 22.04 | PASS | +-------------------------------+----------------+ | Ubuntu 24.04 | PASS | +-------------------------------+----------------+ | Ubuntu 20.04 | PASS | +-------------------------------+----------------+ | Windows Server 2022 | PASS | +-------------------------------+----------------+ CentOS Stream 9 Kernel: 5.15 Compiler: gcc gcc (GCC) 11.5.0 20240719 (Red Hat 11.5.0-11) CentOS Stream 10 Kernel: 5.15 Compiler: gcc gcc (GCC) 14.2.1 20250110 (Red Hat 14.2.1-8) Debian GNU/Linux 12 Kernel: 5.15 Compiler: gcc gcc (Debian 12.2.0-14+deb12u1) 12.2.0 Fedora Linux 40 Kernel: 5.15 Compiler: gcc gcc (GCC) 14.2.1 20240912 (Red Hat 14.2.1-3) Fedora Linux 42 Kernel: 5.15 Compiler: gcc gcc (GCC) 15.2.1 20250808 (Red Hat 15.2.1-1) Fedora Linux 41 Kernel: 5.15 Compiler: gcc gcc (GCC) 14.3.1 20250523 (Red Hat 14.3.1-1) Red Hat Enterprise Linux 8.10 Kernel: 5.15 Compiler: gcc gcc (GCC) 8.5.0 20210514 (Red Hat 8.5.0-22) Red Hat Enterprise Linux 9.5 Kernel: 5.15 Compiler: gcc gcc (GCC) 11.5.0 20240719 (Red Hat 11.5.0-2) Ubuntu 22.04 Kernel: 5.15 Compiler: gcc gcc (Ubuntu 11.4.0-1ubuntu1~22.04) 11.4.0 Ubuntu 24.04 Kernel: 5.15 Compiler: gcc gcc (Ubuntu 13.3.0-6ubuntu2~24.04) 13.3.0 Ubuntu 20.04 Kernel: 5.15 Compiler: gcc gcc (Ubuntu 9.4.0-1ubuntu1~20.04.2) 9.4.0 Windows Server 2022 Kernel: 10.0.20348.2031 Compiler: clang 15.0.7, gcc 14.1.0 (MinGW), and MSVC VS 19.39.33521 To view detailed results, visit: https://lab.dpdk.org/results/dashboard/patchsets/34535/ UNH-IOL DPDK Community Lab To manage your email subscriptions, visit: https://lab.dpdk.org/results/dashboard/preferences/subscriptions/