From: dpdklab@iol.unh.edu
To: Test Report <test-report@dpdk.org>
Cc: dpdk-test-reports@iol.unh.edu
Subject: |SUCCESS| pw158711-158712 [PATCH] [2/2] pdump: fix race in pdump dis
Date: Wed, 12 Nov 2025 23:29:59 -0800 (PST) [thread overview]
Message-ID: <691588f7.170a0220.1be898.74ccSMTPIN_ADDED_MISSING@mx.google.com> (raw)
In-Reply-To: <20251112200510.332651-2-stephen@networkplumber.org>
Test-Label: iol-compile-amd64-testing
Test-Status: SUCCESS
http://dpdk.org/patch/158712
_Testing PASS_
Submitter: Stephen Hemminger <stephen@networkplumber.org>
Date: Wednesday, November 12 2025 20:05:10
DPDK git baseline: Repo:dpdk
Branch: master
CommitID:be0112878b4fc3a1b918370ed2fe615c52039d77
158711-158712 --> testing pass
Upstream job id: Generic-DPDK-Compile-Meson#443599
Test environment and result as below:
+-------------------------------+--------------------+------------------+-------------------+
| Environment | dpdk_meson_compile | dpdk_compile_ovs | dpdk_msvc_compile |
+===============================+====================+==================+===================+
| CentOS Stream 9 | PASS | SKIPPED | SKIPPED |
+-------------------------------+--------------------+------------------+-------------------+
| CentOS Stream 10 | PASS | SKIPPED | SKIPPED |
+-------------------------------+--------------------+------------------+-------------------+
| Ubuntu 20.04 | PASS | SKIPPED | SKIPPED |
+-------------------------------+--------------------+------------------+-------------------+
| Debian GNU/Linux 12 | PASS | SKIPPED | SKIPPED |
+-------------------------------+--------------------+------------------+-------------------+
| FreeBSD 14.2 | PASS | SKIPPED | SKIPPED |
+-------------------------------+--------------------+------------------+-------------------+
| Fedora Linux 42 | PASS | PASS | SKIPPED |
+-------------------------------+--------------------+------------------+-------------------+
| openSUSE Leap 15.6 | PASS | SKIPPED | SKIPPED |
+-------------------------------+--------------------+------------------+-------------------+
| Red Hat Enterprise Linux 8.10 | PASS | SKIPPED | SKIPPED |
+-------------------------------+--------------------+------------------+-------------------+
| Red Hat Enterprise Linux 9.5 | PASS | SKIPPED | SKIPPED |
+-------------------------------+--------------------+------------------+-------------------+
| Ubuntu 22.04 | PASS | SKIPPED | SKIPPED |
+-------------------------------+--------------------+------------------+-------------------+
| Ubuntu 24.04 | PASS | PASS | SKIPPED |
+-------------------------------+--------------------+------------------+-------------------+
| Alpine Linux 3.22.0 | PASS | SKIPPED | SKIPPED |
+-------------------------------+--------------------+------------------+-------------------+
| Windows Server 2022 | SKIPPED | SKIPPED | PASS |
+-------------------------------+--------------------+------------------+-------------------+
CentOS Stream 9
Kernel: 5.15
Compiler: gcc gcc (GCC) 11.5.0 20240719 (Red Hat 11.5.0-11)
CentOS Stream 10
Kernel: 5.15
Compiler: gcc gcc (GCC) 14.2.1 20250110 (Red Hat 14.2.1-8)
Ubuntu 20.04
Kernel: 4.19
Compiler: gcc gcc (Ubuntu 9.4.0-1ubuntu1~20.04.2) 9.4.0
Debian GNU/Linux 12
Kernel: 5.15
Compiler: gcc gcc (Debian 12.2.0-14+deb12u1) 12.2.0
FreeBSD 14.2
Kernel: 14.2-RELEASE
Compiler: clang 18.1.6
Fedora Linux 42
Kernel: 5.15
Compiler: clang gcc (GCC) 15.2.1 20250808 (Red Hat 15.2.1-1)
openSUSE Leap 15.6
Kernel: 5.15
Compiler: gcc gcc (SUSE Linux) 7.5.0
Red Hat Enterprise Linux 8.10
Kernel: 5.15
Compiler: gcc gcc (GCC) 8.5.0 20210514 (Red Hat 8.5.0-22)
Red Hat Enterprise Linux 9.5
Kernel: 5.15
Compiler: gcc gcc (GCC) 11.5.0 20240719 (Red Hat 11.5.0-2)
Ubuntu 22.04
Kernel: 5.15
Compiler: gcc gcc (Ubuntu 11.4.0-1ubuntu1~22.04) 11.4.0
Ubuntu 24.04
Kernel: 5.15
Compiler: gcc gcc (Ubuntu 13.3.0-6ubuntu2~24.04) 13.3.0
Alpine Linux 3.22.0
Kernel: 5.15
Compiler: gcc gcc (Alpine 14.2.0) 14.2.0
Windows Server 2022
Kernel: 10.0.20348.2031
Compiler: clang 15.0.7, gcc 14.1.0 (MinGW), and MSVC VS 19.39.33521
To view detailed results, visit:
https://lab.dpdk.org/results/dashboard/patchsets/34560/
UNH-IOL DPDK Community Lab
To manage your email subscriptions, visit:
https://lab.dpdk.org/results/dashboard/preferences/subscriptions/
prev parent reply other threads:[~2025-11-13 7:30 UTC|newest]
Thread overview: 21+ messages / expand[flat|nested] mbox.gz Atom feed top
[not found] <20251112200510.332651-2-stephen@networkplumber.org>
2025-11-12 19:31 ` |SUCCESS| pw158711-158712 [PATCH 2/2] pdump: fix race in pdump disabling qemudev
2025-11-12 19:36 ` qemudev
2025-11-12 20:06 ` |SUCCESS| pw158712 " checkpatch
2025-11-13 1:51 ` |PENDING| pw158711-158712 [PATCH] [2/2] pdump: fix race in pdump dis dpdklab
2025-11-13 1:52 ` |SUCCESS| " dpdklab
2025-11-13 1:53 ` |PENDING| " dpdklab
2025-11-13 1:58 ` |SUCCESS| " dpdklab
2025-11-13 2:02 ` |PENDING| " dpdklab
2025-11-13 2:04 ` dpdklab
2025-11-13 2:15 ` |SUCCESS| " dpdklab
2025-11-13 2:15 ` dpdklab
2025-11-13 2:19 ` dpdklab
2025-11-13 2:27 ` dpdklab
2025-11-13 2:37 ` dpdklab
2025-11-13 2:51 ` dpdklab
2025-11-13 2:59 ` dpdklab
2025-11-13 3:07 ` |SUCCESS| pw158712 [PATCH 2/2] pdump: fix race in pdump disabling 0-day Robot
2025-11-13 3:07 ` 0-day Robot
2025-11-13 5:26 ` |SUCCESS| pw158711-158712 [PATCH] [2/2] pdump: fix race in pdump dis dpdklab
2025-11-13 6:34 ` |PENDING| " dpdklab
2025-11-13 7:29 ` dpdklab [this message]
Reply instructions:
You may reply publicly to this message via plain-text email
using any one of the following methods:
* Save the following mbox file, import it into your mail client,
and reply-to-all from there: mbox
Avoid top-posting and favor interleaved quoting:
https://en.wikipedia.org/wiki/Posting_style#Interleaved_style
* Reply using the --to, --cc, and --in-reply-to
switches of git-send-email(1):
git send-email \
--in-reply-to=691588f7.170a0220.1be898.74ccSMTPIN_ADDED_MISSING@mx.google.com \
--to=dpdklab@iol.unh.edu \
--cc=dpdk-test-reports@iol.unh.edu \
--cc=test-report@dpdk.org \
/path/to/YOUR_REPLY
https://kernel.org/pub/software/scm/git/docs/git-send-email.html
* If your mail client supports setting the In-Reply-To header
via mailto: links, try the mailto: link
Be sure your reply has a Subject: header at the top and a blank line
before the message body.
This is a public inbox, see mirroring instructions
for how to clone and mirror all data and code used for this inbox;
as well as URLs for NNTP newsgroup(s).