From mboxrd@z Thu Jan 1 00:00:00 1970 Return-Path: Received: from mails.dpdk.org (mails.dpdk.org [217.70.189.124]) by inbox.dpdk.org (Postfix) with ESMTP id 34FE048AF2 for ; Thu, 13 Nov 2025 08:30:01 +0100 (CET) Received: from mails.dpdk.org (localhost [127.0.0.1]) by mails.dpdk.org (Postfix) with ESMTP id 308CA4003C; Thu, 13 Nov 2025 08:30:01 +0100 (CET) Received: from mail-pl1-f228.google.com (mail-pl1-f228.google.com [209.85.214.228]) by mails.dpdk.org (Postfix) with ESMTP id 8F1CC4003C for ; Thu, 13 Nov 2025 08:30:00 +0100 (CET) Received: by mail-pl1-f228.google.com with SMTP id d9443c01a7336-29812589890so5997135ad.3 for ; Wed, 12 Nov 2025 23:30:00 -0800 (PST) DKIM-Signature: v=1; a=rsa-sha256; c=relaxed/relaxed; d=iol.unh.edu; s=unh-iol; t=1763019000; x=1763623800; darn=dpdk.org; h=references:in-reply-to:cc:to:from:subject:message-id:date:from:to :cc:subject:date:message-id:reply-to; bh=ejGW6llKskZDuqQS64jFpIHs4EEdUcp1m6ipEwwihE4=; b=Z7yDqYP0elSqyAwnrJkCq+BniDqXhE8B/ExSW7hTfNFl35s5YvdYzeQxg1JzOxvsd+ AfAEXk69O4IoU4YqXhjVigcXCeOd1OOvNQga8dC0KestsigFeTrzgbG3aMjBQEbeFQkw V7S5ejxYzsUFuS7mHy53SwRWBZW4qGjhr4qII= X-Google-DKIM-Signature: v=1; a=rsa-sha256; c=relaxed/relaxed; d=1e100.net; s=20230601; t=1763019000; x=1763623800; h=references:in-reply-to:cc:to:from:subject:message-id:date:x-gm-gg :x-gm-message-state:from:to:cc:subject:date:message-id:reply-to; bh=ejGW6llKskZDuqQS64jFpIHs4EEdUcp1m6ipEwwihE4=; b=NdwTTrc2ib27Aw9aPc6xBQJvy2GQ3Xj57wX3lQECvsm2WAa+90aik41WwWPTtgtRUy y/Mj+pkL1nUKWhKa+63/ZCvRg28sVV7mYjqbuAryNQOfXl+tImWRR7Exq1xGyNrxLmZB nVN+Xqy+J1R9bMPHhBzaWoltSYb772Vm9VOvm5V5Khecr3UelTrj2tk5CYwx1FCdfBTV dnBQE+qBwGkf/fASum83ocNfsuSPtiEddjBQ7aq+obdeSKdlZ37v4Csvsl7aCiFRh2vo AJnjHYGWa2vTyGeS+qo2nZBQ8UTG7TW37TNM88cwPrjCeRuajhK/gDeKyVDzOFtTw8dV zbhw== X-Gm-Message-State: AOJu0YzD2247BAshni89BLLFLrCwwitDs5SkfM9edbvrGy5zjPwdAxCI U84Yu3nSwBZGSBYLB3YVeFpAo5uo5jrcB72pqCbbesE7Vh/ZUvl1Bdt1hZVwgC+z0kCZnngPyva vC9qhwA35F0nlmt/32kNfa9WiWuGIEjsunUiEJfAoHwDx X-Gm-Gg: ASbGnctHWg/p3ugSU26Erl3tQV/BhJ6lvcpBja8tntKJ3iy5tE9EqnqlzO72ifMsRTV zNOBAg/srUg74rOnyjvyL1R033VSfTWZx1TLvdlyrpkE5d5Qdc5TAm6j+uREdHa9rVshmnVWsqo phLMfyQyd4z9aKN1BZPtv3R1miM+/5YRAEwtYVcsdusYZUrEBJDYMR5N/G8eSo1Rbk3jacB0Vgx x4tVrJ/9cCb3zzw000MNUkwchOkHoUXlIOQv//GsWXUy9PAxi1pU6XbIsrK+0w9yIEFkw3Wl/1A 2QkGzyy7/rKJ8mzCdsQRLP8uE4fQYV8KJVI1X7keQUpSMiKCMt4Miemkx+lXPRUD08rLHEIAb+7 eu67FLbCs4IEl3BKDAYk0MWEouOCRyhg= X-Google-Smtp-Source: AGHT+IF3woThulwjXxrjTB8Gfy//MvKsC/fmnmeGJ4dg7PGMDQ6h4siZ0yZlStGr+R7HJScVfM88E+Tc+LGy X-Received: by 2002:a17:902:d4c3:b0:28e:756c:707e with SMTP id d9443c01a7336-2984eda94d4mr73326505ad.33.1763018999794; Wed, 12 Nov 2025 23:29:59 -0800 (PST) Received: from postal.iol.unh.edu (postal.iol.unh.edu. [132.177.123.84]) by smtp-relay.gmail.com with ESMTPS id d9443c01a7336-2985c245e1esm1422775ad.23.2025.11.12.23.29.59 (version=TLS1_2 cipher=ECDHE-ECDSA-AES128-GCM-SHA256 bits=128/128); Wed, 12 Nov 2025 23:29:59 -0800 (PST) X-Relaying-Domain: iol.unh.edu Date: Wed, 12 Nov 2025 23:29:59 -0800 (PST) Message-ID: <691588f7.170a0220.1be898.74ccSMTPIN_ADDED_MISSING@mx.google.com> Received: from [172.21.0.3] (unknown [172.18.0.240]) by postal.iol.unh.edu (Postfix) with ESMTP id 12D636051830; Thu, 13 Nov 2025 02:29:59 -0500 (EST) Subject: |SUCCESS| pw158711-158712 [PATCH] [2/2] pdump: fix race in pdump dis From: dpdklab@iol.unh.edu To: Test Report Cc: dpdk-test-reports@iol.unh.edu In-Reply-To: <20251112200510.332651-2-stephen@networkplumber.org> References: <20251112200510.332651-2-stephen@networkplumber.org> Content-Type: text/plain X-BeenThere: test-report@dpdk.org X-Mailman-Version: 2.1.29 Precedence: list List-Id: automatic DPDK test reports List-Unsubscribe: , List-Archive: List-Post: List-Help: List-Subscribe: , Errors-To: test-report-bounces@dpdk.org Test-Label: iol-compile-amd64-testing Test-Status: SUCCESS http://dpdk.org/patch/158712 _Testing PASS_ Submitter: Stephen Hemminger Date: Wednesday, November 12 2025 20:05:10 DPDK git baseline: Repo:dpdk Branch: master CommitID:be0112878b4fc3a1b918370ed2fe615c52039d77 158711-158712 --> testing pass Upstream job id: Generic-DPDK-Compile-Meson#443599 Test environment and result as below: +-------------------------------+--------------------+------------------+-------------------+ | Environment | dpdk_meson_compile | dpdk_compile_ovs | dpdk_msvc_compile | +===============================+====================+==================+===================+ | CentOS Stream 9 | PASS | SKIPPED | SKIPPED | +-------------------------------+--------------------+------------------+-------------------+ | CentOS Stream 10 | PASS | SKIPPED | SKIPPED | +-------------------------------+--------------------+------------------+-------------------+ | Ubuntu 20.04 | PASS | SKIPPED | SKIPPED | +-------------------------------+--------------------+------------------+-------------------+ | Debian GNU/Linux 12 | PASS | SKIPPED | SKIPPED | +-------------------------------+--------------------+------------------+-------------------+ | FreeBSD 14.2 | PASS | SKIPPED | SKIPPED | +-------------------------------+--------------------+------------------+-------------------+ | Fedora Linux 42 | PASS | PASS | SKIPPED | +-------------------------------+--------------------+------------------+-------------------+ | openSUSE Leap 15.6 | PASS | SKIPPED | SKIPPED | +-------------------------------+--------------------+------------------+-------------------+ | Red Hat Enterprise Linux 8.10 | PASS | SKIPPED | SKIPPED | +-------------------------------+--------------------+------------------+-------------------+ | Red Hat Enterprise Linux 9.5 | PASS | SKIPPED | SKIPPED | +-------------------------------+--------------------+------------------+-------------------+ | Ubuntu 22.04 | PASS | SKIPPED | SKIPPED | +-------------------------------+--------------------+------------------+-------------------+ | Ubuntu 24.04 | PASS | PASS | SKIPPED | +-------------------------------+--------------------+------------------+-------------------+ | Alpine Linux 3.22.0 | PASS | SKIPPED | SKIPPED | +-------------------------------+--------------------+------------------+-------------------+ | Windows Server 2022 | SKIPPED | SKIPPED | PASS | +-------------------------------+--------------------+------------------+-------------------+ CentOS Stream 9 Kernel: 5.15 Compiler: gcc gcc (GCC) 11.5.0 20240719 (Red Hat 11.5.0-11) CentOS Stream 10 Kernel: 5.15 Compiler: gcc gcc (GCC) 14.2.1 20250110 (Red Hat 14.2.1-8) Ubuntu 20.04 Kernel: 4.19 Compiler: gcc gcc (Ubuntu 9.4.0-1ubuntu1~20.04.2) 9.4.0 Debian GNU/Linux 12 Kernel: 5.15 Compiler: gcc gcc (Debian 12.2.0-14+deb12u1) 12.2.0 FreeBSD 14.2 Kernel: 14.2-RELEASE Compiler: clang 18.1.6 Fedora Linux 42 Kernel: 5.15 Compiler: clang gcc (GCC) 15.2.1 20250808 (Red Hat 15.2.1-1) openSUSE Leap 15.6 Kernel: 5.15 Compiler: gcc gcc (SUSE Linux) 7.5.0 Red Hat Enterprise Linux 8.10 Kernel: 5.15 Compiler: gcc gcc (GCC) 8.5.0 20210514 (Red Hat 8.5.0-22) Red Hat Enterprise Linux 9.5 Kernel: 5.15 Compiler: gcc gcc (GCC) 11.5.0 20240719 (Red Hat 11.5.0-2) Ubuntu 22.04 Kernel: 5.15 Compiler: gcc gcc (Ubuntu 11.4.0-1ubuntu1~22.04) 11.4.0 Ubuntu 24.04 Kernel: 5.15 Compiler: gcc gcc (Ubuntu 13.3.0-6ubuntu2~24.04) 13.3.0 Alpine Linux 3.22.0 Kernel: 5.15 Compiler: gcc gcc (Alpine 14.2.0) 14.2.0 Windows Server 2022 Kernel: 10.0.20348.2031 Compiler: clang 15.0.7, gcc 14.1.0 (MinGW), and MSVC VS 19.39.33521 To view detailed results, visit: https://lab.dpdk.org/results/dashboard/patchsets/34560/ UNH-IOL DPDK Community Lab To manage your email subscriptions, visit: https://lab.dpdk.org/results/dashboard/preferences/subscriptions/