From mboxrd@z Thu Jan 1 00:00:00 1970 Return-Path: Received: from mails.dpdk.org (mails.dpdk.org [217.70.189.124]) by inbox.dpdk.org (Postfix) with ESMTP id 17B0E48AF2 for ; Thu, 13 Nov 2025 08:39:35 +0100 (CET) Received: from mails.dpdk.org (localhost [127.0.0.1]) by mails.dpdk.org (Postfix) with ESMTP id 13D084003C; Thu, 13 Nov 2025 08:39:35 +0100 (CET) Received: from mail-qv1-f99.google.com (mail-qv1-f99.google.com [209.85.219.99]) by mails.dpdk.org (Postfix) with ESMTP id 44D364003C for ; Thu, 13 Nov 2025 08:39:34 +0100 (CET) Received: by mail-qv1-f99.google.com with SMTP id 6a1803df08f44-88249766055so5569916d6.1 for ; Wed, 12 Nov 2025 23:39:34 -0800 (PST) DKIM-Signature: v=1; a=rsa-sha256; c=relaxed/relaxed; d=iol.unh.edu; s=unh-iol; t=1763019573; x=1763624373; darn=dpdk.org; h=references:in-reply-to:cc:to:from:subject:message-id:date:from:to :cc:subject:date:message-id:reply-to; bh=wvvx3/qwzqgmI6os7N8LX1aBLKa1raC66jBpDtq0154=; b=jC9tuQXdI3C3ykQA74AYNgMhzRpG6Jsj3e3D6tN2vng8B9TPq19IG4nL6U+IvAJzHe j5zbd79cqNUMv1pzBSg4c/hqrtgGEO6Q9AuwyzxLB8SROs+mEikPM4eAmsVWV9AhEMlA T/MyZWw4kJG3h20a12FErB508lvQi5YlAzgL8= X-Google-DKIM-Signature: v=1; a=rsa-sha256; c=relaxed/relaxed; d=1e100.net; s=20230601; t=1763019573; x=1763624373; h=references:in-reply-to:cc:to:from:subject:message-id:date:x-gm-gg :x-gm-message-state:from:to:cc:subject:date:message-id:reply-to; bh=wvvx3/qwzqgmI6os7N8LX1aBLKa1raC66jBpDtq0154=; b=ByJnxkNViCpqsH0vykAN7rNGnLNsHMqIB1u1rkCbjTdWtWParM8tV1IuRBeJiZV53n e6rIA/72/o7PmqAbz9IXvf1x9ouh0eSDcbHOmzzY2e1ogb5WzHd7pHIyeE4Xy6Ojk8uY WlbgkG6fxXQ2DM/3zRNE4w4fP4M5v38thcs2QviHrfSEhff/r3civrmtRQiV7EH97ybC ctR2HeKJQPgBnU3yMyBXSBULWvS9vqSOkrA8aVqzw1HLKN1YWeHZbnhveSAxSr+165Dd 9DK98rAEM6NY7tw6bAxIR9UCyNPgBGpvgN1E2PrLOmFJuWR0wHeUNzC07fCbyvlQHooo 2YoA== X-Gm-Message-State: AOJu0YxvrLuSJ8MFzVVtzlPBR3W+OWeGQPz/9bG6wBx8BM/PUf0v125d k35zYRFkEk+9xadGn/xrpeuaBRrufxrpLhUFUaj85gs4HIaHxI/ABhhcVNhAg1fwNUXjUucU2rB NiaMlzwQZD8wZxyICcpUy8w5CnOgstTdisDpi7uP95A6+5ocMT4t+g5lNkYWj X-Gm-Gg: ASbGncsxCmRh34Fl5g41aSMfmYHtLANWEZ/IFwj0UGw+MAbcoguYMxsdktPAJlmmBMK voV5UFvxqRy//8O68IgdPbwSKJr/9+9CxlSzHDwyl4sfAVPpTTU3k6QaLnxXmp1oumRfQVNMXi1 N3ySASjOUEpdNwJNA9eiz7+BtqLm7aAsi2teRgNFKM/VtuKBMfl5DYL2tk1680bkTW9vkzMK+N8 LyMX3vV/sBu06R2O8GkUBpENAcfJ2S+SupZMtaNZ4Bd3PWsdSNE9O3M9geZB6fdxBMbDixfFMjo sGxFhxQXf8O6Edh1QXlev7TBwQyYzQHbAA5CuLgs1JKeUw3ahsEdTULHDsmJqIMhkERTEbBpvxV yWwWPdyxY X-Google-Smtp-Source: AGHT+IERTOxbl+aYj4EAVvQLXj6lahEHBuoqQQVTcrjKuQJaoFPJ5ZCkwVmnhDg3Z9DPV2RIvadX23POd+Go X-Received: by 2002:ad4:5968:0:b0:880:5851:3c49 with SMTP id 6a1803df08f44-882716eb461mr78184496d6.0.1763019573674; Wed, 12 Nov 2025 23:39:33 -0800 (PST) Received: from postal.iol.unh.edu (postal.iol.unh.edu. [2606:4100:3880:1234::84]) by smtp-relay.gmail.com with ESMTPS id 6a1803df08f44-882865b72d7sm1344606d6.34.2025.11.12.23.39.33 (version=TLS1_2 cipher=ECDHE-ECDSA-AES128-GCM-SHA256 bits=128/128); Wed, 12 Nov 2025 23:39:33 -0800 (PST) X-Relaying-Domain: iol.unh.edu Date: Wed, 12 Nov 2025 23:39:33 -0800 (PST) Message-ID: <69158b35.050a0220.228f10.6b76SMTPIN_ADDED_MISSING@mx.google.com> Received: from [172.21.0.3] (unknown [172.18.0.240]) by postal.iol.unh.edu (Postfix) with ESMTP id 5E8026051830; Thu, 13 Nov 2025 02:39:33 -0500 (EST) Subject: |SUCCESS| pw158669 [PATCH] [v2,1/1] eal: correct memory ordering in From: dpdklab@iol.unh.edu To: Test Report Cc: dpdk-test-reports@iol.unh.edu In-Reply-To: <20251111173850.790254-1-wathsala.vithanage@arm.com> References: <20251111173850.790254-1-wathsala.vithanage@arm.com> Content-Type: text/plain X-BeenThere: test-report@dpdk.org X-Mailman-Version: 2.1.29 Precedence: list List-Id: automatic DPDK test reports List-Unsubscribe: , List-Archive: List-Post: List-Help: List-Subscribe: , Errors-To: test-report-bounces@dpdk.org Test-Label: iol-compile-amd64-testing Test-Status: SUCCESS http://dpdk.org/patch/158669 _Testing PASS_ Submitter: Wathsala Vithanage Date: Tuesday, November 11 2025 17:38:50 DPDK git baseline: Repo:dpdk Branch: master CommitID:994644dcbdca1490bd831e4fd1d7d5b0b79d1874 158669 --> testing pass Upstream job id: Windows-Compile-DPDK-VS#7504 Test environment and result as below: +-------------------------------+--------------------+------------------+-------------------+ | Environment | dpdk_meson_compile | dpdk_compile_ovs | dpdk_msvc_compile | +===============================+====================+==================+===================+ | Ubuntu 20.04 | PASS | SKIPPED | SKIPPED | +-------------------------------+--------------------+------------------+-------------------+ | FreeBSD 14.2 | PASS | SKIPPED | SKIPPED | +-------------------------------+--------------------+------------------+-------------------+ | CentOS Stream 9 | PASS | SKIPPED | SKIPPED | +-------------------------------+--------------------+------------------+-------------------+ | CentOS Stream 10 | PASS | SKIPPED | SKIPPED | +-------------------------------+--------------------+------------------+-------------------+ | Debian GNU/Linux 12 | PASS | SKIPPED | SKIPPED | +-------------------------------+--------------------+------------------+-------------------+ | Fedora Linux 42 | PASS | PASS | SKIPPED | +-------------------------------+--------------------+------------------+-------------------+ | openSUSE Leap 15.6 | PASS | SKIPPED | SKIPPED | +-------------------------------+--------------------+------------------+-------------------+ | Red Hat Enterprise Linux 8.10 | PASS | SKIPPED | SKIPPED | +-------------------------------+--------------------+------------------+-------------------+ | Red Hat Enterprise Linux 9.5 | PASS | SKIPPED | SKIPPED | +-------------------------------+--------------------+------------------+-------------------+ | Ubuntu 22.04 | PASS | SKIPPED | SKIPPED | +-------------------------------+--------------------+------------------+-------------------+ | Ubuntu 24.04 | PASS | PASS | SKIPPED | +-------------------------------+--------------------+------------------+-------------------+ | Alpine Linux 3.22.0 | PASS | SKIPPED | SKIPPED | +-------------------------------+--------------------+------------------+-------------------+ | Windows Server 2022 | SKIPPED | SKIPPED | PASS | +-------------------------------+--------------------+------------------+-------------------+ Ubuntu 20.04 Kernel: 4.19 Compiler: gcc gcc (Ubuntu 9.4.0-1ubuntu1~20.04.2) 9.4.0 FreeBSD 14.2 Kernel: 14.2-RELEASE Compiler: clang 18.1.6 CentOS Stream 9 Kernel: 5.15 Compiler: gcc gcc (GCC) 11.5.0 20240719 (Red Hat 11.5.0-11) CentOS Stream 10 Kernel: 5.15 Compiler: gcc gcc (GCC) 14.2.1 20250110 (Red Hat 14.2.1-8) Debian GNU/Linux 12 Kernel: 5.15 Compiler: gcc gcc (Debian 12.2.0-14+deb12u1) 12.2.0 Fedora Linux 42 Kernel: 5.15 Compiler: clang gcc (GCC) 15.2.1 20250808 (Red Hat 15.2.1-1) openSUSE Leap 15.6 Kernel: 5.15 Compiler: gcc gcc (SUSE Linux) 7.5.0 Red Hat Enterprise Linux 8.10 Kernel: 5.15 Compiler: gcc gcc (GCC) 8.5.0 20210514 (Red Hat 8.5.0-22) Red Hat Enterprise Linux 9.5 Kernel: 5.15 Compiler: gcc gcc (GCC) 11.5.0 20240719 (Red Hat 11.5.0-2) Ubuntu 22.04 Kernel: 5.15 Compiler: gcc gcc (Ubuntu 11.4.0-1ubuntu1~22.04) 11.4.0 Ubuntu 24.04 Kernel: 5.15 Compiler: gcc gcc (Ubuntu 13.3.0-6ubuntu2~24.04) 13.3.0 Alpine Linux 3.22.0 Kernel: 5.15 Compiler: gcc gcc (Alpine 14.2.0) 14.2.0 Windows Server 2022 Kernel: 10.0.20348.2031 Compiler: clang 15.0.7, gcc 14.1.0 (MinGW), and MSVC VS 19.39.33521 To view detailed results, visit: https://lab.dpdk.org/results/dashboard/patchsets/34537/ UNH-IOL DPDK Community Lab To manage your email subscriptions, visit: https://lab.dpdk.org/results/dashboard/preferences/subscriptions/