From mboxrd@z Thu Jan 1 00:00:00 1970 Return-Path: Received: from mails.dpdk.org (mails.dpdk.org [217.70.189.124]) by inbox.dpdk.org (Postfix) with ESMTP id 5A60B48AF2 for ; Thu, 13 Nov 2025 08:40:51 +0100 (CET) Received: from mails.dpdk.org (localhost [127.0.0.1]) by mails.dpdk.org (Postfix) with ESMTP id 53DBB4003C; Thu, 13 Nov 2025 08:40:51 +0100 (CET) Received: from mail-il1-f227.google.com (mail-il1-f227.google.com [209.85.166.227]) by mails.dpdk.org (Postfix) with ESMTP id 018914003C for ; Thu, 13 Nov 2025 08:40:49 +0100 (CET) Received: by mail-il1-f227.google.com with SMTP id e9e14a558f8ab-434709e7cc9so2956225ab.1 for ; Wed, 12 Nov 2025 23:40:49 -0800 (PST) DKIM-Signature: v=1; a=rsa-sha256; c=relaxed/relaxed; d=iol.unh.edu; s=unh-iol; t=1763019649; x=1763624449; darn=dpdk.org; h=references:in-reply-to:cc:to:from:subject:message-id:date:from:to :cc:subject:date:message-id:reply-to; bh=hfTiIClGXGk8LuNvJIFePG1GBrF9h1GuTyTEb+zO0GQ=; b=Acv2aKFmPBlPBz96HEQ35dpCn78BCtLU+l3CXUs7njapsxOZPmY+HXTOJ5sI7mRGV+ NDFnTROL/XSaInL77I+FkadjiN6Sa4O6Fv496dlKdZaVrMO5c/r6zCRgT463WihX6lox alGXO8QtlfLfR1FIsKdcCwyn1IRvRYmRiX/6k= X-Google-DKIM-Signature: v=1; a=rsa-sha256; c=relaxed/relaxed; d=1e100.net; s=20230601; t=1763019649; x=1763624449; h=references:in-reply-to:cc:to:from:subject:message-id:date:x-gm-gg :x-gm-message-state:from:to:cc:subject:date:message-id:reply-to; bh=hfTiIClGXGk8LuNvJIFePG1GBrF9h1GuTyTEb+zO0GQ=; b=Ypnk/y3HkN5F9cnhQEMXVONFdaC9SeHliO0Vx4D7u3Ta/73WKFQLhPGfOjliK8XzZc I6iVpdkaiZ9CRvGgHXzqs1CN5n4t7glbmOv7RbggZjYSnBm7YX4KutmZ1Av1OhWyg+qU 1L49VnoKS8yPce+ierIb5KqVXTwEUnIYHhZg+Qt816+lYebegIltXpUlSGkShfurZzCs LFEB4amXrUYK+3KTKZJSxZ8Fl8t3yZYarBPcHBgZeEyAi5nga/p3qE1u2s8X9BGfvRgC t+w1bIhEU8qLR8u7MLt8ScyprIoUWFlXaN3AC4uaXrYaTIKC2RhtaFIZGWTjajxmKhC4 G0/A== X-Gm-Message-State: AOJu0YwAdfwXkqA0ndCSMXj5y/6Ma5UC87CjZ/1gKVH9NU2gjV4CmCsA 6kghFUGD1x3kuJEAN6s+wXHUtyOILO1KPzRbrj7wM/hHV5fpmS6sCSyDlZqqn688wvLito4x3oJ h/ayPpCoz2QZoenzUwDqvNIvYFtqBPe3iGWjY9BygdLqAVCWRm6i2thrAA4md X-Gm-Gg: ASbGncsMzQhtp8nh1a9RRR1SNJ8tOcI36x5ZwDplhRByyKSHR1abo+iUK0VLeCGECsy Z3wM94DLKnMuk1O/SpDKcpSHeBQ5oWS6d+dbiEhyBj9ln+Yz35lUKLwfN+CN84RuBmQuZuFDM6d gbpazGfPvofCYCaXUQdisJni3eTf4Ujw/FkD6RWhbSnwFaWgTCSSWBsL3SOmqC+70cqOaU+PDNG IdSyi+iJw3aPeIWm2+Cxkp95HmKpwqT9NuDAhRJy7RBjwlUVe59HmD1BhsNbvNYtDLxvMsYlbjT fsm104t1ur6w1rUfw3rxuWHVr4qaJS/TMB0JHq0/m/nuR4C+ElkXyKkpD8t8XpAfwF0d4jdx28x S9O8tE1tr X-Google-Smtp-Source: AGHT+IGm5lRqeedTA2jNfHSgE71OfgnDT9uaatwnIWrlK9/d8HEu13irq3YLPv4a5+wCLOLZBT+mgcFUN7UT X-Received: by 2002:a05:6e02:3e8b:b0:433:7964:d83a with SMTP id e9e14a558f8ab-43473d3be78mr69484795ab.8.1763019642888; Wed, 12 Nov 2025 23:40:42 -0800 (PST) Received: from postal.iol.unh.edu (postal.iol.unh.edu. [2606:4100:3880:1234::84]) by smtp-relay.gmail.com with ESMTPS id e9e14a558f8ab-434833c613csm899055ab.5.2025.11.12.23.40.42 (version=TLS1_2 cipher=ECDHE-ECDSA-AES128-GCM-SHA256 bits=128/128); Wed, 12 Nov 2025 23:40:42 -0800 (PST) X-Relaying-Domain: iol.unh.edu Date: Wed, 12 Nov 2025 23:40:42 -0800 (PST) Message-ID: <69158b7a.050a0220.2edfdf.4d03SMTPIN_ADDED_MISSING@mx.google.com> Received: from [172.21.0.3] (unknown [172.18.0.240]) by postal.iol.unh.edu (Postfix) with ESMTP id 8B0366051830; Thu, 13 Nov 2025 02:40:42 -0500 (EST) Subject: |SUCCESS| pw158713-158715 [PATCH] [v7,3/3] dts: add performance test From: dpdklab@iol.unh.edu To: Test Report Cc: dpdk-test-reports@iol.unh.edu In-Reply-To: <20251113012732.1059669-4-probb@iol.unh.edu> References: <20251113012732.1059669-4-probb@iol.unh.edu> Content-Type: text/plain X-BeenThere: test-report@dpdk.org X-Mailman-Version: 2.1.29 Precedence: list List-Id: automatic DPDK test reports List-Unsubscribe: , List-Archive: List-Post: List-Help: List-Subscribe: , Errors-To: test-report-bounces@dpdk.org Test-Label: iol-unit-amd64-testing Test-Status: SUCCESS http://dpdk.org/patch/158715 _Testing PASS_ Submitter: Patrick Robb Date: Thursday, November 13 2025 01:27:32 DPDK git baseline: Repo:dpdk-next-dts Branch: master CommitID:8dcc93a520b22330e0ad59d360a4594b854f9ddd 158713-158715 --> testing pass Upstream job id: Generic-Unit-Test-DPDK#391828 Test environment and result as below: +-------------------------------+----------------+ | Environment | dpdk_unit_test | +===============================+================+ | Fedora Linux 40 | PASS | +-------------------------------+----------------+ | CentOS Stream 9 | PASS | +-------------------------------+----------------+ | Debian GNU/Linux 12 | PASS | +-------------------------------+----------------+ | CentOS Stream 10 | PASS | +-------------------------------+----------------+ | Fedora Linux 41 | PASS | +-------------------------------+----------------+ | Fedora Linux 42 | PASS | +-------------------------------+----------------+ | Red Hat Enterprise Linux 9.5 | PASS | +-------------------------------+----------------+ | Red Hat Enterprise Linux 8.10 | PASS | +-------------------------------+----------------+ | Ubuntu 20.04 | PASS | +-------------------------------+----------------+ | Ubuntu 22.04 | PASS | +-------------------------------+----------------+ | Ubuntu 24.04 | PASS | +-------------------------------+----------------+ Fedora Linux 40 Kernel: 5.15 Compiler: gcc gcc (GCC) 14.2.1 20240912 (Red Hat 14.2.1-3) CentOS Stream 9 Kernel: 5.15 Compiler: gcc gcc (GCC) 11.5.0 20240719 (Red Hat 11.5.0-11) Debian GNU/Linux 12 Kernel: 5.15 Compiler: gcc gcc (Debian 12.2.0-14+deb12u1) 12.2.0 CentOS Stream 10 Kernel: 5.15 Compiler: gcc gcc (GCC) 14.2.1 20250110 (Red Hat 14.2.1-8) Fedora Linux 41 Kernel: 5.15 Compiler: gcc gcc (GCC) 14.3.1 20250523 (Red Hat 14.3.1-1) Fedora Linux 42 Kernel: 5.15 Compiler: gcc gcc (GCC) 15.2.1 20250808 (Red Hat 15.2.1-1) Red Hat Enterprise Linux 9.5 Kernel: 5.15 Compiler: gcc gcc (GCC) 11.5.0 20240719 (Red Hat 11.5.0-2) Red Hat Enterprise Linux 8.10 Kernel: 5.15 Compiler: gcc gcc (GCC) 8.5.0 20210514 (Red Hat 8.5.0-22) Ubuntu 20.04 Kernel: 5.15 Compiler: gcc gcc (Ubuntu 9.4.0-1ubuntu1~20.04.2) 9.4.0 Ubuntu 22.04 Kernel: 5.15 Compiler: gcc gcc (Ubuntu 11.4.0-1ubuntu1~22.04) 11.4.0 Ubuntu 24.04 Kernel: 5.15 Compiler: gcc gcc (Ubuntu 13.3.0-6ubuntu2~24.04) 13.3.0 To view detailed results, visit: https://lab.dpdk.org/results/dashboard/patchsets/34561/ UNH-IOL DPDK Community Lab To manage your email subscriptions, visit: https://lab.dpdk.org/results/dashboard/preferences/subscriptions/