From mboxrd@z Thu Jan 1 00:00:00 1970 Return-Path: Received: from mails.dpdk.org (mails.dpdk.org [217.70.189.124]) by inbox.dpdk.org (Postfix) with ESMTP id 77C8648AF2 for ; Thu, 13 Nov 2025 08:41:15 +0100 (CET) Received: from mails.dpdk.org (localhost [127.0.0.1]) by mails.dpdk.org (Postfix) with ESMTP id 71CAD4003C; Thu, 13 Nov 2025 08:41:15 +0100 (CET) Received: from mail-qv1-f99.google.com (mail-qv1-f99.google.com [209.85.219.99]) by mails.dpdk.org (Postfix) with ESMTP id 878424003C for ; Thu, 13 Nov 2025 08:41:14 +0100 (CET) Received: by mail-qv1-f99.google.com with SMTP id 6a1803df08f44-88242fc32c9so5624496d6.1 for ; Wed, 12 Nov 2025 23:41:14 -0800 (PST) DKIM-Signature: v=1; a=rsa-sha256; c=relaxed/relaxed; d=iol.unh.edu; s=unh-iol; t=1763019674; x=1763624474; darn=dpdk.org; h=cc:to:from:subject:message-id:date:from:to:cc:subject:date :message-id:reply-to; bh=dDHZgiIZfykEqDhrWUAOU/YEXsuyTAdM7SwYUqHhulM=; b=FhRhTIGug0Nu6HMGY1GS5Cbj2dn8AYSQmaqsxFCy5cD+tIRl7HeIhkfV1xcaGZDz/9 NTgy1vVVGnC/z59WU37VjcTY6Zv7puz2ufrXDz/NV6Amc/0uZz7vgj+YlhhsnpzN33e+ L7XzZJq3pRcx6bvHLCNo2/UsjI7FWCwm3yrSI= X-Google-DKIM-Signature: v=1; a=rsa-sha256; c=relaxed/relaxed; d=1e100.net; s=20230601; t=1763019674; x=1763624474; h=cc:to:from:subject:message-id:date:x-gm-gg:x-gm-message-state:from :to:cc:subject:date:message-id:reply-to; bh=dDHZgiIZfykEqDhrWUAOU/YEXsuyTAdM7SwYUqHhulM=; b=OD3tH44aHT5F7z4qVrniZiJ+r8BoNAGlCiZ2uHF9RDq1SQvp16PQ/hknREilWWuXqQ 13oVJnR5vAkqZ9IWwE5qKSQTzn6HN0vdj2AoxnURUBzmDxBP+2EQOQU5YgsjfW9ciaso 7C0LCJrAfUrP9/nq/Oi/sQq3jYGmVJQEJ1DZrjm3qYf9DehvXqkHE/NdN5icVPt6M47w j+9aykjbgUVsXOxz6J9kzgMu3aARbw7EeNgO8gqxpwpdpahrphZt+7NwLsNM9YwKHiWP fvzKMZm6zFbRT0evSBratP2rhtoDSRKa6FvVDW9rHcZSQvu/x0J6Vi45raPiYBa3xevh PlEA== X-Gm-Message-State: AOJu0Yy16F819m2MIW8PuieT6Ef6b2hnjPeB0+VoI6Ytwc0Pr13YZn6j fNIavaD3scCgGIAkUNJSbBEXZiSGr7VZxbNpS0DXyhd5IJBaHHdEIsfWO4Q3gVtRZRQAGiqi724 YoMPMHepAeFjxYOO0m1fC0Hg2htjcIdc9+pbgf7YJhDsk0kt/yWCf X-Gm-Gg: ASbGncvmuo7mYHLY61ZS1PzLJ0XLiXpWqHgugq+O0t2NRmW0a3maVjHoeE8pBMS57aX B6Tm/DWEne/V8PhI9p0hySwGEuto6aXf8EMIxDwojpc7ErsNkdVcIhYWGsAlqhr9v+svv0P5v31 l8j+ZudzFFO6wVONuHVEeTIfmf9ni/ocVQ4wP59NPbAhxDfMCEyB4kV5b3LWx1CFqFE6IUXGmLg +WplzA+nNdX9pTYCoM5Nx0SgQXCTTa7VBo6bVcQqSVVrPOqMZp1tzvJBYHAH/koTXW3aUMeBKKk xTOk1kozGTcn+k3z6DXTrYcU1+/51XaECiddDR5J5DsPDIvKF8d+wbE/SCc/fa2zBwjY3Nsg2Tg 3RGa8Wq/F X-Google-Smtp-Source: AGHT+IEG/o1RmR+PBiuwq9fAaqPsq4o0HXRiMBBCGHnXRQwBx+TbBxZ9aF5GhH6WrJgLvh+swfM4yhlNpONI X-Received: by 2002:ad4:596c:0:b0:882:4c83:af43 with SMTP id 6a1803df08f44-882719e68dcmr84921666d6.42.1763019673934; Wed, 12 Nov 2025 23:41:13 -0800 (PST) Received: from postal.iol.unh.edu (postal.iol.unh.edu. [2606:4100:3880:1234::84]) by smtp-relay.gmail.com with ESMTPS id 6a1803df08f44-882862b7fdbsm1413706d6.7.2025.11.12.23.41.13 (version=TLS1_2 cipher=ECDHE-ECDSA-AES128-GCM-SHA256 bits=128/128); Wed, 12 Nov 2025 23:41:13 -0800 (PST) X-Relaying-Domain: iol.unh.edu Date: Wed, 12 Nov 2025 23:41:13 -0800 (PST) Message-ID: <69158b99.050a0220.3be1fe.7367SMTPIN_ADDED_MISSING@mx.google.com> Received: from [172.21.0.3] (unknown [172.18.0.240]) by postal.iol.unh.edu (Postfix) with ESMTP id A95656051830; Thu, 13 Nov 2025 02:41:13 -0500 (EST) Subject: |SUCCESS| [GIT MASTER] 9784db2c5af1eecd02fc21132b59b5b266039b87 From: dpdklab@iol.unh.edu To: Test Report Cc: dpdk-test-reports@iol.unh.edu, Xueming Li , Christian Ehrhardt , Kevin Traynor , Luca Boccassi Content-Type: text/plain X-BeenThere: test-report@dpdk.org X-Mailman-Version: 2.1.29 Precedence: list List-Id: automatic DPDK test reports List-Unsubscribe: , List-Archive: List-Post: List-Help: List-Subscribe: , Errors-To: test-report-bounces@dpdk.org _Testing PASS_ Branch: tags/v22.11 9784db2c5af1eecd02fc21132b59b5b266039b87 --> testing pass Upstream job id: Generic-DPDK-Compile-Meson#443616 Test environment and result as below: +-------------------------------+--------------------+ | Environment | dpdk_meson_compile | +===============================+====================+ | FreeBSD 14.2 | PASS | +-------------------------------+--------------------+ | Ubuntu 20.04 | PASS | +-------------------------------+--------------------+ | CentOS Stream 9 | PASS | +-------------------------------+--------------------+ | CentOS Stream 10 | PASS | +-------------------------------+--------------------+ | Debian GNU/Linux 12 | PASS | +-------------------------------+--------------------+ | Fedora Linux 42 | PASS | +-------------------------------+--------------------+ | openSUSE Leap 15.6 | PASS | +-------------------------------+--------------------+ | Red Hat Enterprise Linux 9.5 | PASS | +-------------------------------+--------------------+ | Ubuntu 22.04 | PASS | +-------------------------------+--------------------+ | Red Hat Enterprise Linux 8.10 | PASS | +-------------------------------+--------------------+ | Ubuntu 24.04 | PASS | +-------------------------------+--------------------+ FreeBSD 14.2 Kernel: 14.2-RELEASE Compiler: clang 18.1.6 Ubuntu 20.04 Kernel: 4.19 Compiler: gcc gcc (Ubuntu 9.4.0-1ubuntu1~20.04.2) 9.4.0 CentOS Stream 9 Kernel: 5.15 Compiler: gcc gcc (GCC) 11.5.0 20240719 (Red Hat 11.5.0-11) CentOS Stream 10 Kernel: 5.15 Compiler: gcc gcc (GCC) 14.2.1 20250110 (Red Hat 14.2.1-8) Debian GNU/Linux 12 Kernel: 5.15 Compiler: gcc gcc (Debian 12.2.0-14+deb12u1) 12.2.0 Fedora Linux 42 Kernel: 5.15 Compiler: gcc gcc (GCC) 15.2.1 20250808 (Red Hat 15.2.1-1) openSUSE Leap 15.6 Kernel: 5.15 Compiler: gcc gcc (SUSE Linux) 7.5.0 Red Hat Enterprise Linux 9.5 Kernel: 5.15 Compiler: gcc gcc (GCC) 11.5.0 20240719 (Red Hat 11.5.0-2) Ubuntu 22.04 Kernel: 5.15 Compiler: gcc gcc (Ubuntu 11.4.0-1ubuntu1~22.04) 11.4.0 Red Hat Enterprise Linux 8.10 Kernel: 5.15 Compiler: gcc gcc (GCC) 8.5.0 20210514 (Red Hat 8.5.0-22) Ubuntu 24.04 Kernel: 5.15 Compiler: gcc gcc (Ubuntu 13.3.0-6ubuntu2~24.04) 13.3.0 To view detailed results, visit: https://lab.dpdk.org/results/dashboard/tarballs/35563/ UNH-IOL DPDK Community Lab To manage your email subscriptions, visit: https://lab.dpdk.org/results/dashboard/preferences/subscriptions/