From mboxrd@z Thu Jan 1 00:00:00 1970 Return-Path: Received: from mails.dpdk.org (mails.dpdk.org [217.70.189.124]) by inbox.dpdk.org (Postfix) with ESMTP id B710148AF2 for ; Thu, 13 Nov 2025 08:42:59 +0100 (CET) Received: from mails.dpdk.org (localhost [127.0.0.1]) by mails.dpdk.org (Postfix) with ESMTP id A1FC24003C; Thu, 13 Nov 2025 08:42:59 +0100 (CET) Received: from mail-io1-f97.google.com (mail-io1-f97.google.com [209.85.166.97]) by mails.dpdk.org (Postfix) with ESMTP id 1D5C64003C for ; Thu, 13 Nov 2025 08:42:58 +0100 (CET) Received: by mail-io1-f97.google.com with SMTP id ca18e2360f4ac-948cda204a7so50392139f.3 for ; Wed, 12 Nov 2025 23:42:58 -0800 (PST) DKIM-Signature: v=1; a=rsa-sha256; c=relaxed/relaxed; d=iol.unh.edu; s=unh-iol; t=1763019777; x=1763624577; darn=dpdk.org; h=references:in-reply-to:cc:to:from:subject:message-id:date:from:to :cc:subject:date:message-id:reply-to; bh=sFDqYkkG/R9da/Man4kE8uv+PXY8SCX7M1PHbabMnv0=; b=fcLhoed/6KFef3COrQ2pq8nC7pEDBtYcWK/7ljdNNHd/vcQbrMzjkW7TZSZWv2XK7q 5VV59/+sDCck9/zyIjIQ0dscz7txA9UcrwiOxB0G77ZbcuF/CWTdoLjPHJ5E5X51tK61 EFwHH1qE42/8nYA7jOjA+nYOL7J8VDF3arlSk= X-Google-DKIM-Signature: v=1; a=rsa-sha256; c=relaxed/relaxed; d=1e100.net; s=20230601; t=1763019777; x=1763624577; h=references:in-reply-to:cc:to:from:subject:message-id:date:x-gm-gg :x-gm-message-state:from:to:cc:subject:date:message-id:reply-to; bh=sFDqYkkG/R9da/Man4kE8uv+PXY8SCX7M1PHbabMnv0=; b=GquD+ShpexIP++r5j1emISB48f5gYBpI9TNGERJItqDveCpgv5J9rjYTKqRfZPt1h1 ki9+1+xvkueM/FsVI0aGB731zjsBc9JzquCNd6V6c43JCk0AkwMDMC95rp7/abKwZ/0m wUn/cd7o6eoFIetW84ZJZYi7sHyyO1lGMFs+afjUYtbMlzteIzxyQY/johQAXR615yKO Ao+IPJqN5ZFuJSo2Fg8gMES5yFqXY2duOevXDQR5o2H+P5OuVwv2NaTxl8DjAmwREXwx xyadgKwPVWKVaPQRx/opNyFEi/FFZYUNVfIEHIZHeYzygzpICIxww3rldD6XB96PXBZu zIcA== X-Gm-Message-State: AOJu0YzOPuvbchOu7tcXkVtgQE6rKIVBpb3T6Egqv/bVoam7yksjMdU6 yYteO7WBlxZxqD2y5v65mJ5tq9C1VSWUEglSWUZpbgJoPK8ZwvGqL8YAIVQmscsp3Eu9XD6LV2j efBHl0BKe7swvSXNHfptxeoZKGx5bNmucvMN6nBjgyEfPrjiM0svz3AKpjtin X-Gm-Gg: ASbGncspWWTx9Ea0LGzNkUJjbYW8MYjlbd8J/Eekda0wxeflmlbhCakoOL6xd05T3ea 5O4FHlmsS2bNjJsVM5/mmCQepLnq3jHwdUBnZ77XEg68mHJ9Yi/IMqpzmxtJNI3oom/Q1PgT/rv 0X8Ej4MIYkpcqk9YThfLeh3vel4dxjxoc0mmg0PLIJhZ/QPMQOp/VnTjvvvc8jbsuh6DFRa8kSo Dn1wsogS028F6Z2CDZ5RskWF5X5JyBim8shONIdhf3fYFqcNLbf9XtQnQ0HdF+8VetQzn0zYYBD D23DWOMJO61vBKoa299N59aZ8Vk6b38S18lQae80R8Yxpg3o+Jo0SagCWvuQNAszDkBR7qHvS8V dwXHbyMgX X-Google-Smtp-Source: AGHT+IFIPZdlX+2dBxWwZipQq7tJVpzHkOQ6im3/BseaCK46zWiVvKQREqhavVk1LV1DOxXrQIjCrMRvVtLv X-Received: by 2002:a05:6602:2743:b0:892:6e7e:c59c with SMTP id ca18e2360f4ac-948c4722bdfmr771796739f.19.1763019777462; Wed, 12 Nov 2025 23:42:57 -0800 (PST) Received: from postal.iol.unh.edu (postal.iol.unh.edu. [2606:4100:3880:1234::84]) by smtp-relay.gmail.com with ESMTPS id 8926c6da1cb9f-5b7bd2468cfsm95749173.7.2025.11.12.23.42.57 (version=TLS1_2 cipher=ECDHE-ECDSA-AES128-GCM-SHA256 bits=128/128); Wed, 12 Nov 2025 23:42:57 -0800 (PST) X-Relaying-Domain: iol.unh.edu Date: Wed, 12 Nov 2025 23:42:57 -0800 (PST) Message-ID: <69158c01.050a0220.394831.4e91SMTPIN_ADDED_MISSING@mx.google.com> Received: from [172.21.0.4] (unknown [172.18.0.240]) by postal.iol.unh.edu (Postfix) with ESMTP id E79956051830; Thu, 13 Nov 2025 02:42:56 -0500 (EST) Subject: |SUCCESS| pw158648-158652 [PATCH] [v4,5/5] vhost_user: Increase numb From: dpdklab@iol.unh.edu To: Test Report Cc: dpdk-test-reports@iol.unh.edu, Chenbo Xia , Maxime Coquelin In-Reply-To: <20251111111235.2902146-6-pravin.bathija@dell.com> References: <20251111111235.2902146-6-pravin.bathija@dell.com> Content-Type: text/plain X-BeenThere: test-report@dpdk.org X-Mailman-Version: 2.1.29 Precedence: list List-Id: automatic DPDK test reports List-Unsubscribe: , List-Archive: List-Post: List-Help: List-Subscribe: , Errors-To: test-report-bounces@dpdk.org Test-Label: iol-compile-amd64-testing Test-Status: SUCCESS http://dpdk.org/patch/158652 _Testing PASS_ Submitter: Bathija, Pravin Date: Tuesday, November 11 2025 11:12:35 DPDK git baseline: Repo:dpdk-next-virtio Branch: master CommitID:6b37c26a95388aa41bb5267c7c42f604fd571a38 158648-158652 --> testing pass Upstream job id: Windows-Compile-DPDK-Native#32282 Test environment and result as below: +-------------------------------+--------------------+------------------+-------------------+-------------------------+ | Environment | dpdk_meson_compile | dpdk_compile_ovs | dpdk_msvc_compile | dpdk_llvm_clang_compile | +===============================+====================+==================+===================+=========================+ | CentOS Stream 9 | PASS | SKIPPED | SKIPPED | SKIPPED | +-------------------------------+--------------------+------------------+-------------------+-------------------------+ | Fedora Linux 42 | PASS | PASS | SKIPPED | SKIPPED | +-------------------------------+--------------------+------------------+-------------------+-------------------------+ | CentOS Stream 10 | PASS | SKIPPED | SKIPPED | SKIPPED | +-------------------------------+--------------------+------------------+-------------------+-------------------------+ | Debian GNU/Linux 12 | PASS | SKIPPED | SKIPPED | SKIPPED | +-------------------------------+--------------------+------------------+-------------------+-------------------------+ | Ubuntu 20.04 | PASS | SKIPPED | SKIPPED | SKIPPED | +-------------------------------+--------------------+------------------+-------------------+-------------------------+ | Red Hat Enterprise Linux 8.10 | PASS | SKIPPED | SKIPPED | SKIPPED | +-------------------------------+--------------------+------------------+-------------------+-------------------------+ | Alpine Linux 3.22.0 | PASS | SKIPPED | SKIPPED | SKIPPED | +-------------------------------+--------------------+------------------+-------------------+-------------------------+ | Ubuntu 24.04 | PASS | PASS | SKIPPED | SKIPPED | +-------------------------------+--------------------+------------------+-------------------+-------------------------+ | openSUSE Leap 15.6 | PASS | SKIPPED | SKIPPED | SKIPPED | +-------------------------------+--------------------+------------------+-------------------+-------------------------+ | FreeBSD 14.2 | PASS | SKIPPED | SKIPPED | SKIPPED | +-------------------------------+--------------------+------------------+-------------------+-------------------------+ | Ubuntu 22.04 | PASS | SKIPPED | SKIPPED | SKIPPED | +-------------------------------+--------------------+------------------+-------------------+-------------------------+ | Red Hat Enterprise Linux 9.5 | PASS | SKIPPED | SKIPPED | SKIPPED | +-------------------------------+--------------------+------------------+-------------------+-------------------------+ | Windows Server 2022 | SKIPPED | SKIPPED | PASS | PASS | +-------------------------------+--------------------+------------------+-------------------+-------------------------+ CentOS Stream 9 Kernel: 5.15 Compiler: gcc gcc (GCC) 11.5.0 20240719 (Red Hat 11.5.0-11) Fedora Linux 42 Kernel: 5.15 Compiler: clang gcc (GCC) 15.2.1 20250808 (Red Hat 15.2.1-1) CentOS Stream 10 Kernel: 5.15 Compiler: gcc gcc (GCC) 14.2.1 20250110 (Red Hat 14.2.1-8) Debian GNU/Linux 12 Kernel: 5.15 Compiler: gcc gcc (Debian 12.2.0-14+deb12u1) 12.2.0 Ubuntu 20.04 Kernel: 5.15 Compiler: gcc gcc (Ubuntu 9.4.0-1ubuntu1~20.04.2) 9.4.0 Red Hat Enterprise Linux 8.10 Kernel: 5.15 Compiler: gcc gcc (GCC) 8.5.0 20210514 (Red Hat 8.5.0-22) Alpine Linux 3.22.0 Kernel: 5.15 Compiler: gcc gcc (Alpine 14.2.0) 14.2.0 Ubuntu 24.04 Kernel: 5.15 Compiler: gcc gcc (Ubuntu 13.3.0-6ubuntu2~24.04) 13.3.0 openSUSE Leap 15.6 Kernel: 5.15 Compiler: gcc gcc (SUSE Linux) 7.5.0 FreeBSD 14.2 Kernel: 14.2-RELEASE Compiler: clang 18.1.6 Ubuntu 22.04 Kernel: 5.15 Compiler: gcc gcc (Ubuntu 11.4.0-1ubuntu1~22.04) 11.4.0 Red Hat Enterprise Linux 9.5 Kernel: 5.15 Compiler: gcc gcc (GCC) 11.5.0 20240719 (Red Hat 11.5.0-2) Windows Server 2022 Kernel: 10.0.20348.2031 Compiler: clang 15.0.7, gcc 14.1.0 (MinGW), and MSVC VS 19.39.33521 To view detailed results, visit: https://lab.dpdk.org/results/dashboard/patchsets/34530/ UNH-IOL DPDK Community Lab To manage your email subscriptions, visit: https://lab.dpdk.org/results/dashboard/preferences/subscriptions/