From mboxrd@z Thu Jan 1 00:00:00 1970 Return-Path: Received: from mails.dpdk.org (mails.dpdk.org [217.70.189.124]) by inbox.dpdk.org (Postfix) with ESMTP id 8DB9D48AF2 for ; Thu, 13 Nov 2025 08:49:53 +0100 (CET) Received: from mails.dpdk.org (localhost [127.0.0.1]) by mails.dpdk.org (Postfix) with ESMTP id 882904003C; Thu, 13 Nov 2025 08:49:53 +0100 (CET) Received: from mail-qk1-f228.google.com (mail-qk1-f228.google.com [209.85.222.228]) by mails.dpdk.org (Postfix) with ESMTP id 5FA2C4003C for ; Thu, 13 Nov 2025 08:49:52 +0100 (CET) Received: by mail-qk1-f228.google.com with SMTP id af79cd13be357-8b0f54370ecso58111085a.2 for ; Wed, 12 Nov 2025 23:49:52 -0800 (PST) DKIM-Signature: v=1; a=rsa-sha256; c=relaxed/relaxed; d=iol.unh.edu; s=unh-iol; t=1763020191; x=1763624991; darn=dpdk.org; h=references:in-reply-to:cc:to:from:subject:message-id:date:from:to :cc:subject:date:message-id:reply-to; bh=Q7uqaW+qBeetJUjcARWKeNVymLQFa2oUC5AyZwY7UVo=; b=C5d9yfQJ+LQZJo/5RLskOXxCsI7nIio/o40pbTO19p9gZAE2UpG3KLF50JkYj/bhP3 RHVMW/BGuTA+qnldD3UG5t1kuwknINj2WEYA2Wv4xnPGXVl4Pn/+kEBAWRjMPDoqsGDg ZCrNQL48coXGsbdq0wgLUjVMomMni6N/YzxPg= X-Google-DKIM-Signature: v=1; a=rsa-sha256; c=relaxed/relaxed; d=1e100.net; s=20230601; t=1763020191; x=1763624991; h=references:in-reply-to:cc:to:from:subject:message-id:date:x-gm-gg :x-gm-message-state:from:to:cc:subject:date:message-id:reply-to; bh=Q7uqaW+qBeetJUjcARWKeNVymLQFa2oUC5AyZwY7UVo=; b=NsBZQNIcEH5NxNZSwB7Pip3n9TAPWdcACY5kt9F11ITr2ANxxmFL444zYYGipbcUzF YhVxLmoMmfmgDu68Ba5nrNBQPTb3z2BaN29iUDlbidarzQpmtIoOY+oP1ltKoZDenqKB DpnsUxo25oXwfVCJpT8EGahnOnttIbLiLPG2jGDjAwInc58tKSTj9uNAygz7GfX/0L00 QmYFi4qXdVo18pstKRu6oJn8oYalnFLhCXAmNGI410KwE3CAtJa/2EMuRD8ms7+nowDx IskBPU0YhrXEo1xtSHGReO25Y4cZul4CA0SbVLfNMO+b8bqiqassse32KssFer6Yughy GKQA== X-Gm-Message-State: AOJu0YyHjRT1bx56+ppm46CTfAGwQpKnfnu4haK2ijJQo6cIS0opDOHK foZV0d2j++OftDVMn4v74P8i4iCZV771RxVhlsQ8AkOmFjYINsYOapJFu6Ix0gm3nIv9gaMe59r i8v3Q/8kHJ8WyyDNpWI/ZmBXuBUK8jIZgiYhFBvwjpkJH+FJ2p7eEuBZmycBd X-Gm-Gg: ASbGncvCm5H4PDrHQcfQu1A7mIPAhFljVzMQW0LnnA6v8X6CBaZ9TYj8CEKhQRGf92T 6gGYOW9zIa7F1TH4HkJxxqp2thkDE3DZbhuYZd5Mu8Zyrlg1s1YLjVKmZlI2IGCfR+ZpMwGEZ5w 5E+cLluRM1THHkD/Bt8nCrBB+ZgcRwEZLslZiIGYswO5iCyw1RJuyDCLt3FHS1ft5yPts86UIOR L7rxc2ZOoca+yuTrddVP3xXPN2n9UbqNbeTf5Y+IbbyfBhFDxi+pGFeq5x8y4eWpK/K1RLL2MBK EPp057RrnFY9yDPSSxlt9UrUgCg83gjsax1yZE1G+P8vp3G/ZcQ2aUNM3QEx01bpsqn7EjgN+ka /SFvdlr/o X-Google-Smtp-Source: AGHT+IHyjUfdXPrVtV3wl4eVt7f4Eld1llEziIsbQB2LRx0ofBfGnHTcuu/jAoqpfuB6Tmb/N6p3c4rlHNGq X-Received: by 2002:a05:622a:28a:b0:4ed:213c:1582 with SMTP id d75a77b69052e-4eddbc4df56mr70583611cf.7.1763020191651; Wed, 12 Nov 2025 23:49:51 -0800 (PST) Received: from postal.iol.unh.edu (postal.iol.unh.edu. [2606:4100:3880:1234::84]) by smtp-relay.gmail.com with ESMTPS id 6a1803df08f44-882862b39f1sm1311336d6.6.2025.11.12.23.49.51 (version=TLS1_2 cipher=ECDHE-ECDSA-AES128-GCM-SHA256 bits=128/128); Wed, 12 Nov 2025 23:49:51 -0800 (PST) X-Relaying-Domain: iol.unh.edu Date: Wed, 12 Nov 2025 23:49:51 -0800 (PST) Message-ID: <69158d9f.d40a0220.4efac.67a9SMTPIN_ADDED_MISSING@mx.google.com> Received: from [172.21.0.3] (unknown [172.18.0.240]) by postal.iol.unh.edu (Postfix) with ESMTP id 23DAF6051830; Thu, 13 Nov 2025 02:49:51 -0500 (EST) Subject: |SUCCESS| pw158668 [PATCH] common/mlx5: add BlueField-4 DPU From: dpdklab@iol.unh.edu To: Test Report Cc: dpdk-test-reports@iol.unh.edu In-Reply-To: <20251111121628.75282-1-rasland@nvidia.com> References: <20251111121628.75282-1-rasland@nvidia.com> Content-Type: text/plain X-BeenThere: test-report@dpdk.org X-Mailman-Version: 2.1.29 Precedence: list List-Id: automatic DPDK test reports List-Unsubscribe: , List-Archive: List-Post: List-Help: List-Subscribe: , Errors-To: test-report-bounces@dpdk.org Test-Label: iol-unit-amd64-testing Test-Status: SUCCESS http://dpdk.org/patch/158668 _Testing PASS_ Submitter: Raslan Darawsheh Date: Tuesday, November 11 2025 12:16:28 DPDK git baseline: Repo:dpdk Branch: master CommitID:b63e7dbfb076d6a8247dcab014421d7b59e20255 158668 --> testing pass Upstream job id: Generic-VM-Unit-Test-DPDK#32465 Test environment and result as below: +-------------------------------+----------------+ | Environment | dpdk_unit_test | +===============================+================+ | Fedora Linux 40 | PASS | +-------------------------------+----------------+ | CentOS Stream 9 | PASS | +-------------------------------+----------------+ | Debian GNU/Linux 12 | PASS | +-------------------------------+----------------+ | CentOS Stream 10 | PASS | +-------------------------------+----------------+ | Fedora Linux 41 | PASS | +-------------------------------+----------------+ | Red Hat Enterprise Linux 9.5 | PASS | +-------------------------------+----------------+ | Ubuntu 24.04 | PASS | +-------------------------------+----------------+ | Ubuntu 20.04 | PASS | +-------------------------------+----------------+ | Red Hat Enterprise Linux 8.10 | PASS | +-------------------------------+----------------+ | Fedora Linux 42 | PASS | +-------------------------------+----------------+ | Ubuntu 22.04 | PASS | +-------------------------------+----------------+ | Windows Server 2022 | PASS | +-------------------------------+----------------+ Fedora Linux 40 Kernel: 5.15 Compiler: gcc gcc (GCC) 14.2.1 20240912 (Red Hat 14.2.1-3) CentOS Stream 9 Kernel: 5.15 Compiler: gcc gcc (GCC) 11.5.0 20240719 (Red Hat 11.5.0-11) Debian GNU/Linux 12 Kernel: 5.15 Compiler: gcc gcc (Debian 12.2.0-14+deb12u1) 12.2.0 CentOS Stream 10 Kernel: 5.15 Compiler: gcc gcc (GCC) 14.2.1 20250110 (Red Hat 14.2.1-8) Fedora Linux 41 Kernel: 5.15 Compiler: gcc gcc (GCC) 14.3.1 20250523 (Red Hat 14.3.1-1) Red Hat Enterprise Linux 9.5 Kernel: 5.15 Compiler: gcc gcc (GCC) 11.5.0 20240719 (Red Hat 11.5.0-2) Ubuntu 24.04 Kernel: 5.15 Compiler: gcc gcc (Ubuntu 13.3.0-6ubuntu2~24.04) 13.3.0 Ubuntu 20.04 Kernel: 5.15 Compiler: gcc gcc (Ubuntu 9.4.0-1ubuntu1~20.04.2) 9.4.0 Red Hat Enterprise Linux 8.10 Kernel: 5.15 Compiler: gcc gcc (GCC) 8.5.0 20210514 (Red Hat 8.5.0-22) Fedora Linux 42 Kernel: 5.15 Compiler: gcc gcc (GCC) 15.2.1 20250808 (Red Hat 15.2.1-1) Ubuntu 22.04 Kernel: 5.15 Compiler: gcc gcc (Ubuntu 11.4.0-1ubuntu1~22.04) 11.4.0 Windows Server 2022 Kernel: 10.0.20348.2031 Compiler: clang 15.0.7, gcc 14.1.0 (MinGW), and MSVC VS 19.39.33521 To view detailed results, visit: https://lab.dpdk.org/results/dashboard/patchsets/34536/ UNH-IOL DPDK Community Lab To manage your email subscriptions, visit: https://lab.dpdk.org/results/dashboard/preferences/subscriptions/