From mboxrd@z Thu Jan 1 00:00:00 1970 Return-Path: Received: from mails.dpdk.org (mails.dpdk.org [217.70.189.124]) by inbox.dpdk.org (Postfix) with ESMTP id B903A48AF2 for ; Thu, 13 Nov 2025 09:09:56 +0100 (CET) Received: from mails.dpdk.org (localhost [127.0.0.1]) by mails.dpdk.org (Postfix) with ESMTP id B51614003C; Thu, 13 Nov 2025 09:09:56 +0100 (CET) Received: from mail-yx1-f97.google.com (mail-yx1-f97.google.com [74.125.224.97]) by mails.dpdk.org (Postfix) with ESMTP id EBF874003C for ; Thu, 13 Nov 2025 09:09:55 +0100 (CET) Received: by mail-yx1-f97.google.com with SMTP id 956f58d0204a3-640daf41b19so706421d50.0 for ; Thu, 13 Nov 2025 00:09:55 -0800 (PST) DKIM-Signature: v=1; a=rsa-sha256; c=relaxed/relaxed; d=iol.unh.edu; s=unh-iol; t=1763021395; x=1763626195; darn=dpdk.org; h=references:in-reply-to:cc:to:from:subject:message-id:date:from:to :cc:subject:date:message-id:reply-to; bh=0TSz3TMRa/U7FHV8bJr/so10BS2IQFip6xP5o8ERgUc=; b=eyb1wKnsr3wXpynuxP8Eh4l/fLft0lY7qFy+Oa+977hODxdv12vzWFH9MFmuwRSIrM wAe2Dvqtg1Y0Yb3jzp7t7Yr7JIZZujZZWLlNC36VCtnhmpFxpxfr+shBlhDKYWvEMpgB tBPQvcstDWuYMsU1HzNanP2ClkssnksZHTFuc= X-Google-DKIM-Signature: v=1; a=rsa-sha256; c=relaxed/relaxed; d=1e100.net; s=20230601; t=1763021395; x=1763626195; h=references:in-reply-to:cc:to:from:subject:message-id:date:x-gm-gg :x-gm-message-state:from:to:cc:subject:date:message-id:reply-to; bh=0TSz3TMRa/U7FHV8bJr/so10BS2IQFip6xP5o8ERgUc=; b=sBti3u+v6JqPT+tMrkFGZKl0e5MSMNrldvDG1MmusZBN/5Db42/yELFngd/MwDtHsI Pf+gCqMkCYlLAxvJ1jzxrP9Ym2zKkiRb4Iam+ogWf6vKGPg5ayG3lRrqZ98rZwqYZ7u1 2Nfz5Ikct9tuLlDpQRDmxnl3nUOPeZ9kdfCUOItq1OHvbHx6h2U202TFfnxGhzbqegSS ah3vo5ouDgWFGKwaIFuMwjDnOwHrLBYwjWad2RRpSeJL1Cg/FjOJvxCic9Z5Obuzp1Hi WgFgz3wdIt89VuyYXMBzEf6XJpb13oinUIxscP3dya+iLWU7zYKVHgEa6G0JW0kJlJoW 0BeA== X-Gm-Message-State: AOJu0YxLJI/qwsuK5D5G00NjxxkqLAS3GvMuMx+eT4BQKseIYHh9+Ptj 5bFFOYk5S4D2jufNe/W2FKWy/AM3SRLBP/3XlJs1QYacCCpa8vnpvWAhHU50xsoAq3Y1f5QjBfy 76kj4TifFR9DYjLM6hU4Q6Vzhy21rg+uN9JRiqt4RpqhzAGNyxLg8o+XAmBeY X-Gm-Gg: ASbGncvpStxp3GkGj0inm7j0ENcSQAMNICbv7hozVH0JboEvIf4A8HJeTlkWbIEac54 caacWRHVWpuaVwMziyMO4kWIBaGQ0KhvwX1W9Bn4lnBeuYAdOrkdHFgOeJgBX0T9aaL3Ekkbx4z MRhlpPscpCSfmOw6sPvFs2ctYdPvn0tGznSv+JF4/fSBtjsqxXmhIMK1nyXuU9RN1hkN+RpbTj/ ysIfkp7QVrABUa1jt7n0o58myhKjipgYwZnvgTU7cP2BSyNnwIf8eUyktFKGy1pXTdhVLpaGGK5 YdWVpbjn9uiIOYbvq1ayrMMlYvJlZbjGcAzi7uaLMh8kVT/ACGh5DKOlfrpqIZ7QKlWQ3MLHumx HSmEM74c4 X-Google-Smtp-Source: AGHT+IGQsDLoi1gkMk0PTOE7T6frcz5yG9ck3KKkN4yhsOdy+fn3CzjI59YotAMOIcuWj0NzuJHydPASWczr X-Received: by 2002:a05:690e:1914:b0:640:ca9a:5f5b with SMTP id 956f58d0204a3-6410d06da7fmr1750118d50.1.1763021395311; Thu, 13 Nov 2025 00:09:55 -0800 (PST) Received: from postal.iol.unh.edu (postal.iol.unh.edu. [2606:4100:3880:1234::84]) by smtp-relay.gmail.com with ESMTPS id 00721157ae682-78821e1e6d5sm820937b3.9.2025.11.13.00.09.55 (version=TLS1_2 cipher=ECDHE-ECDSA-AES128-GCM-SHA256 bits=128/128); Thu, 13 Nov 2025 00:09:55 -0800 (PST) X-Relaying-Domain: iol.unh.edu Date: Thu, 13 Nov 2025 00:09:55 -0800 (PST) Message-ID: <69159253.050a0220.1a7114.458aSMTPIN_ADDED_MISSING@mx.google.com> Received: from [172.21.0.3] (unknown [172.18.0.240]) by postal.iol.unh.edu (Postfix) with ESMTP id B03206051830; Thu, 13 Nov 2025 03:09:54 -0500 (EST) Subject: |SUCCESS| pw158668 [PATCH] common/mlx5: add BlueField-4 DPU From: dpdklab@iol.unh.edu To: Test Report Cc: dpdk-test-reports@iol.unh.edu In-Reply-To: <20251111121628.75282-1-rasland@nvidia.com> References: <20251111121628.75282-1-rasland@nvidia.com> Content-Type: text/plain X-BeenThere: test-report@dpdk.org X-Mailman-Version: 2.1.29 Precedence: list List-Id: automatic DPDK test reports List-Unsubscribe: , List-Archive: List-Post: List-Help: List-Subscribe: , Errors-To: test-report-bounces@dpdk.org Test-Label: iol-unit-amd64-testing Test-Status: SUCCESS http://dpdk.org/patch/158668 _Testing PASS_ Submitter: Raslan Darawsheh Date: Tuesday, November 11 2025 12:16:28 DPDK git baseline: Repo:dpdk Branch: master CommitID:b63e7dbfb076d6a8247dcab014421d7b59e20255 158668 --> testing pass Upstream job id: Generic-VM-Unit-Test-DPDK#32466 Test environment and result as below: +-------------------------------+----------------+ | Environment | dpdk_unit_test | +===============================+================+ | Fedora Linux 40 | PASS | +-------------------------------+----------------+ | CentOS Stream 9 | PASS | +-------------------------------+----------------+ | Debian GNU/Linux 12 | PASS | +-------------------------------+----------------+ | CentOS Stream 10 | PASS | +-------------------------------+----------------+ | Fedora Linux 41 | PASS | +-------------------------------+----------------+ | Red Hat Enterprise Linux 9.5 | PASS | +-------------------------------+----------------+ | Ubuntu 24.04 | PASS | +-------------------------------+----------------+ | Ubuntu 20.04 | PASS | +-------------------------------+----------------+ | Red Hat Enterprise Linux 8.10 | PASS | +-------------------------------+----------------+ | Fedora Linux 42 | PASS | +-------------------------------+----------------+ | Ubuntu 22.04 | PASS | +-------------------------------+----------------+ | Windows Server 2022 | PASS | +-------------------------------+----------------+ Fedora Linux 40 Kernel: 5.15 Compiler: gcc gcc (GCC) 14.2.1 20240912 (Red Hat 14.2.1-3) CentOS Stream 9 Kernel: 5.15 Compiler: gcc gcc (GCC) 11.5.0 20240719 (Red Hat 11.5.0-11) Debian GNU/Linux 12 Kernel: 5.15 Compiler: gcc gcc (Debian 12.2.0-14+deb12u1) 12.2.0 CentOS Stream 10 Kernel: 5.15 Compiler: gcc gcc (GCC) 14.2.1 20250110 (Red Hat 14.2.1-8) Fedora Linux 41 Kernel: 5.15 Compiler: gcc gcc (GCC) 14.3.1 20250523 (Red Hat 14.3.1-1) Red Hat Enterprise Linux 9.5 Kernel: 5.15 Compiler: gcc gcc (GCC) 11.5.0 20240719 (Red Hat 11.5.0-2) Ubuntu 24.04 Kernel: 5.15 Compiler: gcc gcc (Ubuntu 13.3.0-6ubuntu2~24.04) 13.3.0 Ubuntu 20.04 Kernel: 5.15 Compiler: gcc gcc (Ubuntu 9.4.0-1ubuntu1~20.04.2) 9.4.0 Red Hat Enterprise Linux 8.10 Kernel: 5.15 Compiler: gcc gcc (GCC) 8.5.0 20210514 (Red Hat 8.5.0-22) Fedora Linux 42 Kernel: 5.15 Compiler: gcc gcc (GCC) 15.2.1 20250808 (Red Hat 15.2.1-1) Ubuntu 22.04 Kernel: 5.15 Compiler: gcc gcc (Ubuntu 11.4.0-1ubuntu1~22.04) 11.4.0 Windows Server 2022 Kernel: 10.0.20348.2031 Compiler: clang 15.0.7, gcc 14.1.0 (MinGW), and MSVC VS 19.39.33521 To view detailed results, visit: https://lab.dpdk.org/results/dashboard/patchsets/34536/ UNH-IOL DPDK Community Lab To manage your email subscriptions, visit: https://lab.dpdk.org/results/dashboard/preferences/subscriptions/