From mboxrd@z Thu Jan 1 00:00:00 1970 Return-Path: Received: from mails.dpdk.org (mails.dpdk.org [217.70.189.124]) by inbox.dpdk.org (Postfix) with ESMTP id 4D22248AF2 for ; Thu, 13 Nov 2025 09:14:06 +0100 (CET) Received: from mails.dpdk.org (localhost [127.0.0.1]) by mails.dpdk.org (Postfix) with ESMTP id 47E9F4003C; Thu, 13 Nov 2025 09:14:06 +0100 (CET) Received: from mail-yx1-f100.google.com (mail-yx1-f100.google.com [74.125.224.100]) by mails.dpdk.org (Postfix) with ESMTP id 5F0E64003C for ; Thu, 13 Nov 2025 09:14:05 +0100 (CET) Received: by mail-yx1-f100.google.com with SMTP id 956f58d0204a3-63f74b43db8so462031d50.3 for ; Thu, 13 Nov 2025 00:14:05 -0800 (PST) DKIM-Signature: v=1; a=rsa-sha256; c=relaxed/relaxed; d=iol.unh.edu; s=unh-iol; t=1763021645; x=1763626445; darn=dpdk.org; h=references:in-reply-to:cc:to:from:subject:message-id:date:from:to :cc:subject:date:message-id:reply-to; bh=7pAbwVv8qCjaKv+sU7L4TbNl0J1m51uxmSkCB2+u2+w=; b=Fof1GH38SJSSjuIhGD6VyZhqpLhVXNt5iNYJ2c5FzAvmB5sr/zy616WNfAGeZyCTRU JnMwsflMiFEJQx8l8yZXIBa0nyqpdlSZkURyacvkYSfcqtzUROz8FbmcAvKFvkoTh19c bU6O+eJXec6/+tJFSIWvEPZFHbDVfGzZWx5O4= X-Google-DKIM-Signature: v=1; a=rsa-sha256; c=relaxed/relaxed; d=1e100.net; s=20230601; t=1763021645; x=1763626445; h=references:in-reply-to:cc:to:from:subject:message-id:date:x-gm-gg :x-gm-message-state:from:to:cc:subject:date:message-id:reply-to; bh=7pAbwVv8qCjaKv+sU7L4TbNl0J1m51uxmSkCB2+u2+w=; b=VpTjfv6mfVAWOyBgYhy7Qg9Me4MGwP7wfogO4z7OumuJdDh5yvsU3x3fdCtSmGi/PK jMn8NDT6ueqI/xbTWtEeDz4U8U/IyEb13RYWEIQo5Ghu5zrVYPe/cyUtwCT7y2yMw7GK 0Ml15nHzlnoAL3p9o4ssf4f7ygYqHYeyvUs+auC9xk4FdgstWqWsX9Bg7gKpZK4zv+b/ U+XUNvWi+Wjx84VknBE42r5DawTicaok8PZbHi8fYnltydcIFAAmya2othsiwf3RRGev 6t2C9BRpp6QFmW7e+gF1IKhFbWEvu3CpSuv5+WC7l9M92zqniYpw/PU6kUEdvK4dRNDl DjQQ== X-Gm-Message-State: AOJu0YyYF7JHyc099GGvj2NEqhOBC+V8HBLciZcnfPu4eFQ04032jGaG fWfqZNlqy21NTInt3tjU7nBvBBrQ5bOMI/YuyrDoQv+rIyGUREzdFq0sLOHW+7Cp+jXMJzDYK74 pL1YCy0J1eAEsHmGh+oFMn+W7o/7LLeLufJRvxMzvK0kfX713jCPI2eCcUHmj X-Gm-Gg: ASbGncvVNjovaUKTHORiPLT5GVrvAulXs/xfm615TO5/bTZ3yszoueFbjeH4XpTPVwE ypMWtFBt2Z6y6RAY9asxPYnSOo8fVX2y7PeSyRI3Ng+abN2BXrJRVSfcWrfWLhTqtikWA889Vaq xEEJ1PdMEDAKX//v/9OROr0nDRsMzrZhWEoaql5bqRRjnlu/CFzgvSiyCQMHBTbxeXLI3xV6KKY tD5EVcbQbfNuymrQsc1GRMkzoB8u6tIn6YQd6r2tbLu6XQO6NIqeSP/3zCwYAYCizlPt4ehZPsE i8voW//XjZ2VZOq4q/il1NG7Zb0lZqNfTxFwAiLS5fBUSaXrCYGziSeRBerTRpLDI+5Z/sHQ0ld ocb+LK8zK X-Google-Smtp-Source: AGHT+IHX8Gfig+u6sN89vNmsJnVolFrs5pwWm+A1vkZXpRwDzM88BHmyZzjy+rvAwOt4mkcW3TxPqELkrqZU X-Received: by 2002:a05:690e:dcb:b0:63f:9b89:8893 with SMTP id 956f58d0204a3-64101b97233mr5074640d50.52.1763021644745; Thu, 13 Nov 2025 00:14:04 -0800 (PST) Received: from postal.iol.unh.edu (postal.iol.unh.edu. [2606:4100:3880:1234::84]) by smtp-relay.gmail.com with ESMTPS id 00721157ae682-78821f65cf0sm702437b3.22.2025.11.13.00.14.04 (version=TLS1_2 cipher=ECDHE-ECDSA-AES128-GCM-SHA256 bits=128/128); Thu, 13 Nov 2025 00:14:04 -0800 (PST) X-Relaying-Domain: iol.unh.edu Date: Thu, 13 Nov 2025 00:14:04 -0800 (PST) Message-ID: <6915934c.050a0220.3cef13.3a48SMTPIN_ADDED_MISSING@mx.google.com> Received: from [172.21.0.2] (unknown [172.18.0.240]) by postal.iol.unh.edu (Postfix) with ESMTP id 624CC6051830; Thu, 13 Nov 2025 03:14:04 -0500 (EST) Subject: |SUCCESS| pw158716-158738 [PATCH] [v5,23/23] net/cnxk: check for inv From: dpdklab@iol.unh.edu To: Test Report Cc: dpdk-test-reports@iol.unh.edu In-Reply-To: <20251113043808.1180851-23-ndabilpuram@marvell.com> References: <20251113043808.1180851-23-ndabilpuram@marvell.com> Content-Type: text/plain X-BeenThere: test-report@dpdk.org X-Mailman-Version: 2.1.29 Precedence: list List-Id: automatic DPDK test reports List-Unsubscribe: , List-Archive: List-Post: List-Help: List-Subscribe: , Errors-To: test-report-bounces@dpdk.org Test-Label: iol-unit-amd64-testing Test-Status: SUCCESS http://dpdk.org/patch/158738 _Testing PASS_ Submitter: Nithin Dabilpuram Date: Thursday, November 13 2025 04:38:08 DPDK git baseline: Repo:dpdk-next-net-mrvl Branch: master CommitID:be0112878b4fc3a1b918370ed2fe615c52039d77 158716-158738 --> testing pass Upstream job id: Generic-Unit-Test-DPDK#391854 Test environment and result as below: +-------------------------------+----------------+ | Environment | dpdk_unit_test | +===============================+================+ | CentOS Stream 9 | PASS | +-------------------------------+----------------+ | Debian GNU/Linux 12 | PASS | +-------------------------------+----------------+ | CentOS Stream 10 | PASS | +-------------------------------+----------------+ | Fedora Linux 42 | PASS | +-------------------------------+----------------+ | Fedora Linux 40 | PASS | +-------------------------------+----------------+ | Fedora Linux 41 | PASS | +-------------------------------+----------------+ | Red Hat Enterprise Linux 8.10 | PASS | +-------------------------------+----------------+ | Red Hat Enterprise Linux 9.5 | PASS | +-------------------------------+----------------+ | Ubuntu 24.04 | PASS | +-------------------------------+----------------+ | Ubuntu 22.04 | PASS | +-------------------------------+----------------+ | Ubuntu 20.04 | PASS | +-------------------------------+----------------+ CentOS Stream 9 Kernel: 5.15 Compiler: gcc gcc (GCC) 11.5.0 20240719 (Red Hat 11.5.0-11) Debian GNU/Linux 12 Kernel: 5.15 Compiler: gcc gcc (Debian 12.2.0-14+deb12u1) 12.2.0 CentOS Stream 10 Kernel: 5.15 Compiler: gcc gcc (GCC) 14.2.1 20250110 (Red Hat 14.2.1-8) Fedora Linux 42 Kernel: 5.15 Compiler: gcc gcc (GCC) 15.2.1 20250808 (Red Hat 15.2.1-1) Fedora Linux 40 Kernel: 5.15 Compiler: gcc gcc (GCC) 14.2.1 20240912 (Red Hat 14.2.1-3) Fedora Linux 41 Kernel: 5.15 Compiler: gcc gcc (GCC) 14.3.1 20250523 (Red Hat 14.3.1-1) Red Hat Enterprise Linux 8.10 Kernel: 5.15 Compiler: gcc gcc (GCC) 8.5.0 20210514 (Red Hat 8.5.0-22) Red Hat Enterprise Linux 9.5 Kernel: 5.15 Compiler: gcc gcc (GCC) 11.5.0 20240719 (Red Hat 11.5.0-2) Ubuntu 24.04 Kernel: 5.15 Compiler: gcc gcc (Ubuntu 13.3.0-6ubuntu2~24.04) 13.3.0 Ubuntu 22.04 Kernel: 5.15 Compiler: gcc gcc (Ubuntu 11.4.0-1ubuntu1~22.04) 11.4.0 Ubuntu 20.04 Kernel: 5.15 Compiler: gcc gcc (Ubuntu 9.4.0-1ubuntu1~20.04.2) 9.4.0 To view detailed results, visit: https://lab.dpdk.org/results/dashboard/patchsets/34562/ UNH-IOL DPDK Community Lab To manage your email subscriptions, visit: https://lab.dpdk.org/results/dashboard/preferences/subscriptions/