From mboxrd@z Thu Jan 1 00:00:00 1970 Return-Path: Received: from mails.dpdk.org (mails.dpdk.org [217.70.189.124]) by inbox.dpdk.org (Postfix) with ESMTP id 71A6C48AF2 for ; Thu, 13 Nov 2025 09:24:01 +0100 (CET) Received: from mails.dpdk.org (localhost [127.0.0.1]) by mails.dpdk.org (Postfix) with ESMTP id 4BDFF4003C; Thu, 13 Nov 2025 09:24:01 +0100 (CET) Received: from mail-qv1-f97.google.com (mail-qv1-f97.google.com [209.85.219.97]) by mails.dpdk.org (Postfix) with ESMTP id D749A4003C for ; Thu, 13 Nov 2025 09:23:59 +0100 (CET) Received: by mail-qv1-f97.google.com with SMTP id 6a1803df08f44-880503ab181so5423976d6.2 for ; Thu, 13 Nov 2025 00:23:59 -0800 (PST) DKIM-Signature: v=1; a=rsa-sha256; c=relaxed/relaxed; d=iol.unh.edu; s=unh-iol; t=1763022239; x=1763627039; darn=dpdk.org; h=references:in-reply-to:cc:to:from:subject:message-id:date:from:to :cc:subject:date:message-id:reply-to; bh=JCzpcqdfb4iw4nD8U29Yp5I/MYx5OI7XnEIW0jfZj+Y=; b=fnU0M+PMGiL+EEaM69q9u8NQNcWs1QRjJtEFBz/9AZmIfpNW/me8WprMWFQmB3XdO5 HKYnxatagbHmrT5Nq31H//o2YaGX+HOZ+nWNx4IaIAbcN6XZu4quYXMz5tV1YfKv4Zy7 m1281qjbp/HTYlRI0zbnUQU+wg9wgnueWjXDw= X-Google-DKIM-Signature: v=1; a=rsa-sha256; c=relaxed/relaxed; d=1e100.net; s=20230601; t=1763022239; x=1763627039; h=references:in-reply-to:cc:to:from:subject:message-id:date:x-gm-gg :x-gm-message-state:from:to:cc:subject:date:message-id:reply-to; bh=JCzpcqdfb4iw4nD8U29Yp5I/MYx5OI7XnEIW0jfZj+Y=; b=Jq8ynfPDznNP8nMfeiVpVOjx6ny1ROaM1tR9zdXT4YpkEZbMywhyQDpfTvmJWKg2ni 5attOYMbT6Skcv8ebTN/hAUS29wCM/8P9JpH42syyWyhFQPp9MpcAMH9q2ROJr2HxCHb wvHtwJpbW9jTrPW1rYnMcu4jnr3YVWo1Jl+pkIXKDPsrLsWNwUbeL40UNEpUqQgMu7c6 81EDxmkeCSEGsqiUncna66hpRzMTMMmAGEZBdnJuj7c+cgwqiSxFYceXQrVpKZTnYSVE +4vIz7LVJTpdTcRpgGSGqgt20G4atOoBkOhvJ7Sgjg2IOfIFy88UiikAMd7H698kd5uD Vd4w== X-Gm-Message-State: AOJu0YxgtcO7Z+eB6Qm/PsSfQnPuh8Zwb0yVZ4CtvoIahxDDy3ewt0mC XV9nt/F4ljUvGUTlcG8eCgsLhZaH9cVMa7xn785LMsYfSOVSQ7AKvJCBp1EI2dWxAUDEfb5WkKS fYqi/tF9Hs1PzX3vhA72Zwk1nJzOXyVPS/0uc+dKbo0FiLaAF0rneCnvv7YLj X-Gm-Gg: ASbGncvyG7wGdaha7x3wNP/f0Bqk+PMesnZIlZQh6605fbjjkpRBnAMEmE7CKU6kDFH b1HZ9ROQgSy2n3PwPjL2tUF9lyX64w9rZyY+jMib4hUNCfh/SdTEc5KuqJPH5gWkhPZ1Nx9Fpip hFKhVn0uMK3nVaZsGl879riavsoez02TmZ/ExccqwEzOwheQ+F1HioLw7DNkfXNrwQjsTBtQnnO h/h7AlNEnLN0/MyKe7zquR3c1Et3xhKa6bQTLiO5SkigIhFiUo0B2U6GWrao2D5RxqPmc+tHRqW QpS3NK3PCReYLxMzkx0yEHTqtWp/bUZPTvuMb9NHTHbP8mOVH5eoZkxzVgFBbEu1KExTOhyzNCd XRFMGq3r1 X-Google-Smtp-Source: AGHT+IF05xKUuuXIze/GiHlIkTdPvXbxOE1x4nsaBI9qDiVCYOT+IAIYDN0afbY9zGURd84vn0XKWCBQjhkY X-Received: by 2002:a05:6214:250e:b0:882:51e0:6429 with SMTP id 6a1803df08f44-88271a39784mr82469266d6.47.1763022239196; Thu, 13 Nov 2025 00:23:59 -0800 (PST) Received: from postal.iol.unh.edu (postal.iol.unh.edu. [2606:4100:3880:1234::84]) by smtp-relay.gmail.com with ESMTPS id 6a1803df08f44-8828653a38fsm1366776d6.21.2025.11.13.00.23.59 (version=TLS1_2 cipher=ECDHE-ECDSA-AES128-GCM-SHA256 bits=128/128); Thu, 13 Nov 2025 00:23:59 -0800 (PST) X-Relaying-Domain: iol.unh.edu Date: Thu, 13 Nov 2025 00:23:59 -0800 (PST) Message-ID: <6915959f.050a0220.c1b95.7830SMTPIN_ADDED_MISSING@mx.google.com> Received: from [172.21.0.2] (unknown [172.18.0.240]) by postal.iol.unh.edu (Postfix) with ESMTP id DFABA6051830; Thu, 13 Nov 2025 03:23:58 -0500 (EST) Subject: |SUCCESS| pw158673-158675 [PATCH] [v5,3/3] ring: establish a safe pa From: dpdklab@iol.unh.edu To: Test Report Cc: dpdk-test-reports@iol.unh.edu In-Reply-To: <20251111183720.833295-3-wathsala.vithanage@arm.com> References: <20251111183720.833295-3-wathsala.vithanage@arm.com> Content-Type: text/plain X-BeenThere: test-report@dpdk.org X-Mailman-Version: 2.1.29 Precedence: list List-Id: automatic DPDK test reports List-Unsubscribe: , List-Archive: List-Post: List-Help: List-Subscribe: , Errors-To: test-report-bounces@dpdk.org Test-Label: iol-compile-amd64-testing Test-Status: SUCCESS http://dpdk.org/patch/158675 _Testing PASS_ Submitter: Wathsala Vithanage Date: Tuesday, November 11 2025 18:37:19 DPDK git baseline: Repo:dpdk Branch: master CommitID:2f8d3fda56754b13a09098fac1140d781366672f 158673-158675 --> testing pass Upstream job id: Windows-Compile-DPDK-VS#7505 Test environment and result as below: +-------------------------------+--------------------+------------------+-------------------+ | Environment | dpdk_meson_compile | dpdk_compile_ovs | dpdk_msvc_compile | +===============================+====================+==================+===================+ | CentOS Stream 9 | PASS | SKIPPED | SKIPPED | +-------------------------------+--------------------+------------------+-------------------+ | openSUSE Leap 15.6 | PASS | SKIPPED | SKIPPED | +-------------------------------+--------------------+------------------+-------------------+ | Fedora Linux 42 | PASS | PASS | SKIPPED | +-------------------------------+--------------------+------------------+-------------------+ | Ubuntu 22.04 | PASS | SKIPPED | SKIPPED | +-------------------------------+--------------------+------------------+-------------------+ | Debian GNU/Linux 12 | PASS | SKIPPED | SKIPPED | +-------------------------------+--------------------+------------------+-------------------+ | CentOS Stream 10 | PASS | SKIPPED | SKIPPED | +-------------------------------+--------------------+------------------+-------------------+ | Ubuntu 20.04 | PASS | SKIPPED | SKIPPED | +-------------------------------+--------------------+------------------+-------------------+ | Red Hat Enterprise Linux 8.10 | PASS | SKIPPED | SKIPPED | +-------------------------------+--------------------+------------------+-------------------+ | Ubuntu 24.04 | PASS | PASS | SKIPPED | +-------------------------------+--------------------+------------------+-------------------+ | Red Hat Enterprise Linux 9.5 | PASS | SKIPPED | SKIPPED | +-------------------------------+--------------------+------------------+-------------------+ | Alpine Linux 3.22.0 | PASS | SKIPPED | SKIPPED | +-------------------------------+--------------------+------------------+-------------------+ | FreeBSD 14.2 | PASS | SKIPPED | SKIPPED | +-------------------------------+--------------------+------------------+-------------------+ | Windows Server 2022 | SKIPPED | SKIPPED | PASS | +-------------------------------+--------------------+------------------+-------------------+ CentOS Stream 9 Kernel: 5.15 Compiler: gcc gcc (GCC) 11.5.0 20240719 (Red Hat 11.5.0-11) openSUSE Leap 15.6 Kernel: 5.15 Compiler: gcc gcc (SUSE Linux) 7.5.0 Fedora Linux 42 Kernel: 5.15 Compiler: clang gcc (GCC) 15.2.1 20250808 (Red Hat 15.2.1-1) Ubuntu 22.04 Kernel: 5.15 Compiler: gcc gcc (Ubuntu 11.4.0-1ubuntu1~22.04) 11.4.0 Debian GNU/Linux 12 Kernel: 5.15 Compiler: gcc gcc (Debian 12.2.0-14+deb12u1) 12.2.0 CentOS Stream 10 Kernel: 5.15 Compiler: gcc gcc (GCC) 14.2.1 20250110 (Red Hat 14.2.1-8) Ubuntu 20.04 Kernel: 5.15 Compiler: gcc gcc (Ubuntu 9.4.0-1ubuntu1~20.04.2) 9.4.0 Red Hat Enterprise Linux 8.10 Kernel: 5.15 Compiler: gcc gcc (GCC) 8.5.0 20210514 (Red Hat 8.5.0-22) Ubuntu 24.04 Kernel: 5.15 Compiler: gcc gcc (Ubuntu 13.3.0-6ubuntu2~24.04) 13.3.0 Red Hat Enterprise Linux 9.5 Kernel: 5.15 Compiler: gcc gcc (GCC) 11.5.0 20240719 (Red Hat 11.5.0-2) Alpine Linux 3.22.0 Kernel: 5.15 Compiler: gcc gcc (Alpine 14.2.0) 14.2.0 FreeBSD 14.2 Kernel: 14.2-RELEASE Compiler: clang 18.1.6 Windows Server 2022 Kernel: 10.0.20348.2031 Compiler: clang 15.0.7, gcc 14.1.0 (MinGW), and MSVC VS 19.39.33521 To view detailed results, visit: https://lab.dpdk.org/results/dashboard/patchsets/34539/ UNH-IOL DPDK Community Lab To manage your email subscriptions, visit: https://lab.dpdk.org/results/dashboard/preferences/subscriptions/