From mboxrd@z Thu Jan 1 00:00:00 1970 Return-Path: Received: from mails.dpdk.org (mails.dpdk.org [217.70.189.124]) by inbox.dpdk.org (Postfix) with ESMTP id 70CDA48AF2 for ; Thu, 13 Nov 2025 09:25:06 +0100 (CET) Received: from mails.dpdk.org (localhost [127.0.0.1]) by mails.dpdk.org (Postfix) with ESMTP id 6B5534003C; Thu, 13 Nov 2025 09:25:06 +0100 (CET) Received: from mail-il1-f227.google.com (mail-il1-f227.google.com [209.85.166.227]) by mails.dpdk.org (Postfix) with ESMTP id 0988A4003C for ; Thu, 13 Nov 2025 09:25:05 +0100 (CET) Received: by mail-il1-f227.google.com with SMTP id e9e14a558f8ab-4330d78f935so5807225ab.2 for ; Thu, 13 Nov 2025 00:25:04 -0800 (PST) DKIM-Signature: v=1; a=rsa-sha256; c=relaxed/relaxed; d=iol.unh.edu; s=unh-iol; t=1763022304; x=1763627104; darn=dpdk.org; h=references:in-reply-to:cc:to:from:subject:message-id:date:from:to :cc:subject:date:message-id:reply-to; bh=FYBC81rQS2z1vzySWq9W1Eke+oiisnycVrMA2OlVs8M=; b=Zt10yVZh84kYDn4Pds1edCPBH68oL9yGVZpwLqOASkAPIjm2sABuX8l1izh1fk3vIf vloAw/BifFsedMfj5/aBkHrjH8f9vgB9bb/id3Ue8M6zXdGWp5X4hgysFZM/VNgGMKvX 8+Ag9NtfVMgRnDb+jCMMy80vubKcBKuwNrua4= X-Google-DKIM-Signature: v=1; a=rsa-sha256; c=relaxed/relaxed; d=1e100.net; s=20230601; t=1763022304; x=1763627104; h=references:in-reply-to:cc:to:from:subject:message-id:date:x-gm-gg :x-gm-message-state:from:to:cc:subject:date:message-id:reply-to; bh=FYBC81rQS2z1vzySWq9W1Eke+oiisnycVrMA2OlVs8M=; b=FOFr7GdzMf+venGZrwPvz0fZg7FxuJTVquSICQVt41Kedi5zuvtGrpLvV/2GS3xgYo Q07W3UwKGRhAAU11G57Ua/r4N0kDqZ+GQRJA+gvnPQ2KPdNMiy+wmASD2CnB1WDfOYI5 nH/pb811M+ZJIiPBi7iPAHUFOWb80cr6kk6AiDRmWfuUAcLcjmU1NyMsY5iVi5p6f4ca Wi8cIAJLdchzRFWwSrOOEOrQPJyi8VDrxlcoPcQ9CfdvowX8+f+1cZrYkJBMy89Lxlmx /IgUPz2eP6qlXsg15iQXYKAI6NY/K2zotdt+rgBSH2tTILPjhDMnBi+tIL+hSRrQRs86 6KYg== X-Gm-Message-State: AOJu0YyVpti84nfiji8mgVBObF8DGIpVrsAl2sfhsazYFiFmRzFznA6y e9BP9npyS0IdCCjCZKaVZvZLkiPYnGUVc5oppsECICzCoT1W8i9+1JkyGcPON3U9Y2pnoX5L9jx mfmquY6i+Z0LxqV9dr1x/TaoI9CpJ2PZ87UueIb0JJj7N5VodtyHKL4DqJDbV X-Gm-Gg: ASbGnct+G2ZwSU4TSjE5LK7CNczP09+9cEDuR9dxUvB2DZzPPheeW/alUTAZrhq7Xuc sX5LTd60VR4ydXUUeisgdZgqHJ8a3AtzTrdxaB0HE6jZu3Xk8G9ftziILIqm8/u4Oo7icZ9knKd fHulzYnnKad4vEyyebifP/cZUCs0rGx+k4o68+35PNgeYzPSq4G21LUjq+9RrNUiGyJFmNwVp2/ TbvnNgEZRx2MhmWoJuCBfXG6/urDqBPQ+osmCEezEkqtc5A7xJsMdIGFgW89swSynbBgiWGWJzM cSnSurC3lEnm5Msd+svhNnB830S1YkZ8MpuXQhh84DIs7Kj4/9s3NGjhdFTRErP+k2GQF2n8jsj ZPjXXD2TH X-Google-Smtp-Source: AGHT+IHrbAnov8GMFuhwWe72A9vsT5lnYzpPIe9GbRjazbWZhrHwdxsC3PnExWJRoxLuFMH5wrFReGTdPFoe X-Received: by 2002:a05:6e02:2146:b0:433:7f13:3a8c with SMTP id e9e14a558f8ab-43473d9b025mr77179165ab.16.1763022304357; Thu, 13 Nov 2025 00:25:04 -0800 (PST) Received: from postal.iol.unh.edu (postal.iol.unh.edu. [2606:4100:3880:1234::84]) by smtp-relay.gmail.com with ESMTPS id e9e14a558f8ab-434839d7a52sm918365ab.28.2025.11.13.00.25.04 (version=TLS1_2 cipher=ECDHE-ECDSA-AES128-GCM-SHA256 bits=128/128); Thu, 13 Nov 2025 00:25:04 -0800 (PST) X-Relaying-Domain: iol.unh.edu Date: Thu, 13 Nov 2025 00:25:04 -0800 (PST) Message-ID: <691595e0.050a0220.9f4b.4867SMTPIN_ADDED_MISSING@mx.google.com> Received: from [172.21.0.3] (unknown [172.18.0.240]) by postal.iol.unh.edu (Postfix) with ESMTP id E20636051830; Thu, 13 Nov 2025 03:25:03 -0500 (EST) Subject: |SUCCESS| pw158648-158652 [PATCH] [v4,5/5] vhost_user: Increase numb From: dpdklab@iol.unh.edu To: Test Report Cc: dpdk-test-reports@iol.unh.edu, Chenbo Xia , Maxime Coquelin In-Reply-To: <20251111111235.2902146-6-pravin.bathija@dell.com> References: <20251111111235.2902146-6-pravin.bathija@dell.com> Content-Type: text/plain X-BeenThere: test-report@dpdk.org X-Mailman-Version: 2.1.29 Precedence: list List-Id: automatic DPDK test reports List-Unsubscribe: , List-Archive: List-Post: List-Help: List-Subscribe: , Errors-To: test-report-bounces@dpdk.org Test-Label: iol-compile-amd64-testing Test-Status: SUCCESS http://dpdk.org/patch/158652 _Testing PASS_ Submitter: Bathija, Pravin Date: Tuesday, November 11 2025 11:12:35 DPDK git baseline: Repo:dpdk-next-virtio Branch: master CommitID:6b37c26a95388aa41bb5267c7c42f604fd571a38 158648-158652 --> testing pass Upstream job id: Windows-Compile-DPDK-Native#32283 Test environment and result as below: +-------------------------------+--------------------+------------------+-------------------+-------------------------+----------------------+ | Environment | dpdk_meson_compile | dpdk_compile_ovs | dpdk_msvc_compile | dpdk_llvm_clang_compile | dpdk_mingw64_compile | +===============================+====================+==================+===================+=========================+======================+ | CentOS Stream 9 | PASS | SKIPPED | SKIPPED | SKIPPED | SKIPPED | +-------------------------------+--------------------+------------------+-------------------+-------------------------+----------------------+ | Fedora Linux 42 | PASS | PASS | SKIPPED | SKIPPED | SKIPPED | +-------------------------------+--------------------+------------------+-------------------+-------------------------+----------------------+ | CentOS Stream 10 | PASS | SKIPPED | SKIPPED | SKIPPED | SKIPPED | +-------------------------------+--------------------+------------------+-------------------+-------------------------+----------------------+ | Debian GNU/Linux 12 | PASS | SKIPPED | SKIPPED | SKIPPED | SKIPPED | +-------------------------------+--------------------+------------------+-------------------+-------------------------+----------------------+ | Ubuntu 20.04 | PASS | SKIPPED | SKIPPED | SKIPPED | SKIPPED | +-------------------------------+--------------------+------------------+-------------------+-------------------------+----------------------+ | Red Hat Enterprise Linux 8.10 | PASS | SKIPPED | SKIPPED | SKIPPED | SKIPPED | +-------------------------------+--------------------+------------------+-------------------+-------------------------+----------------------+ | Alpine Linux 3.22.0 | PASS | SKIPPED | SKIPPED | SKIPPED | SKIPPED | +-------------------------------+--------------------+------------------+-------------------+-------------------------+----------------------+ | Ubuntu 24.04 | PASS | PASS | SKIPPED | SKIPPED | SKIPPED | +-------------------------------+--------------------+------------------+-------------------+-------------------------+----------------------+ | openSUSE Leap 15.6 | PASS | SKIPPED | SKIPPED | SKIPPED | SKIPPED | +-------------------------------+--------------------+------------------+-------------------+-------------------------+----------------------+ | FreeBSD 14.2 | PASS | SKIPPED | SKIPPED | SKIPPED | SKIPPED | +-------------------------------+--------------------+------------------+-------------------+-------------------------+----------------------+ | Ubuntu 22.04 | PASS | SKIPPED | SKIPPED | SKIPPED | SKIPPED | +-------------------------------+--------------------+------------------+-------------------+-------------------------+----------------------+ | Red Hat Enterprise Linux 9.5 | PASS | SKIPPED | SKIPPED | SKIPPED | SKIPPED | +-------------------------------+--------------------+------------------+-------------------+-------------------------+----------------------+ | Windows Server 2022 | SKIPPED | SKIPPED | PASS | PASS | PASS | +-------------------------------+--------------------+------------------+-------------------+-------------------------+----------------------+ CentOS Stream 9 Kernel: 5.15 Compiler: gcc gcc (GCC) 11.5.0 20240719 (Red Hat 11.5.0-11) Fedora Linux 42 Kernel: 5.15 Compiler: clang gcc (GCC) 15.2.1 20250808 (Red Hat 15.2.1-1) CentOS Stream 10 Kernel: 5.15 Compiler: gcc gcc (GCC) 14.2.1 20250110 (Red Hat 14.2.1-8) Debian GNU/Linux 12 Kernel: 5.15 Compiler: gcc gcc (Debian 12.2.0-14+deb12u1) 12.2.0 Ubuntu 20.04 Kernel: 5.15 Compiler: gcc gcc (Ubuntu 9.4.0-1ubuntu1~20.04.2) 9.4.0 Red Hat Enterprise Linux 8.10 Kernel: 5.15 Compiler: gcc gcc (GCC) 8.5.0 20210514 (Red Hat 8.5.0-22) Alpine Linux 3.22.0 Kernel: 5.15 Compiler: gcc gcc (Alpine 14.2.0) 14.2.0 Ubuntu 24.04 Kernel: 5.15 Compiler: gcc gcc (Ubuntu 13.3.0-6ubuntu2~24.04) 13.3.0 openSUSE Leap 15.6 Kernel: 5.15 Compiler: gcc gcc (SUSE Linux) 7.5.0 FreeBSD 14.2 Kernel: 14.2-RELEASE Compiler: clang 18.1.6 Ubuntu 22.04 Kernel: 5.15 Compiler: gcc gcc (Ubuntu 11.4.0-1ubuntu1~22.04) 11.4.0 Red Hat Enterprise Linux 9.5 Kernel: 5.15 Compiler: gcc gcc (GCC) 11.5.0 20240719 (Red Hat 11.5.0-2) Windows Server 2022 Kernel: 10.0.20348.2031 Compiler: clang 15.0.7, gcc 14.1.0 (MinGW), and MSVC VS 19.39.33521 To view detailed results, visit: https://lab.dpdk.org/results/dashboard/patchsets/34530/ UNH-IOL DPDK Community Lab To manage your email subscriptions, visit: https://lab.dpdk.org/results/dashboard/preferences/subscriptions/