From mboxrd@z Thu Jan 1 00:00:00 1970 Return-Path: Received: from mails.dpdk.org (mails.dpdk.org [217.70.189.124]) by inbox.dpdk.org (Postfix) with ESMTP id 3A36F48AF2 for ; Thu, 13 Nov 2025 09:32:36 +0100 (CET) Received: from mails.dpdk.org (localhost [127.0.0.1]) by mails.dpdk.org (Postfix) with ESMTP id 34EB74003C; Thu, 13 Nov 2025 09:32:36 +0100 (CET) Received: from mail-pj1-f98.google.com (mail-pj1-f98.google.com [209.85.216.98]) by mails.dpdk.org (Postfix) with ESMTP id 68A354003C for ; Thu, 13 Nov 2025 09:32:34 +0100 (CET) Received: by mail-pj1-f98.google.com with SMTP id 98e67ed59e1d1-3437af8444cso499304a91.2 for ; Thu, 13 Nov 2025 00:32:34 -0800 (PST) DKIM-Signature: v=1; a=rsa-sha256; c=relaxed/relaxed; d=iol.unh.edu; s=unh-iol; t=1763022753; x=1763627553; darn=dpdk.org; h=references:in-reply-to:cc:to:from:subject:message-id:date:from:to :cc:subject:date:message-id:reply-to; bh=JXEbpYY0l/lASXDayvwrBn7SkqcRY5JATrFbVpbUHK4=; b=SoWp8y22xeMyZViPKU3aM2KvqbP8qXzElX/AavtSdzs55cWkBPOiis9Q9OtZ65zom5 QgMraOM2bCmsHVi2vmwtXGy36tYstVtuPASYGJ4uz1wkrDsPTKccM4w5jJbwz/xq6gQG qVMhEsUeTgLp/ay36GBrGVi2ZYsTwvXx8FEDA= X-Google-DKIM-Signature: v=1; a=rsa-sha256; c=relaxed/relaxed; d=1e100.net; s=20230601; t=1763022753; x=1763627553; h=references:in-reply-to:cc:to:from:subject:message-id:date:x-gm-gg :x-gm-message-state:from:to:cc:subject:date:message-id:reply-to; bh=JXEbpYY0l/lASXDayvwrBn7SkqcRY5JATrFbVpbUHK4=; b=XEpk4hm9WcGSJVcgwR4GkmZZCMNdWepKtL5kAMqXxl6jcoQJncL9nRN/XlTHIhTlag dBvSyIk7aLa7a7jkdMs71pD9B/gOy+8Mn5qqY5QoOPKQjSupyRpkE3Q0mmmt/TGMJQ0j +gkcDn/TiGb/sLe0Ewo6bhpQZzrU3faOjiO2AgJe1sG3R/wL4gn/djHUNb8Nl1fETWTk wI7yI1tuctHGw6FnJDEBJ9SqsPFtrc42146DvxV/Pr9o1zB19bYIByf+ojsislerxVaV XchlKRMbX6nhaS6PUgEQFJz2MAOTdx4xyMf+dJ9mrivb7U7Dqoa2Qxb7ISPBf03cbuXT zg6w== X-Gm-Message-State: AOJu0Yx00LXbXiGPhGjXP4uCTb87tTh70lW89ztUFnrxDO7dr0yExNRs cjsrBNMhXYPohMdBbcVgVlKP0qEcvVLu3eEeM3ZUYh7lk3x3eSXtk9lJHtAIidH75BmeHaKZtHK Shsx3ZC3AmVUnaRYN5/jgRZ7MoADYgMhYyzxEDheAm82v X-Gm-Gg: ASbGncv4XXgBdMwCJCYQTXQbLrY9279VKjApfw0D/1ILdTv43ohiFZNYgBP6vRCc1uJ 32+EWNvkxdUtezjWkEakM5EFx/IIyK2JHgudxS2SS8+hv2zzUT6c8W/PlzkunI9WzYAp8/UaPTx +FRnSLDfJSXAbIQHgllSrCG3VLyewoowAWnpqwfdx6uLq15uqNj3GmVgy8LJCtcMQh/WySqgwgC haetevSsO9PbWm61271ZJzQ73k9vExD1ng1F1OJxAj0fKLcZQDNmH16hZQ+9AJiR1Qzsx1XNx7p rVeR4zqV5s7u7Ag97IdFZvAKu/+0GcC1z9e+VrDgxZYjqMWTDLVz/PX+vXTIpjNioXTk4t4PQwH VpAYjXUVIcOTdoPQ2IWQlEMaHy1WmKr4= X-Google-Smtp-Source: AGHT+IESMCkOA1rVmAC5NHWF5LeHlJMtDaAgS1K8Aq7B7AdHp7uDgxH06n48atFcHki/iO96lLOILdRU7pNt X-Received: by 2002:a17:90b:3b46:b0:32e:3830:65d5 with SMTP id 98e67ed59e1d1-343ddef467amr7315033a91.36.1763022753578; Thu, 13 Nov 2025 00:32:33 -0800 (PST) Received: from postal.iol.unh.edu (postal.iol.unh.edu. [132.177.123.84]) by smtp-relay.gmail.com with ESMTPS id 98e67ed59e1d1-343e06fcf4asm503269a91.2.2025.11.13.00.32.33 (version=TLS1_2 cipher=ECDHE-ECDSA-AES128-GCM-SHA256 bits=128/128); Thu, 13 Nov 2025 00:32:33 -0800 (PST) X-Relaying-Domain: iol.unh.edu Date: Thu, 13 Nov 2025 00:32:33 -0800 (PST) Message-ID: <691597a1.170a0220.38e4f0.9867SMTPIN_ADDED_MISSING@mx.google.com> Received: from [172.21.0.2] (unknown [172.18.0.240]) by postal.iol.unh.edu (Postfix) with ESMTP id D6E1D6051830; Thu, 13 Nov 2025 03:32:32 -0500 (EST) Subject: |SUCCESS| pw158669 [PATCH] [v2,1/1] eal: correct memory ordering in From: dpdklab@iol.unh.edu To: Test Report Cc: dpdk-test-reports@iol.unh.edu In-Reply-To: <20251111173850.790254-1-wathsala.vithanage@arm.com> References: <20251111173850.790254-1-wathsala.vithanage@arm.com> Content-Type: text/plain X-BeenThere: test-report@dpdk.org X-Mailman-Version: 2.1.29 Precedence: list List-Id: automatic DPDK test reports List-Unsubscribe: , List-Archive: List-Post: List-Help: List-Subscribe: , Errors-To: test-report-bounces@dpdk.org Test-Label: iol-unit-amd64-testing Test-Status: SUCCESS http://dpdk.org/patch/158669 _Testing PASS_ Submitter: Wathsala Vithanage Date: Tuesday, November 11 2025 17:38:50 DPDK git baseline: Repo:dpdk Branch: master CommitID:994644dcbdca1490bd831e4fd1d7d5b0b79d1874 158669 --> testing pass Upstream job id: Generic-VM-Unit-Test-DPDK#32467 Test environment and result as below: +-------------------------------+----------------+ | Environment | dpdk_unit_test | +===============================+================+ | Fedora Linux 42 | PASS | +-------------------------------+----------------+ | Fedora Linux 41 | PASS | +-------------------------------+----------------+ | CentOS Stream 10 | PASS | +-------------------------------+----------------+ | CentOS Stream 9 | PASS | +-------------------------------+----------------+ | Debian GNU/Linux 12 | PASS | +-------------------------------+----------------+ | Red Hat Enterprise Linux 9.5 | PASS | +-------------------------------+----------------+ | Fedora Linux 40 | PASS | +-------------------------------+----------------+ | Ubuntu 20.04 | PASS | +-------------------------------+----------------+ | Ubuntu 22.04 | PASS | +-------------------------------+----------------+ | Red Hat Enterprise Linux 8.10 | PASS | +-------------------------------+----------------+ | Ubuntu 24.04 | PASS | +-------------------------------+----------------+ | Windows Server 2022 | PASS | +-------------------------------+----------------+ Fedora Linux 42 Kernel: 5.15 Compiler: gcc gcc (GCC) 15.2.1 20250808 (Red Hat 15.2.1-1) Fedora Linux 41 Kernel: 5.15 Compiler: clang gcc (GCC) 14.3.1 20250523 (Red Hat 14.3.1-1) CentOS Stream 10 Kernel: 5.15 Compiler: gcc gcc (GCC) 14.2.1 20250110 (Red Hat 14.2.1-8) CentOS Stream 9 Kernel: 5.15 Compiler: gcc gcc (GCC) 11.5.0 20240719 (Red Hat 11.5.0-11) Debian GNU/Linux 12 Kernel: 5.15 Compiler: gcc gcc (Debian 12.2.0-14+deb12u1) 12.2.0 Red Hat Enterprise Linux 9.5 Kernel: 5.15 Compiler: gcc gcc (GCC) 11.5.0 20240719 (Red Hat 11.5.0-2) Fedora Linux 40 Kernel: 5.15 Compiler: clang gcc (GCC) 14.2.1 20240912 (Red Hat 14.2.1-3) Ubuntu 20.04 Kernel: 5.15 Compiler: gcc gcc (Ubuntu 9.4.0-1ubuntu1~20.04.2) 9.4.0 Ubuntu 22.04 Kernel: 5.15 Compiler: gcc gcc (Ubuntu 11.4.0-1ubuntu1~22.04) 11.4.0 Red Hat Enterprise Linux 8.10 Kernel: 5.15 Compiler: gcc gcc (GCC) 8.5.0 20210514 (Red Hat 8.5.0-22) Ubuntu 24.04 Kernel: 5.15 Compiler: gcc gcc (Ubuntu 13.3.0-6ubuntu2~24.04) 13.3.0 Windows Server 2022 Kernel: 10.0.20348.2031 Compiler: clang 15.0.7, gcc 14.1.0 (MinGW), and MSVC VS 19.39.33521 To view detailed results, visit: https://lab.dpdk.org/results/dashboard/patchsets/34537/ UNH-IOL DPDK Community Lab To manage your email subscriptions, visit: https://lab.dpdk.org/results/dashboard/preferences/subscriptions/