From mboxrd@z Thu Jan 1 00:00:00 1970 Return-Path: Received: from mails.dpdk.org (mails.dpdk.org [217.70.189.124]) by inbox.dpdk.org (Postfix) with ESMTP id 7C53948AF2 for ; Thu, 13 Nov 2025 09:44:19 +0100 (CET) Received: from mails.dpdk.org (localhost [127.0.0.1]) by mails.dpdk.org (Postfix) with ESMTP id 7564D4003C; Thu, 13 Nov 2025 09:44:19 +0100 (CET) Received: from mail-pj1-f97.google.com (mail-pj1-f97.google.com [209.85.216.97]) by mails.dpdk.org (Postfix) with ESMTP id 456224003C for ; Thu, 13 Nov 2025 09:44:17 +0100 (CET) Received: by mail-pj1-f97.google.com with SMTP id 98e67ed59e1d1-3418ad69672so397361a91.3 for ; Thu, 13 Nov 2025 00:44:17 -0800 (PST) DKIM-Signature: v=1; a=rsa-sha256; c=relaxed/relaxed; d=iol.unh.edu; s=unh-iol; t=1763023456; x=1763628256; darn=dpdk.org; h=references:in-reply-to:cc:to:from:subject:message-id:date:from:to :cc:subject:date:message-id:reply-to; bh=vspkAEpaKL2m+d2dEVxUNIYHJjjLFRD5VCA1nTiWqZQ=; b=bKesDEyEvmUbMN7PDaBnAjGmzEuVRvaPSyuvp9xz5iT2MThGEooU8UBeKzMWlQXxXE MBNjkpDBckNU1BDkUWIGPi/zGCnKCie8X5+BUcubaZXtf8GeHo4+c58eq37zTUqibNJd 2LvOpOa6WKl1hnkyoqllv48TXnI9IN+3q+ULA= X-Google-DKIM-Signature: v=1; a=rsa-sha256; c=relaxed/relaxed; d=1e100.net; s=20230601; t=1763023456; x=1763628256; h=references:in-reply-to:cc:to:from:subject:message-id:date:x-gm-gg :x-gm-message-state:from:to:cc:subject:date:message-id:reply-to; bh=vspkAEpaKL2m+d2dEVxUNIYHJjjLFRD5VCA1nTiWqZQ=; b=F/0k991yAZrL29kME6yrTEz077Jh124d2e0TCC9FZIb7FWyp3SoZsXTsfhgMQMxTVu CHMKCQo2VOz+vHs54hsJxPMmRiFLZ3SNfD3pZ11S2QCmiS97TYvi+tcdMaqaHYwCUpO6 FXvuZINP21clCChu49aTi9GV0P9e6aYYxGYm1Epvfs1JmsnDC//tdUG+kx+CbwLhAkZ6 iCMKilJus3vZdE+QeFC4rHjPBvRDayIB8KYFYqfTPwoHJWdHIPjGfZ96yCbQyOGh5MJY TJg+6QUr6+aEYVESp5ggr+ZltQRipqck1dKw2+2iQIt9Cac5+ONpbkUV0CIllbpBXT4F De0g== X-Gm-Message-State: AOJu0YxVdHPn48Cfrtm/m9dJLzZ+xSuPdKvpYES9DMKarPSUfVPF0T5W R6WgAl9Jqbja5Pkrshk3CVgHDv/SF5XLqSREFgvM9y44X8CsIkgqcFgu/t+m0rf5lBJnFsI6Jc0 kiKVe2MJ0LSHMwKzK/3A8RqUpFPaZDobVN9DjOVota1vd2fOEL3GTKdwJ1l1k X-Gm-Gg: ASbGncsSt5k+F1yu2z4OYCjQSyGxbvnrf5hbwzBsgLJUfg9GcLU77W/QYFUrZAAR6DN wB6Y3F+REXlrPqBWE/mg1UJ572nuhi7W3Z8DgWSkRer7ihr/iyxQEu54C9UoaJ9IDUUBV0xPbSv DBVSTJ5uuthmdUYGKdFb0/qz+Nh8DzEqFZ3Cs8voA0VQkF4vm+qsONBDTgrzHEadYksAxD8B1LE Vd4hNDWuiccq4k92EQXCt4WJMGNBd3H7BzZgRcroSm3Lax4+kjuNBRWhegGBqMNxNNvwnhqG6Zi LGoUd3IAJZ0QV9Vd97ocK2fxVtX15jlO5aHIsrLiMbnNMrJ45ow5psu7zWeaJpj1/8sH2sVMEMe 8BtNFdbPF X-Google-Smtp-Source: AGHT+IEZaODoSCjReydDB5GD2CskHzm73i1Wk2TQgzkG2BGPqCLYMAkxGhs/0TCUbhRUqy+jBtiy0VlDIsxX X-Received: by 2002:a17:90b:4a50:b0:343:684c:f8ac with SMTP id 98e67ed59e1d1-343dddd4dccmr6904356a91.8.1763023456284; Thu, 13 Nov 2025 00:44:16 -0800 (PST) Received: from postal.iol.unh.edu (postal.iol.unh.edu. [2606:4100:3880:1234::84]) by smtp-relay.gmail.com with ESMTPS id 98e67ed59e1d1-343ee0a2455sm140249a91.3.2025.11.13.00.44.16 (version=TLS1_2 cipher=ECDHE-ECDSA-AES128-GCM-SHA256 bits=128/128); Thu, 13 Nov 2025 00:44:16 -0800 (PST) X-Relaying-Domain: iol.unh.edu Date: Thu, 13 Nov 2025 00:44:16 -0800 (PST) Message-ID: <69159a60.170a0220.399c40.7349SMTPIN_ADDED_MISSING@mx.google.com> Received: from [172.21.0.2] (unknown [172.18.0.240]) by postal.iol.unh.edu (Postfix) with ESMTP id 878046051830; Thu, 13 Nov 2025 03:44:15 -0500 (EST) Subject: |SUCCESS| pw158739-158743 [PATCH] [v2,5/5] bus/fslmc: add support fo From: dpdklab@iol.unh.edu To: Test Report Cc: dpdk-test-reports@iol.unh.edu, Stephen Hemminger In-Reply-To: <20251113052931.1784953-5-hemant.agrawal@nxp.com> References: <20251113052931.1784953-5-hemant.agrawal@nxp.com> Content-Type: text/plain X-BeenThere: test-report@dpdk.org X-Mailman-Version: 2.1.29 Precedence: list List-Id: automatic DPDK test reports List-Unsubscribe: , List-Archive: List-Post: List-Help: List-Subscribe: , Errors-To: test-report-bounces@dpdk.org Test-Label: iol-unit-amd64-testing Test-Status: SUCCESS http://dpdk.org/patch/158743 _Testing PASS_ Submitter: Hemant Agrawal Date: Thursday, November 13 2025 05:29:31 DPDK git baseline: Repo:dpdk-next-net Branch: master CommitID:29807269854f9bfc72f1323273de8e23adc724d4 158739-158743 --> testing pass Upstream job id: Generic-Unit-Test-DPDK#391878 Test environment and result as below: +-------------------------------+----------------+ | Environment | dpdk_unit_test | +===============================+================+ | CentOS Stream 9 | PASS | +-------------------------------+----------------+ | CentOS Stream 10 | PASS | +-------------------------------+----------------+ | Fedora Linux 40 | PASS | +-------------------------------+----------------+ | Debian GNU/Linux 12 | PASS | +-------------------------------+----------------+ | Fedora Linux 41 | PASS | +-------------------------------+----------------+ | Red Hat Enterprise Linux 8.10 | PASS | +-------------------------------+----------------+ | Fedora Linux 42 | PASS | +-------------------------------+----------------+ | Ubuntu 22.04 | PASS | +-------------------------------+----------------+ | Red Hat Enterprise Linux 9.5 | PASS | +-------------------------------+----------------+ | Ubuntu 20.04 | PASS | +-------------------------------+----------------+ | Ubuntu 24.04 | PASS | +-------------------------------+----------------+ CentOS Stream 9 Kernel: 5.15 Compiler: gcc gcc (GCC) 11.5.0 20240719 (Red Hat 11.5.0-11) CentOS Stream 10 Kernel: 5.15 Compiler: gcc gcc (GCC) 14.2.1 20250110 (Red Hat 14.2.1-8) Fedora Linux 40 Kernel: 5.15 Compiler: clang gcc (GCC) 14.2.1 20240912 (Red Hat 14.2.1-3) Debian GNU/Linux 12 Kernel: 5.15 Compiler: gcc gcc (Debian 12.2.0-14+deb12u1) 12.2.0 Fedora Linux 41 Kernel: 5.15 Compiler: clang gcc (GCC) 14.3.1 20250523 (Red Hat 14.3.1-1) Red Hat Enterprise Linux 8.10 Kernel: 5.15 Compiler: gcc gcc (GCC) 8.5.0 20210514 (Red Hat 8.5.0-22) Fedora Linux 42 Kernel: 5.15 Compiler: clang gcc (GCC) 15.2.1 20250808 (Red Hat 15.2.1-1) Ubuntu 22.04 Kernel: 5.15 Compiler: gcc gcc (Ubuntu 11.4.0-1ubuntu1~22.04) 11.4.0 Red Hat Enterprise Linux 9.5 Kernel: 5.15 Compiler: gcc gcc (GCC) 11.5.0 20240719 (Red Hat 11.5.0-2) Ubuntu 20.04 Kernel: 5.15 Compiler: gcc gcc (Ubuntu 9.4.0-1ubuntu1~20.04.2) 9.4.0 Ubuntu 24.04 Kernel: 5.15 Compiler: gcc gcc (Ubuntu 13.3.0-6ubuntu2~24.04) 13.3.0 To view detailed results, visit: https://lab.dpdk.org/results/dashboard/patchsets/34563/ UNH-IOL DPDK Community Lab To manage your email subscriptions, visit: https://lab.dpdk.org/results/dashboard/preferences/subscriptions/