From mboxrd@z Thu Jan 1 00:00:00 1970 Return-Path: Received: from mails.dpdk.org (mails.dpdk.org [217.70.189.124]) by inbox.dpdk.org (Postfix) with ESMTP id EC02348AF2 for ; Thu, 13 Nov 2025 09:57:32 +0100 (CET) Received: from mails.dpdk.org (localhost [127.0.0.1]) by mails.dpdk.org (Postfix) with ESMTP id CD39A4003C; Thu, 13 Nov 2025 09:57:32 +0100 (CET) Received: from mail-pl1-f225.google.com (mail-pl1-f225.google.com [209.85.214.225]) by mails.dpdk.org (Postfix) with ESMTP id 5C5CA4003C for ; Thu, 13 Nov 2025 09:57:31 +0100 (CET) Received: by mail-pl1-f225.google.com with SMTP id d9443c01a7336-2957850c63bso5696365ad.0 for ; Thu, 13 Nov 2025 00:57:31 -0800 (PST) DKIM-Signature: v=1; a=rsa-sha256; c=relaxed/relaxed; d=iol.unh.edu; s=unh-iol; t=1763024250; x=1763629050; darn=dpdk.org; h=references:in-reply-to:cc:to:from:subject:message-id:date:from:to :cc:subject:date:message-id:reply-to; bh=/YseV4wnTwX0WXIIdu1nDxsFCvRZ70nMXMsNSrJQoMc=; b=W7CRYcJ2fCoevhoBZ2p/CP6o2iTjNgfurH+ByqfEiwNiVqvNSBxtoze5iecHPkGI4N 4v/QgYEL8sjvDqS0gyCAVsUp5ghwKOZjHVb/YyX97maz5KxV+LkBqZvIbKfejREELjAC LETVJa3EqEXz/NeoGouBBgD4LCDCoQ3oCvMLQ= X-Google-DKIM-Signature: v=1; a=rsa-sha256; c=relaxed/relaxed; d=1e100.net; s=20230601; t=1763024250; x=1763629050; h=references:in-reply-to:cc:to:from:subject:message-id:date:x-gm-gg :x-gm-message-state:from:to:cc:subject:date:message-id:reply-to; bh=/YseV4wnTwX0WXIIdu1nDxsFCvRZ70nMXMsNSrJQoMc=; b=LL2qpAxcRopKDWVE2UaOvryXuEJfFp0DLN3pWgnk1B8U6MKfVyAR1YUNnNWQLR6tjp D6qmAADofsD5iZm8GguEVNKNYrav9jhCeNJ2nd1cKMhWVW8KcV7hvU/6PtqVyCVZZeuo hCTQVVSyGOBmLyBRyLfClwm4VSHrH2ISnCeD1t+5rPQB/TEhwLJ0J0OlJ0EHbB0hwgLr QqEGlMz1ujdJWaTuFg/zcKN3ZN27N2CztHHqRgmAID7csYSVAO4/dFOnE9CL6eFcqTSd nDoCmzAmnSl6H+rV0TsWPzZX8myBdbT6xLZLv0fAGKMjXQmEh6NCxybNy03+4HWapjWB BPjQ== X-Gm-Message-State: AOJu0YyA6RlrVjlbibYP0dAaN8HcrGttgvBE/zSQCh7E39uG2BIPtH8T 9EnXNn72IWK6zgL7dNjojVUro/Q8fjKTz8+Y2dTsTxsxnbrBpybs93MwVOVEshOEqSQ39ykDgAq izfoAXDbg6PJ5+CVg+MuNnUXD7Lwo2kHNN803cUGp114jfOP73wcDgV+A/kVc X-Gm-Gg: ASbGnctAMdrCNmSieUILhZzeEicpL9jqq1hHHp5j0IFrtX58Pmh/natFsHlZ6zZ9jvd 9nLhOusLImo9JwVWL9qCX4IgFLtBdwjXC6+1ypn0RzZZETE2TFmyxW4RBa2XHFn++MD09Ay+Rmt lqcMotPxQwIcvWpasmf5MaO5IRnTTFInFJ4Dm28D+CzPnVwBP/Y1FtgE03xL1xSIR9hXq+7M/C5 TJ+NmqqMcYopu8SbcY5djx8wr1xV4rB9n51hhtNlVFmugOGAuf1RSgXPZEXLmSo4zhE3pWjF4eZ +8Ne98VYHucM4VwzheNU9rlMErMy7Px5WxXhev4KtplRYpq8/TaTdg/MRyXaAfF7gkneKvZcZfQ Zrr1MdWDu X-Google-Smtp-Source: AGHT+IFdUuY4R0otYDLXC04c6xIb4iM8BqbiCUG2GDL33dDFbvsm+HxnSe2/Z+p/1N7GWi/U+XyGmOD0B526 X-Received: by 2002:a17:903:2c04:b0:283:f19a:bffe with SMTP id d9443c01a7336-2985a4dd284mr27700865ad.7.1763024250506; Thu, 13 Nov 2025 00:57:30 -0800 (PST) Received: from postal.iol.unh.edu (postal.iol.unh.edu. [2606:4100:3880:1234::84]) by smtp-relay.gmail.com with ESMTPS id d9443c01a7336-2985c2540dasm1444505ad.27.2025.11.13.00.57.30 (version=TLS1_2 cipher=ECDHE-ECDSA-AES128-GCM-SHA256 bits=128/128); Thu, 13 Nov 2025 00:57:30 -0800 (PST) X-Relaying-Domain: iol.unh.edu Date: Thu, 13 Nov 2025 00:57:30 -0800 (PST) Message-ID: <69159d7a.170a0220.e2f2e.75daSMTPIN_ADDED_MISSING@mx.google.com> Received: from [172.21.0.2] (unknown [172.18.0.240]) by postal.iol.unh.edu (Postfix) with ESMTP id EA4036051830; Thu, 13 Nov 2025 03:57:29 -0500 (EST) Subject: |SUCCESS| pw158669 [PATCH] [v2,1/1] eal: correct memory ordering in From: dpdklab@iol.unh.edu To: Test Report Cc: dpdk-test-reports@iol.unh.edu In-Reply-To: <20251111173850.790254-1-wathsala.vithanage@arm.com> References: <20251111173850.790254-1-wathsala.vithanage@arm.com> Content-Type: text/plain X-BeenThere: test-report@dpdk.org X-Mailman-Version: 2.1.29 Precedence: list List-Id: automatic DPDK test reports List-Unsubscribe: , List-Archive: List-Post: List-Help: List-Subscribe: , Errors-To: test-report-bounces@dpdk.org Test-Label: iol-unit-amd64-testing Test-Status: SUCCESS http://dpdk.org/patch/158669 _Testing PASS_ Submitter: Wathsala Vithanage Date: Tuesday, November 11 2025 17:38:50 DPDK git baseline: Repo:dpdk Branch: master CommitID:994644dcbdca1490bd831e4fd1d7d5b0b79d1874 158669 --> testing pass Upstream job id: Generic-VM-Unit-Test-DPDK#32468 Test environment and result as below: +-------------------------------+----------------+ | Environment | dpdk_unit_test | +===============================+================+ | Fedora Linux 42 | PASS | +-------------------------------+----------------+ | Fedora Linux 41 | PASS | +-------------------------------+----------------+ | CentOS Stream 10 | PASS | +-------------------------------+----------------+ | CentOS Stream 9 | PASS | +-------------------------------+----------------+ | Debian GNU/Linux 12 | PASS | +-------------------------------+----------------+ | Red Hat Enterprise Linux 9.5 | PASS | +-------------------------------+----------------+ | Fedora Linux 40 | PASS | +-------------------------------+----------------+ | Ubuntu 20.04 | PASS | +-------------------------------+----------------+ | Ubuntu 22.04 | PASS | +-------------------------------+----------------+ | Red Hat Enterprise Linux 8.10 | PASS | +-------------------------------+----------------+ | Ubuntu 24.04 | PASS | +-------------------------------+----------------+ | Windows Server 2022 | PASS | +-------------------------------+----------------+ Fedora Linux 42 Kernel: 5.15 Compiler: gcc gcc (GCC) 15.2.1 20250808 (Red Hat 15.2.1-1) Fedora Linux 41 Kernel: 5.15 Compiler: clang gcc (GCC) 14.3.1 20250523 (Red Hat 14.3.1-1) CentOS Stream 10 Kernel: 5.15 Compiler: gcc gcc (GCC) 14.2.1 20250110 (Red Hat 14.2.1-8) CentOS Stream 9 Kernel: 5.15 Compiler: gcc gcc (GCC) 11.5.0 20240719 (Red Hat 11.5.0-11) Debian GNU/Linux 12 Kernel: 5.15 Compiler: gcc gcc (Debian 12.2.0-14+deb12u1) 12.2.0 Red Hat Enterprise Linux 9.5 Kernel: 5.15 Compiler: gcc gcc (GCC) 11.5.0 20240719 (Red Hat 11.5.0-2) Fedora Linux 40 Kernel: 5.15 Compiler: clang gcc (GCC) 14.2.1 20240912 (Red Hat 14.2.1-3) Ubuntu 20.04 Kernel: 5.15 Compiler: gcc gcc (Ubuntu 9.4.0-1ubuntu1~20.04.2) 9.4.0 Ubuntu 22.04 Kernel: 5.15 Compiler: gcc gcc (Ubuntu 11.4.0-1ubuntu1~22.04) 11.4.0 Red Hat Enterprise Linux 8.10 Kernel: 5.15 Compiler: gcc gcc (GCC) 8.5.0 20210514 (Red Hat 8.5.0-22) Ubuntu 24.04 Kernel: 5.15 Compiler: gcc gcc (Ubuntu 13.3.0-6ubuntu2~24.04) 13.3.0 Windows Server 2022 Kernel: 10.0.20348.2031 Compiler: clang 15.0.7, gcc 14.1.0 (MinGW), and MSVC VS 19.39.33521 To view detailed results, visit: https://lab.dpdk.org/results/dashboard/patchsets/34537/ UNH-IOL DPDK Community Lab To manage your email subscriptions, visit: https://lab.dpdk.org/results/dashboard/preferences/subscriptions/