From mboxrd@z Thu Jan 1 00:00:00 1970 Return-Path: Received: from mails.dpdk.org (mails.dpdk.org [217.70.189.124]) by inbox.dpdk.org (Postfix) with ESMTP id 24F8448AF8 for ; Thu, 13 Nov 2025 10:08:50 +0100 (CET) Received: from mails.dpdk.org (localhost [127.0.0.1]) by mails.dpdk.org (Postfix) with ESMTP id 20EC64003C; Thu, 13 Nov 2025 10:08:50 +0100 (CET) Received: from mail-il1-f227.google.com (mail-il1-f227.google.com [209.85.166.227]) by mails.dpdk.org (Postfix) with ESMTP id A48D74003C for ; Thu, 13 Nov 2025 10:08:46 +0100 (CET) Received: by mail-il1-f227.google.com with SMTP id e9e14a558f8ab-4332381ba9bso7013795ab.1 for ; Thu, 13 Nov 2025 01:08:46 -0800 (PST) DKIM-Signature: v=1; a=rsa-sha256; c=relaxed/relaxed; d=iol.unh.edu; s=unh-iol; t=1763024926; x=1763629726; darn=dpdk.org; h=references:in-reply-to:cc:to:from:subject:message-id:date:from:to :cc:subject:date:message-id:reply-to; bh=MI1W526a8X4cvekji4hxh1BWi6GjSBAPMbjyDfbgeAY=; b=QKXQZyQnWg2F3SbcNSDmQI/WI6vK1HO2wMkqOcXoh5TYA2kNlGNPdQ0IeOuZ5bAVcI roE6WwnYSyvM5O42IOFQs7ayWBcgA7L1TMhDFYAGMEQEDaKc0jldakZ020aOXXy+weEn fDZl8viznR0pH5f6/7ZgvBOWmP/aNxpuqOVRA= X-Google-DKIM-Signature: v=1; a=rsa-sha256; c=relaxed/relaxed; d=1e100.net; s=20230601; t=1763024926; x=1763629726; h=references:in-reply-to:cc:to:from:subject:message-id:date:x-gm-gg :x-gm-message-state:from:to:cc:subject:date:message-id:reply-to; bh=MI1W526a8X4cvekji4hxh1BWi6GjSBAPMbjyDfbgeAY=; b=SNQaQec7ZWYWVt5+l9q+dY1eC727HML/UpnBcrtG2Jx6Zjoz5sYf5asAk40deHwPLO iD6t4rg3TnG2MseUHlJ5LKPy6bZNgRSX8DFJ3M9OqViFD/qAp5jDsMVDQMVT4PPGDum8 BXadVelqAGilG2Mq2/zlji4lK3FBpM5+6iNxsHWMO35ij25EUws8MiR0EodHNUH5XcyJ 8ga9kSGO0YVS3q5+NSB+GdfEQc4nG6FWDCat1CnI5b+4RrNEW+Cq3v/fLBjAW+cioXgG dLgpf6WuAciNRoNjsfcI68jfhdYDltz+t2d7yUVD0VXyKvaVrbvwaALOcfXysNsXROun yDzw== X-Gm-Message-State: AOJu0YxXeNx/NHxfFKK715YHYkUHCztjLlRt+EQQ7Eqkn+vSG45WNCeY 0BMp7uHTVR4zlOBtuEX5xhRQ5rJ3CTepoLvohZff2dflWZU7vo7mqeNOjCL3m6NrZ7hin8/I2Dl +SRzefRLpHbo9P9GS9vlFQzQJMp7tXmjqNSM8IUicXxCY X-Gm-Gg: ASbGncse21P7m7I9dBuhOarjrvTRgcgH/9qVuT0Gys3pLK0Wratuyac2qqWsfqWIeQy 1byFF5mIOf6vcpcUAIh/2BYdtfTdwjVM55qWpoN4NVzHJm4ywopVfjpD+4Yq3i9IelrHeMN2iFq iIIWsQP1h7sNKFympH6VT8g8FK5BFAhA882iXqiHR1BsJH64mMG8y1DNbt/LVz8fKkekgHlthEw 4XFOKnoIpqMVwJ5sf0NdI7prqrvxzKm2a4JwKGm1L2PXSEQEc7J0Nz4iecf0l/oMacE8rCB+td7 geaF3s+3AXHqewKF9UHlUYBqG5bb88muZonFHJxrPYTSl6bBkxqf3zIIjrLE9k3y8C5bf90Qzvy 99tMcPGwXwsGSKxErjtnitMxQfzImCVM= X-Google-Smtp-Source: AGHT+IHYST/AC71WDqbwIaGQWNgJpcEBTGsBjjNUI6TDA10u4Qn9dS84JcKaeOyg0QhoSnu/9J3O1ov+Bo67 X-Received: by 2002:a05:6e02:250b:b0:433:39bc:2f6e with SMTP id e9e14a558f8ab-43473db1fcamr78102255ab.26.1763024926045; Thu, 13 Nov 2025 01:08:46 -0800 (PST) Received: from postal.iol.unh.edu (postal.iol.unh.edu. [132.177.123.84]) by smtp-relay.gmail.com with ESMTPS id 8926c6da1cb9f-5b7bd267d81sm111927173.16.2025.11.13.01.08.45 (version=TLS1_2 cipher=ECDHE-ECDSA-AES128-GCM-SHA256 bits=128/128); Thu, 13 Nov 2025 01:08:46 -0800 (PST) X-Relaying-Domain: iol.unh.edu Date: Thu, 13 Nov 2025 01:08:46 -0800 (PST) Message-ID: <6915a01e.050a0220.3cf1d5.5b48SMTPIN_ADDED_MISSING@mx.google.com> Received: from [172.21.0.2] (unknown [172.18.0.240]) by postal.iol.unh.edu (Postfix) with ESMTP id 9BF2E6051830; Thu, 13 Nov 2025 04:08:45 -0500 (EST) Subject: |SUCCESS| pw158646-158647 [PATCH] [v7,2/2] app/testpmd: support mult From: dpdklab@iol.unh.edu To: Test Report Cc: dpdk-test-reports@iol.unh.edu, Stephen Hemminger In-Reply-To: <20251111091303.39491-3-fengchengwen@huawei.com> References: <20251111091303.39491-3-fengchengwen@huawei.com> Content-Type: text/plain X-BeenThere: test-report@dpdk.org X-Mailman-Version: 2.1.29 Precedence: list List-Id: automatic DPDK test reports List-Unsubscribe: , List-Archive: List-Post: List-Help: List-Subscribe: , Errors-To: test-report-bounces@dpdk.org Test-Label: iol-compile-amd64-testing Test-Status: SUCCESS http://dpdk.org/patch/158647 _Testing PASS_ Submitter: fengchengwen Date: Tuesday, November 11 2025 09:13:03 DPDK git baseline: Repo:dpdk-next-net Branch: master CommitID:591ee7f468aebec30d68d30afa8d5e4dcfc897dc 158646-158647 --> testing pass Upstream job id: Windows-Compile-DPDK-Native#32284 Test environment and result as below: +-------------------------------+--------------------+------------------+-------------------+-------------------------+ | Environment | dpdk_meson_compile | dpdk_compile_ovs | dpdk_msvc_compile | dpdk_llvm_clang_compile | +===============================+====================+==================+===================+=========================+ | openSUSE Leap 15.6 | PASS | SKIPPED | SKIPPED | SKIPPED | +-------------------------------+--------------------+------------------+-------------------+-------------------------+ | CentOS Stream 9 | PASS | SKIPPED | SKIPPED | SKIPPED | +-------------------------------+--------------------+------------------+-------------------+-------------------------+ | Red Hat Enterprise Linux 9.5 | PASS | SKIPPED | SKIPPED | SKIPPED | +-------------------------------+--------------------+------------------+-------------------+-------------------------+ | CentOS Stream 10 | PASS | SKIPPED | SKIPPED | SKIPPED | +-------------------------------+--------------------+------------------+-------------------+-------------------------+ | Fedora Linux 42 | PASS | PASS | SKIPPED | SKIPPED | +-------------------------------+--------------------+------------------+-------------------+-------------------------+ | Ubuntu 20.04 | PASS | SKIPPED | SKIPPED | SKIPPED | +-------------------------------+--------------------+------------------+-------------------+-------------------------+ | Alpine Linux 3.22.0 | PASS | SKIPPED | SKIPPED | SKIPPED | +-------------------------------+--------------------+------------------+-------------------+-------------------------+ | Red Hat Enterprise Linux 8.10 | PASS | SKIPPED | SKIPPED | SKIPPED | +-------------------------------+--------------------+------------------+-------------------+-------------------------+ | Ubuntu 24.04 | PASS | PASS | SKIPPED | SKIPPED | +-------------------------------+--------------------+------------------+-------------------+-------------------------+ | Debian GNU/Linux 12 | PASS | SKIPPED | SKIPPED | SKIPPED | +-------------------------------+--------------------+------------------+-------------------+-------------------------+ | Ubuntu 22.04 | PASS | SKIPPED | SKIPPED | SKIPPED | +-------------------------------+--------------------+------------------+-------------------+-------------------------+ | FreeBSD 14.2 | PASS | SKIPPED | SKIPPED | SKIPPED | +-------------------------------+--------------------+------------------+-------------------+-------------------------+ | Windows Server 2022 | SKIPPED | SKIPPED | PASS | PASS | +-------------------------------+--------------------+------------------+-------------------+-------------------------+ openSUSE Leap 15.6 Kernel: 5.15 Compiler: gcc gcc (SUSE Linux) 7.5.0 CentOS Stream 9 Kernel: 5.15 Compiler: gcc gcc (GCC) 11.5.0 20240719 (Red Hat 11.5.0-11) Red Hat Enterprise Linux 9.5 Kernel: 5.15 Compiler: gcc gcc (GCC) 11.5.0 20240719 (Red Hat 11.5.0-2) CentOS Stream 10 Kernel: 5.15 Compiler: gcc gcc (GCC) 14.2.1 20250110 (Red Hat 14.2.1-8) Fedora Linux 42 Kernel: 5.15 Compiler: clang gcc (GCC) 15.2.1 20250808 (Red Hat 15.2.1-1) Ubuntu 20.04 Kernel: 5.15 Compiler: gcc gcc (Ubuntu 9.4.0-1ubuntu1~20.04.2) 9.4.0 Alpine Linux 3.22.0 Kernel: 5.15 Compiler: gcc gcc (Alpine 14.2.0) 14.2.0 Red Hat Enterprise Linux 8.10 Kernel: 5.15 Compiler: gcc gcc (GCC) 8.5.0 20210514 (Red Hat 8.5.0-22) Ubuntu 24.04 Kernel: 5.15 Compiler: gcc gcc (Ubuntu 13.3.0-6ubuntu2~24.04) 13.3.0 Debian GNU/Linux 12 Kernel: 5.15 Compiler: gcc gcc (Debian 12.2.0-14+deb12u1) 12.2.0 Ubuntu 22.04 Kernel: 5.15 Compiler: gcc gcc (Ubuntu 11.4.0-1ubuntu1~22.04) 11.4.0 FreeBSD 14.2 Kernel: 14.2-RELEASE Compiler: clang 18.1.6 Windows Server 2022 Kernel: 10.0.20348.2031 Compiler: clang 15.0.7, gcc 14.1.0 (MinGW), and MSVC VS 19.39.33521 To view detailed results, visit: https://lab.dpdk.org/results/dashboard/patchsets/34531/ UNH-IOL DPDK Community Lab To manage your email subscriptions, visit: https://lab.dpdk.org/results/dashboard/preferences/subscriptions/