From mboxrd@z Thu Jan 1 00:00:00 1970 Return-Path: Received: from mails.dpdk.org (mails.dpdk.org [217.70.189.124]) by inbox.dpdk.org (Postfix) with ESMTP id 7E0B548AF8 for ; Thu, 13 Nov 2025 10:16:22 +0100 (CET) Received: from mails.dpdk.org (localhost [127.0.0.1]) by mails.dpdk.org (Postfix) with ESMTP id 6B049402F0; Thu, 13 Nov 2025 10:16:22 +0100 (CET) Received: from mail-oa1-f99.google.com (mail-oa1-f99.google.com [209.85.160.99]) by mails.dpdk.org (Postfix) with ESMTP id C916D402F0 for ; Thu, 13 Nov 2025 10:16:21 +0100 (CET) Received: by mail-oa1-f99.google.com with SMTP id 586e51a60fabf-3d70c5bb455so181111fac.1 for ; Thu, 13 Nov 2025 01:16:21 -0800 (PST) DKIM-Signature: v=1; a=rsa-sha256; c=relaxed/relaxed; d=iol.unh.edu; s=unh-iol; t=1763025381; x=1763630181; darn=dpdk.org; h=references:in-reply-to:cc:to:from:subject:message-id:date:from:to :cc:subject:date:message-id:reply-to; bh=bhIei/KaH9zTnOn+QhpulwNBU+DIXRfMYNH+w1B753Y=; b=bZI+He20Fsw9XGUgJdb+UwDLhpdhe1hvq/6RcpvkCC/56cigsB5lXD/xaTWAYyxUFo UhwvzWYgp+r4IxJ+D9ar67ZXVL+Fdv1+SNX3T8CBw2VWqkv43SyU9o1Q5YL6E+Q6u4Qz LuQd3uxQBymaZvSxDOmWnD8PW7BLwNTsxtW7A= X-Google-DKIM-Signature: v=1; a=rsa-sha256; c=relaxed/relaxed; d=1e100.net; s=20230601; t=1763025381; x=1763630181; h=references:in-reply-to:cc:to:from:subject:message-id:date:x-gm-gg :x-gm-message-state:from:to:cc:subject:date:message-id:reply-to; bh=bhIei/KaH9zTnOn+QhpulwNBU+DIXRfMYNH+w1B753Y=; b=TLvQOak61IKmi2Hwk8AwHTLzf2DVG/1T94U5Hy75ViNhKHVIezbAP8UPJh83Cp/fhN VzXpWdWHND/dzMpunKrEUTdHKOPIOiN8YfyIifWaixiIzC3PxshyTRwRfq+g7Z74hOsz v5GEo8z3UyG8nIv5iU5aDFTU2WC6v/4CyFJAvia2L0pJ/HEsVhJDkZcRH6O1HpvL9xjH 8KqR+tZg0h0XofWU9AljEtHagZgjj+O3TVw2M2z53ULtfeIMz04F5iI9WBfA5hhwv3Ob cmhdhB9lPS7eHM1APdqb8XDrKyHHWe0emk8pAWGJsvoFniea9ZcttdQuI3r3Z6CQ25N3 Oblg== X-Gm-Message-State: AOJu0YzuZ0+POlc0g8+/vhjUjLuNn+EoCBOBXN1ySDVpcc+CZ9QYY94i 7SmDPqx7hQ6W5ubmb5V4CMO93iWHK0KiIAQSwVCdaGPygjUbJbuUiYWQ0v/Em77oQcPm4tUSVDZ VVuEnEBj/0tu8Zo9WuJCoznaHL1UWp2bMtBejIHISR5QgSw6cEz1smOI+JKcY X-Gm-Gg: ASbGnct/PVFpprpcnpJ2x3kkRmcJqf++T4BclmOlwaynaCM9pqfl/GNACqtBrLflifn AjzMrGe1BWa7WPHWCHsgYc7ABZFQCPvoEz/9A5zoQ/wjFVoKCcb4BVkh5PLTCBYrlfy8wvWq0Kq Kt+DoC4LCI9TBxY81wGImrsOUbs6HZrJSY9r1JVh6Hxe6+IiiwKKtEz6qh+GIJ3d73FAiFIIvhj HTmV2K8VaZB5VESOd7/BeVl9mq4zUe04MvIJOJrljPo95+sV4RhNFbT9v57QekUBqZZoKmeraAd P7RzVheF4nngRrYg7ydhsa1bVyaMdMs9TdZIxW4Tr3OcBjVhb1EeOO92Mtm1292+FlUjIThD687 j/G8tZQze X-Google-Smtp-Source: AGHT+IGSIpJzZR8vZHXRcKYzLjpkzgkrHT/Fr+zWJ2O7ZJdyZdTb95FXsXM985h90Hv1Je+yLzAwZR8IBCTa X-Received: by 2002:a05:6871:230b:b0:332:8989:4ef8 with SMTP id 586e51a60fabf-3e834100652mr2764335fac.31.1763025381099; Thu, 13 Nov 2025 01:16:21 -0800 (PST) Received: from postal.iol.unh.edu (postal.iol.unh.edu. [2606:4100:3880:1234::84]) by smtp-relay.gmail.com with ESMTPS id 586e51a60fabf-3e8522f7a2esm110435fac.21.2025.11.13.01.16.21 (version=TLS1_2 cipher=ECDHE-ECDSA-AES128-GCM-SHA256 bits=128/128); Thu, 13 Nov 2025 01:16:21 -0800 (PST) X-Relaying-Domain: iol.unh.edu Date: Thu, 13 Nov 2025 01:16:21 -0800 (PST) Message-ID: <6915a1e5.050a0220.108585.59f2SMTPIN_ADDED_MISSING@mx.google.com> Received: from [172.21.0.2] (unknown [172.18.0.240]) by postal.iol.unh.edu (Postfix) with ESMTP id 9D9296051830; Thu, 13 Nov 2025 04:16:20 -0500 (EST) Subject: |SUCCESS| pw158673-158675 [PATCH] [v5,3/3] ring: establish a safe pa From: dpdklab@iol.unh.edu To: Test Report Cc: dpdk-test-reports@iol.unh.edu In-Reply-To: <20251111183720.833295-3-wathsala.vithanage@arm.com> References: <20251111183720.833295-3-wathsala.vithanage@arm.com> Content-Type: text/plain X-BeenThere: test-report@dpdk.org X-Mailman-Version: 2.1.29 Precedence: list List-Id: automatic DPDK test reports List-Unsubscribe: , List-Archive: List-Post: List-Help: List-Subscribe: , Errors-To: test-report-bounces@dpdk.org Test-Label: iol-unit-amd64-testing Test-Status: SUCCESS http://dpdk.org/patch/158675 _Testing PASS_ Submitter: Wathsala Vithanage Date: Tuesday, November 11 2025 18:37:19 DPDK git baseline: Repo:dpdk Branch: master CommitID:2f8d3fda56754b13a09098fac1140d781366672f 158673-158675 --> testing pass Upstream job id: Generic-VM-Unit-Test-DPDK#32469 Test environment and result as below: +-------------------------------+----------------+ | Environment | dpdk_unit_test | +===============================+================+ | Fedora Linux 40 | PASS | +-------------------------------+----------------+ | Debian GNU/Linux 12 | PASS | +-------------------------------+----------------+ | CentOS Stream 9 | PASS | +-------------------------------+----------------+ | Red Hat Enterprise Linux 8.10 | PASS | +-------------------------------+----------------+ | CentOS Stream 10 | PASS | +-------------------------------+----------------+ | Fedora Linux 42 | PASS | +-------------------------------+----------------+ | Ubuntu 20.04 | PASS | +-------------------------------+----------------+ | Red Hat Enterprise Linux 9.5 | PASS | +-------------------------------+----------------+ | Fedora Linux 41 | PASS | +-------------------------------+----------------+ | Ubuntu 22.04 | PASS | +-------------------------------+----------------+ | Ubuntu 24.04 | PASS | +-------------------------------+----------------+ | Windows Server 2022 | PASS | +-------------------------------+----------------+ Fedora Linux 40 Kernel: 5.15 Compiler: gcc gcc (GCC) 14.2.1 20240912 (Red Hat 14.2.1-3) Debian GNU/Linux 12 Kernel: 5.15 Compiler: gcc gcc (Debian 12.2.0-14+deb12u1) 12.2.0 CentOS Stream 9 Kernel: 5.15 Compiler: gcc gcc (GCC) 11.5.0 20240719 (Red Hat 11.5.0-11) Red Hat Enterprise Linux 8.10 Kernel: 5.15 Compiler: gcc gcc (GCC) 8.5.0 20210514 (Red Hat 8.5.0-22) CentOS Stream 10 Kernel: 5.15 Compiler: gcc gcc (GCC) 14.2.1 20250110 (Red Hat 14.2.1-8) Fedora Linux 42 Kernel: 5.15 Compiler: gcc gcc (GCC) 15.2.1 20250808 (Red Hat 15.2.1-1) Ubuntu 20.04 Kernel: 5.15 Compiler: gcc gcc (Ubuntu 9.4.0-1ubuntu1~20.04.2) 9.4.0 Red Hat Enterprise Linux 9.5 Kernel: 5.15 Compiler: gcc gcc (GCC) 11.5.0 20240719 (Red Hat 11.5.0-2) Fedora Linux 41 Kernel: 5.15 Compiler: clang gcc (GCC) 14.3.1 20250523 (Red Hat 14.3.1-1) Ubuntu 22.04 Kernel: 5.15 Compiler: gcc gcc (Ubuntu 11.4.0-1ubuntu1~22.04) 11.4.0 Ubuntu 24.04 Kernel: 5.15 Compiler: gcc gcc (Ubuntu 13.3.0-6ubuntu2~24.04) 13.3.0 Windows Server 2022 Kernel: 10.0.20348.2031 Compiler: clang 15.0.7, gcc 14.1.0 (MinGW), and MSVC VS 19.39.33521 To view detailed results, visit: https://lab.dpdk.org/results/dashboard/patchsets/34539/ UNH-IOL DPDK Community Lab To manage your email subscriptions, visit: https://lab.dpdk.org/results/dashboard/preferences/subscriptions/