From mboxrd@z Thu Jan 1 00:00:00 1970 Return-Path: Received: from mails.dpdk.org (mails.dpdk.org [217.70.189.124]) by inbox.dpdk.org (Postfix) with ESMTP id 2CB6A48AF8 for ; Thu, 13 Nov 2025 10:18:27 +0100 (CET) Received: from mails.dpdk.org (localhost [127.0.0.1]) by mails.dpdk.org (Postfix) with ESMTP id 24AAB4003C; Thu, 13 Nov 2025 10:18:27 +0100 (CET) Received: from mail-yx1-f97.google.com (mail-yx1-f97.google.com [74.125.224.97]) by mails.dpdk.org (Postfix) with ESMTP id D98924003C for ; Thu, 13 Nov 2025 10:18:25 +0100 (CET) Received: by mail-yx1-f97.google.com with SMTP id 956f58d0204a3-640d43060d2so477468d50.2 for ; Thu, 13 Nov 2025 01:18:25 -0800 (PST) DKIM-Signature: v=1; a=rsa-sha256; c=relaxed/relaxed; d=iol.unh.edu; s=unh-iol; t=1763025505; x=1763630305; darn=dpdk.org; h=references:in-reply-to:cc:to:from:subject:message-id:date:from:to :cc:subject:date:message-id:reply-to; bh=r6hC6AaDlrsTFzjqrm8rafvpKanMl/8AKs9qY8KBgYI=; b=Bu6k3gel5VG8+uP7v0/1pAwkyyRDSBplfcyrFUkUT1gJdw7kM/mB6W5DyO7WEla/h1 kyx7OWq/+yDRTuL9cTphrW0G9b2JPEpUK0nHkV6F4ptk0IVYqG0U3VDAvEQwI1MVHM7R jvmbTYf9ZI/1VCcdFVFka71oOZTgWA3Lh1G64= X-Google-DKIM-Signature: v=1; a=rsa-sha256; c=relaxed/relaxed; d=1e100.net; s=20230601; t=1763025505; x=1763630305; h=references:in-reply-to:cc:to:from:subject:message-id:date:x-gm-gg :x-gm-message-state:from:to:cc:subject:date:message-id:reply-to; bh=r6hC6AaDlrsTFzjqrm8rafvpKanMl/8AKs9qY8KBgYI=; b=js7sT8kRw5snu2x6eKk9OvfSwYRHMpHkX9K5VkI+AwzAO1/o7NmzYumrFCDOxFCo4o BtgNtec9k9Wy9RHztkNWz8C0KNjK2jcFqsQy4jIX0/gTRYmrqMKuAU02Z4GRMkQ3RJMr 1pZSDjNz/Q+jSsZRHMzzfi6jNM6pOGr49ReaPwK4kQ74AKKsWfVM6cFTj+uABdkVeuT+ jBTUhY6RTDaATH5OYVvFQzi6Rx4+WrCAK356hmrHF3Nr2CCo9+V4xQ0pUKLzfhBAdpHr 83Ghm6v8XbYD4u99NmGO4JD7AmwNKq8oFm+6cdVPW3SImaVYlJE1qHv5Hn3EjVa2jd/Q cpjg== X-Gm-Message-State: AOJu0YzFOQmc/0YwYeW1DZdd7KhoT1NhWaWHRbpC/4PW8YJSMemlw9rK QjM+l3yYkLNnSYZ5+8MV1FGs/ozV+EDGE76i4PcCesW0Qxgfvj/i/2bvjsyS0YfVAxjviKGsqtO pwlt5FbG4CcYFsbJOJbP3y6DDXr2CCgptfO/tkrk7ZfRR X-Gm-Gg: ASbGncsXmR7ojbLQL70h3nm+lZSga67aKqM39XfULiXVAzu9ILbZUnlBk/AbECiDVKH FHp8VXLJctM3XbbfgcCdTI/MkQ5Cii6IQm0mGOqXiQr+1EehU4f62JrbOybUBm4233zFO61Hizd znmzKdCdeIKm+ogSVLKIaPm90uB0eV1839pqYoy8jyXuxq81/rk6CARHJRToQCzE/+bSb8HWDbV Oo4KZOH+ct9O0AwPzmgGITxYgFYc5ivHUFRynDXY3yCIabTkYl7iiKZBP0DIybI254tkzPqkNPB zIHe+s5t0nafTc+71HQLm7iB0wCmavveUXDnJ4dvRNS6oodpAbqxeW8wxH39PueVHGdwnikY6VL 5RQLI0hb62OEABmLvwSrdLYphcUTuZBI= X-Google-Smtp-Source: AGHT+IHP32302Afi6/JBczEepiA7sdqiU3F/4g449HyYrymKmAvPJOVBablM2LBq4C/7P19OKbsWQP6Jc3A3 X-Received: by 2002:a05:690e:159c:20b0:63c:f5a6:f2ea with SMTP id 956f58d0204a3-64101ba61e5mr4223149d50.60.1763025505144; Thu, 13 Nov 2025 01:18:25 -0800 (PST) Received: from postal.iol.unh.edu (postal.iol.unh.edu. [132.177.123.84]) by smtp-relay.gmail.com with ESMTPS id 00721157ae682-78821fb7c6esm761237b3.25.2025.11.13.01.18.25 (version=TLS1_2 cipher=ECDHE-ECDSA-AES128-GCM-SHA256 bits=128/128); Thu, 13 Nov 2025 01:18:25 -0800 (PST) X-Relaying-Domain: iol.unh.edu Date: Thu, 13 Nov 2025 01:18:25 -0800 (PST) Message-ID: <6915a261.0d0a0220.2681d8.3e6eSMTPIN_ADDED_MISSING@mx.google.com> Received: from [172.21.0.2] (unknown [172.18.0.240]) by postal.iol.unh.edu (Postfix) with ESMTP id BB3256051830; Thu, 13 Nov 2025 04:18:24 -0500 (EST) Subject: |SUCCESS| pw158744 [PATCH] net/mlx5: fix cross GVMI metadata match f From: dpdklab@iol.unh.edu To: Test Report Cc: dpdk-test-reports@iol.unh.edu In-Reply-To: <20251113071746.434067-1-getelson@nvidia.com> References: <20251113071746.434067-1-getelson@nvidia.com> Content-Type: text/plain X-BeenThere: test-report@dpdk.org X-Mailman-Version: 2.1.29 Precedence: list List-Id: automatic DPDK test reports List-Unsubscribe: , List-Archive: List-Post: List-Help: List-Subscribe: , Errors-To: test-report-bounces@dpdk.org Test-Label: iol-unit-amd64-testing Test-Status: SUCCESS http://dpdk.org/patch/158744 _Testing PASS_ Submitter: Gregory Etelson Date: Thursday, November 13 2025 07:17:45 DPDK git baseline: Repo:dpdk-next-net-mlx Branch: master CommitID:ae657d56b1f0ea979b3f611edf28d773efc2ddcf 158744 --> testing pass Upstream job id: Generic-Unit-Test-DPDK#391902 Test environment and result as below: +-------------------------------+----------------+ | Environment | dpdk_unit_test | +===============================+================+ | CentOS Stream 9 | PASS | +-------------------------------+----------------+ | Fedora Linux 40 | PASS | +-------------------------------+----------------+ | CentOS Stream 10 | PASS | +-------------------------------+----------------+ | Fedora Linux 42 | PASS | +-------------------------------+----------------+ | Debian GNU/Linux 12 | PASS | +-------------------------------+----------------+ | Ubuntu 20.04 | PASS | +-------------------------------+----------------+ | Ubuntu 22.04 | PASS | +-------------------------------+----------------+ | Fedora Linux 41 | PASS | +-------------------------------+----------------+ | Red Hat Enterprise Linux 8.10 | PASS | +-------------------------------+----------------+ | Red Hat Enterprise Linux 9.5 | PASS | +-------------------------------+----------------+ | Ubuntu 24.04 | PASS | +-------------------------------+----------------+ CentOS Stream 9 Kernel: 5.15 Compiler: gcc gcc (GCC) 11.5.0 20240719 (Red Hat 11.5.0-11) Fedora Linux 40 Kernel: 5.15 Compiler: gcc gcc (GCC) 14.2.1 20240912 (Red Hat 14.2.1-3) CentOS Stream 10 Kernel: 5.15 Compiler: gcc gcc (GCC) 14.2.1 20250110 (Red Hat 14.2.1-8) Fedora Linux 42 Kernel: 5.15 Compiler: gcc gcc (GCC) 15.2.1 20250808 (Red Hat 15.2.1-1) Debian GNU/Linux 12 Kernel: 5.15 Compiler: gcc gcc (Debian 12.2.0-14+deb12u1) 12.2.0 Ubuntu 20.04 Kernel: 5.15 Compiler: gcc gcc (Ubuntu 9.4.0-1ubuntu1~20.04.2) 9.4.0 Ubuntu 22.04 Kernel: 5.15 Compiler: gcc gcc (Ubuntu 11.4.0-1ubuntu1~22.04) 11.4.0 Fedora Linux 41 Kernel: 5.15 Compiler: gcc gcc (GCC) 14.3.1 20250523 (Red Hat 14.3.1-1) Red Hat Enterprise Linux 8.10 Kernel: 5.15 Compiler: gcc gcc (GCC) 8.5.0 20210514 (Red Hat 8.5.0-22) Red Hat Enterprise Linux 9.5 Kernel: 5.15 Compiler: gcc gcc (GCC) 11.5.0 20240719 (Red Hat 11.5.0-2) Ubuntu 24.04 Kernel: 5.15 Compiler: gcc gcc (Ubuntu 13.3.0-6ubuntu2~24.04) 13.3.0 To view detailed results, visit: https://lab.dpdk.org/results/dashboard/patchsets/34564/ UNH-IOL DPDK Community Lab To manage your email subscriptions, visit: https://lab.dpdk.org/results/dashboard/preferences/subscriptions/