From mboxrd@z Thu Jan 1 00:00:00 1970 Return-Path: Received: from mails.dpdk.org (mails.dpdk.org [217.70.189.124]) by inbox.dpdk.org (Postfix) with ESMTP id 3CB0F48AF8 for ; Thu, 13 Nov 2025 10:28:47 +0100 (CET) Received: from mails.dpdk.org (localhost [127.0.0.1]) by mails.dpdk.org (Postfix) with ESMTP id 192964003C; Thu, 13 Nov 2025 10:28:47 +0100 (CET) Received: from mail-io1-f99.google.com (mail-io1-f99.google.com [209.85.166.99]) by mails.dpdk.org (Postfix) with ESMTP id C39094003C for ; Thu, 13 Nov 2025 10:28:45 +0100 (CET) Received: by mail-io1-f99.google.com with SMTP id ca18e2360f4ac-948a4489a6dso28590139f.1 for ; Thu, 13 Nov 2025 01:28:45 -0800 (PST) DKIM-Signature: v=1; a=rsa-sha256; c=relaxed/relaxed; d=iol.unh.edu; s=unh-iol; t=1763026125; x=1763630925; darn=dpdk.org; h=references:in-reply-to:cc:to:from:subject:message-id:date:from:to :cc:subject:date:message-id:reply-to; bh=M4XNu5gVg4uhlQHhftu2M6BToeL35uu963zGNlIqDiM=; b=R5QEMEaKkKQ36oLnOXlQcR9rBga7DKUq5HpAMMIKhFn4JJeNGZFFSsI/c3jpQSd9jS DVJe2gjpAh6aOkpooeTPOn/NOgIt6vQqKc87FaVQtkfh7UBAa+R7EmOC/CXLA3PR21Hb EPOm7rzY6MrW8n8/uHT55kotGWeyEowhgZR34= X-Google-DKIM-Signature: v=1; a=rsa-sha256; c=relaxed/relaxed; d=1e100.net; s=20230601; t=1763026125; x=1763630925; h=references:in-reply-to:cc:to:from:subject:message-id:date:x-gm-gg :x-gm-message-state:from:to:cc:subject:date:message-id:reply-to; bh=M4XNu5gVg4uhlQHhftu2M6BToeL35uu963zGNlIqDiM=; b=PWVtehrbUMxMrpW4rbdUKNsYGVAlUPK2+t6cAwTr6A6CvkewKGGXM5feEfNH4cpNTp 7IcHGwhjn8+NEDHuckvcwV6nxnJO1sfcYe5KMefWP7npqNNlzKOyOSztUN2r89hi5pPM eCMBYgNaT8qiNWWJkxlmhV1zTdYeSfDpegsOcivQx0zBhooML6/vihfjGwcp5nZdQru/ vdd3+2zxeI14uPG0wT2yv8UKxRbWwHfXFPsKohTzCpTBIl5EaYe05frClLOzTFE7avgA +WKGoMIZh1KoMICiANNotoXOGLR2bPx1emrXjqJum/JIY5yVZ/BJowX4Ht1tPDDGoWlQ Qn2w== X-Gm-Message-State: AOJu0YzaM0M1WIZdQydJWxgdu6NKC5cIFCZAyjmDgXr4xDKMfZ02y7KW ZM8agEzXK/3DxUKWpWfNFZLDE8WubistWcf4Mc6MvwQshCHGWhPL9LJRUEzghSvQXTx0unoc3Pz qZvf46LNnA9SfY3cMRA/hJcnnnX4mH2bYgMCc0kEsbk34zQ/hr776nKBUwdY/ X-Gm-Gg: ASbGnctW2yyuETTVEJGlURwPdV9uqKzeWqRMe/Rl+HRyiLkiSlqtz5TATNrlf/LpZHN XYm92yw6vRKEUAarsrFpuAwXfn2gT3AqLlxBDV7P84EKqobPXx8iG88Gky2tQ/W+o08yZkvLL2e W+/zinVzPvJic4oAqHxi2zIs86FW0hxGo5WToQMD1B2GY+i/6uxBku/scM/WftPo2Q5pdGXR8J5 IeMgVljPgb2MAgIUodZcChVbWdkaMsBO+Jg1vALNEu/eE3O6QBGCcgLYGIXfF6Dsd2BNdMwO+bO 7DI+KayxoEkIkvCZp8sa/GhKXLQwNBPPXsqMLdkrHL+5zujFE7FaPtBPsyr/Hn+r6GbXqEigup6 h+bsJ4aMS X-Google-Smtp-Source: AGHT+IFhn3/p01wtKM+BDrkVdqoAHS6e1m6eAxmSOLiPLaXxVQa+31TLqhjISr+RTi6JzNirUOc2H8aflrLP X-Received: by 2002:a05:6602:641b:b0:941:c4f:f44d with SMTP id ca18e2360f4ac-948c459d2f3mr814284039f.6.1763026125016; Thu, 13 Nov 2025 01:28:45 -0800 (PST) Received: from postal.iol.unh.edu (postal.iol.unh.edu. [2606:4100:3880:1234::84]) by smtp-relay.gmail.com with ESMTPS id ca18e2360f4ac-948d2ba338dsm7803539f.4.2025.11.13.01.28.44 (version=TLS1_2 cipher=ECDHE-ECDSA-AES128-GCM-SHA256 bits=128/128); Thu, 13 Nov 2025 01:28:45 -0800 (PST) X-Relaying-Domain: iol.unh.edu Date: Thu, 13 Nov 2025 01:28:45 -0800 (PST) Message-ID: <6915a4cd.6b0a0220.2121c.3d59SMTPIN_ADDED_MISSING@mx.google.com> Received: from [172.21.0.2] (unknown [172.18.0.240]) by postal.iol.unh.edu (Postfix) with ESMTP id 87C1360003E8; Thu, 13 Nov 2025 04:28:44 -0500 (EST) Subject: |SUCCESS| pw158547 [PATCH] telemetry: make socket handler typedef pr From: dpdklab@iol.unh.edu To: Test Report Cc: dpdk-test-reports@iol.unh.edu In-Reply-To: <20251107093259.3305537-1-bruce.richardson@intel.com> References: <20251107093259.3305537-1-bruce.richardson@intel.com> Content-Type: text/plain X-BeenThere: test-report@dpdk.org X-Mailman-Version: 2.1.29 Precedence: list List-Id: automatic DPDK test reports List-Unsubscribe: , List-Archive: List-Post: List-Help: List-Subscribe: , Errors-To: test-report-bounces@dpdk.org Test-Label: iol-compile-arm64-testing Test-Status: SUCCESS http://dpdk.org/patch/158547 _Testing PASS_ Submitter: Bruce Richardson Date: Friday, November 07 2025 09:32:59 DPDK git baseline: Repo:dpdk Branch: master CommitID:be0112878b4fc3a1b918370ed2fe615c52039d77 158547 --> testing pass Upstream job id: Generic-DPDK-Compile-Meson#443524 Test environment and result as below: +------------------------------+--------------------+ | Environment | dpdk_meson_compile | +==============================+====================+ | Red Hat Enterprise Linux 9.5 | PASS | +------------------------------+--------------------+ | Ubuntu 20.04 | PASS | +------------------------------+--------------------+ | Debian GNU/Linux 12 | PASS | +------------------------------+--------------------+ | Fedora Linux 42 | PASS | +------------------------------+--------------------+ | Ubuntu 22.04 | PASS | +------------------------------+--------------------+ | Ubuntu 24.04 | PASS | +------------------------------+--------------------+ | CentOS Stream 9 | PASS | +------------------------------+--------------------+ | CentOS Stream 10 | PASS | +------------------------------+--------------------+ Red Hat Enterprise Linux 9.5 Kernel: 5.4 Compiler: gcc gcc (GCC) 11.5.0 20240719 (Red Hat 11.5.0-2) Ubuntu 20.04 Kernel: 5.15 Compiler: aarch64-linux-gnu-gcc gcc (Ubuntu 9.4.0-1ubuntu1~20.04.2) 9.4.0 Debian GNU/Linux 12 Kernel: 5.4 Compiler: gcc gcc (Debian 12.2.0-14+deb12u1) 12.2.0 Fedora Linux 42 Kernel: 5.4 Compiler: gcc gcc (GCC) 15.2.1 20250808 (Red Hat 15.2.1-1) Ubuntu 22.04 Kernel: 5.4 Compiler: gcc gcc (Ubuntu 11.4.0-1ubuntu1~22.04) 11.4.0 Ubuntu 24.04 Kernel: 5.4 Compiler: gcc gcc (Ubuntu 13.3.0-6ubuntu2~24.04) 13.3.0 CentOS Stream 9 Kernel: 5.4 Compiler: gcc gcc (GCC) 11.5.0 20240719 (Red Hat 11.5.0-11) CentOS Stream 10 Kernel: 5.4 Compiler: gcc gcc (GCC) 14.2.1 20250110 (Red Hat 14.2.1-8) To view detailed results, visit: https://lab.dpdk.org/results/dashboard/patchsets/34555/ UNH-IOL DPDK Community Lab To manage your email subscriptions, visit: https://lab.dpdk.org/results/dashboard/preferences/subscriptions/