From mboxrd@z Thu Jan 1 00:00:00 1970 Return-Path: Received: from mails.dpdk.org (mails.dpdk.org [217.70.189.124]) by inbox.dpdk.org (Postfix) with ESMTP id 6758148AF8 for ; Thu, 13 Nov 2025 10:31:08 +0100 (CET) Received: from mails.dpdk.org (localhost [127.0.0.1]) by mails.dpdk.org (Postfix) with ESMTP id 62A254003C; Thu, 13 Nov 2025 10:31:08 +0100 (CET) Received: from mail-pl1-f226.google.com (mail-pl1-f226.google.com [209.85.214.226]) by mails.dpdk.org (Postfix) with ESMTP id 8238D4003C for ; Thu, 13 Nov 2025 10:31:06 +0100 (CET) Received: by mail-pl1-f226.google.com with SMTP id d9443c01a7336-297e264528aso5624495ad.2 for ; Thu, 13 Nov 2025 01:31:06 -0800 (PST) DKIM-Signature: v=1; a=rsa-sha256; c=relaxed/relaxed; d=iol.unh.edu; s=unh-iol; t=1763026266; x=1763631066; darn=dpdk.org; h=references:in-reply-to:cc:to:from:subject:message-id:date:from:to :cc:subject:date:message-id:reply-to; bh=SbJeu2R1HAfxOt57K12AooNtfnCN+VG/rBfovgrJBvo=; b=Hke0pbrzgSO80CoAzpF1/qVstfKZy7quU5EV+SuLk6KhW/6AquuNh1rgzZaiitToVD tOw1wtrJIoZo1d7NCpjD1qLg2DN094BgnlDWF8WQOIKgb+vuHDpdn+cku9bfQU6hx6CB Jyj6mP6kjqR33XptkEnn1W1MeXv/MG/gTQnrk= X-Google-DKIM-Signature: v=1; a=rsa-sha256; c=relaxed/relaxed; d=1e100.net; s=20230601; t=1763026266; x=1763631066; h=references:in-reply-to:cc:to:from:subject:message-id:date:x-gm-gg :x-gm-message-state:from:to:cc:subject:date:message-id:reply-to; bh=SbJeu2R1HAfxOt57K12AooNtfnCN+VG/rBfovgrJBvo=; b=U2Aw6U6PDGJrGa5lOZHZ0MOeejacjX9X3DDip5AU5Gqy4HoohF3boP7BxPRu3If8/B /Xwxbd0z+1R12MSh71eOEeSr/aL3YJkcccJN/YGWRxrybhR5Q2/16VI5yFi9NkvnNyWV VFRYIegn5EmCCe/I1HRXQJBwiM79Yx2cVVI8i707KXi6xDhg+I2Pav1epk1ffP0W8jhb Fc45qCI11Lj3HC6aUkBmkNd1lQRmASTiySez+cQyrEfNezS+FKfRkO+6b3b/iEp/6u/I ma5rm/eZ6gHboyZGvFqW6Mzjc74auK+OILjBaKH0DrruvKvZcsxSEoypXNaYi2TDAWO0 mfCg== X-Gm-Message-State: AOJu0YxuLNLHqYQr7IxZ+oxh2aHIYj8tbuMTMGvyNLE+5+1ViZIThL57 x8q0VwUin0725DBYIg6UJIzmTJbq+wPB14wXQ8MkZDu987En9vAJ57G+AHE7DkkprveY9jyHciM DXcRK7b6ivKrKNAxA424TiS56b6Ycnj0jWHqUb7TzWdPM X-Gm-Gg: ASbGncu/HVenhSAm7xgQ75HTT+8+kle1KpQWXKSHrvPa2bGIEwaXeR7kxl/3e048qpc VbjsRsiLkaaroh4G40uCDcCF3ji0XXhQKuHcc8vDjJOrJVpdlPbVA3TUXEWVzeoXjHjc5LFzBG0 p9K85mCg7BdGjLsec/BNkmor/TwkRn7wj2qeyIk1W6WKPLbYJndocQu0WKjWJo8P0Kdfyb9dE9N Ow7ra7k0Jfjq6jPrW0q8XXmponbwZiG5NJpLthd9NyhzPwHRs4Fb4Gln0OJ3Fc+fnSj2cC7JoHI FgvBlcQ4XZLaDazaXbnqcYejmLC44e1JsTBzc0jA2qCB3gn9jGmlpL0KDJBrgSRCcqrjDuAwhvv J4/GNUHNNw9FOdgTsAZCAv8Pp5bM2DUU= X-Google-Smtp-Source: AGHT+IEddOL1LIWsBtpkSUZUhbS2X453DqK9pVnYMYvQVWXMH0tWrMR7Qbkf92ht727Yoq/jpFx2HpzBkIE3 X-Received: by 2002:a17:903:944:b0:28e:9427:68f6 with SMTP id d9443c01a7336-2984ed82890mr74219825ad.27.1763026265584; Thu, 13 Nov 2025 01:31:05 -0800 (PST) Received: from postal.iol.unh.edu (postal.iol.unh.edu. [132.177.123.84]) by smtp-relay.gmail.com with ESMTPS id d9443c01a7336-2985c234210sm1643325ad.6.2025.11.13.01.31.05 (version=TLS1_2 cipher=ECDHE-ECDSA-AES128-GCM-SHA256 bits=128/128); Thu, 13 Nov 2025 01:31:05 -0800 (PST) X-Relaying-Domain: iol.unh.edu Date: Thu, 13 Nov 2025 01:31:05 -0800 (PST) Message-ID: <6915a559.170a0220.f3b21.89c4SMTPIN_ADDED_MISSING@mx.google.com> Received: from [172.21.0.2] (unknown [172.18.0.240]) by postal.iol.unh.edu (Postfix) with ESMTP id 119A16051830; Thu, 13 Nov 2025 04:31:05 -0500 (EST) Subject: |SUCCESS| pw158701 [PATCH] [V3] net/mlx5: fix IPv6 DSCP offset in HW From: dpdklab@iol.unh.edu To: Test Report Cc: dpdk-test-reports@iol.unh.edu In-Reply-To: <20251112134236.195614-1-gavinl@nvidia.com> References: <20251112134236.195614-1-gavinl@nvidia.com> Content-Type: text/plain X-BeenThere: test-report@dpdk.org X-Mailman-Version: 2.1.29 Precedence: list List-Id: automatic DPDK test reports List-Unsubscribe: , List-Archive: List-Post: List-Help: List-Subscribe: , Errors-To: test-report-bounces@dpdk.org Test-Label: iol-compile-arm64-testing Test-Status: SUCCESS http://dpdk.org/patch/158701 _Testing PASS_ Submitter: Gavin Li Date: Wednesday, November 12 2025 13:42:36 DPDK git baseline: Repo:dpdk-next-net-mlx Branch: master CommitID:ae657d56b1f0ea979b3f611edf28d773efc2ddcf 158701 --> testing pass Upstream job id: Generic-DPDK-Compile-Meson#443437 Test environment and result as below: +------------------------------+--------------------+ | Environment | dpdk_meson_compile | +==============================+====================+ | Ubuntu 22.04 | PASS | +------------------------------+--------------------+ | Red Hat Enterprise Linux 9.5 | PASS | +------------------------------+--------------------+ | Ubuntu 20.04 | PASS | +------------------------------+--------------------+ | Debian GNU/Linux 12 | PASS | +------------------------------+--------------------+ | Fedora Linux 42 | PASS | +------------------------------+--------------------+ | Ubuntu 24.04 | PASS | +------------------------------+--------------------+ | CentOS Stream 9 | PASS | +------------------------------+--------------------+ | CentOS Stream 10 | PASS | +------------------------------+--------------------+ Ubuntu 22.04 Kernel: 5.4 Compiler: gcc gcc (Ubuntu 11.4.0-1ubuntu1~22.04) 11.4.0 Red Hat Enterprise Linux 9.5 Kernel: 5.4 Compiler: gcc gcc (GCC) 11.5.0 20240719 (Red Hat 11.5.0-2) Ubuntu 20.04 Kernel: 5.15 Compiler: aarch64-linux-gnu-gcc gcc (Ubuntu 9.4.0-1ubuntu1~20.04.2) 9.4.0 Debian GNU/Linux 12 Kernel: 5.4 Compiler: gcc gcc (Debian 12.2.0-14+deb12u1) 12.2.0 Fedora Linux 42 Kernel: 5.4 Compiler: gcc gcc (GCC) 15.2.1 20250808 (Red Hat 15.2.1-1) Ubuntu 24.04 Kernel: 5.4 Compiler: gcc gcc (Ubuntu 13.3.0-6ubuntu2~24.04) 13.3.0 CentOS Stream 9 Kernel: 5.4 Compiler: gcc gcc (GCC) 11.5.0 20240719 (Red Hat 11.5.0-11) CentOS Stream 10 Kernel: 5.4 Compiler: gcc gcc (GCC) 14.2.1 20250110 (Red Hat 14.2.1-8) To view detailed results, visit: https://lab.dpdk.org/results/dashboard/patchsets/34550/ UNH-IOL DPDK Community Lab To manage your email subscriptions, visit: https://lab.dpdk.org/results/dashboard/preferences/subscriptions/