From mboxrd@z Thu Jan 1 00:00:00 1970 Return-Path: Received: from mails.dpdk.org (mails.dpdk.org [217.70.189.124]) by inbox.dpdk.org (Postfix) with ESMTP id 3D60948AF8 for ; Thu, 13 Nov 2025 10:37:23 +0100 (CET) Received: from mails.dpdk.org (localhost [127.0.0.1]) by mails.dpdk.org (Postfix) with ESMTP id 1F9CD40151; Thu, 13 Nov 2025 10:37:23 +0100 (CET) Received: from mail-pf1-f228.google.com (mail-pf1-f228.google.com [209.85.210.228]) by mails.dpdk.org (Postfix) with ESMTP id CB9C240151 for ; Thu, 13 Nov 2025 10:37:21 +0100 (CET) Received: by mail-pf1-f228.google.com with SMTP id d2e1a72fcca58-7ade456b6abso473573b3a.3 for ; Thu, 13 Nov 2025 01:37:21 -0800 (PST) DKIM-Signature: v=1; a=rsa-sha256; c=relaxed/relaxed; d=iol.unh.edu; s=unh-iol; t=1763026641; x=1763631441; darn=dpdk.org; h=references:in-reply-to:cc:to:from:subject:message-id:date:from:to :cc:subject:date:message-id:reply-to; bh=gqea0vHTma0pFYsJIm3YiJ8U75A9dxiK5OlovX65J18=; b=PfkxvaVhOT4fkGSSfSq2cQ7Fbkr9SLw7CJ5Z/67g5ycAyJPgqTN98+i2VbttfRu3O+ RuZw72c9U9DTJKnp6c5gJugn537fFV6m5bNNppYvRL9q/H66np5I7WxzCG9ekontw5jO QP0WCHCSSMdJz1pNMT5ZWc5aKaXZbG01k+1rI= X-Google-DKIM-Signature: v=1; a=rsa-sha256; c=relaxed/relaxed; d=1e100.net; s=20230601; t=1763026641; x=1763631441; h=references:in-reply-to:cc:to:from:subject:message-id:date:x-gm-gg :x-gm-message-state:from:to:cc:subject:date:message-id:reply-to; bh=gqea0vHTma0pFYsJIm3YiJ8U75A9dxiK5OlovX65J18=; b=ojKtmueA1UNElNYVvO+5VP8m7fwFcMgQbuSsSr08P210GsA0mgU5Eby+tYG01MSTm2 Pxg3eXvdUXalTvyjUHr7SvRanw41IvwrcI1h+/NzgAtIrJTBL9SamsUc219sbeO1XX6u mXlh6sRfL8sWlk7y9TLJGq9h2js8eGo5jlsAqMprEwuJJV8v01+Nsbl+e1XRc/A1S0QF DPm6JyKMFkhPKl/JPDCh+V8IgrFwUDY0gDOsGCyDPWGmveUB3AWx4FmLMOsSDB1dZ72u JBD3A0fDi7LSnMO6sccanfXGY7k3287jDRoXCv/IqY69HTcVSZXtdvZWS7ppbQBPzV1T 9SmA== X-Gm-Message-State: AOJu0YwCkMvDqyFpqBUAadK7VD5PtvKp3B/xCL2D7Vc+aOQJjC64pbgg s7fFO+cr2ohS2huduarQwfpLPuo7qf6garI+Di9Pdpijh/3Tzp+8kKIhmP8HRxnDsjFwpd74cdA A2DwkafxV62U150G7aDVx4fJ++u3T34JK0uI8MWpkO1BlwYAFolYxGmYJo/Is X-Gm-Gg: ASbGncvu1mRkWTXZyn8ecAnNTBRDEOVM0p/Us4INe27S98Y8XuCSbt4KBSnmPA2ftvf e0v4Xq6TJCmQlqAwMa5Yg1xJv+c3xQdBxIdyZmiAu0FoR633SZ4E7xAOsmdl8HQ+MtQspmqsTEh Rq3rB2MonqwrBnCaRKWKRAn8G4zQ7vFMqIfO0MTWOEX5gt7arywhTkROUt0Nau9mAO1gGZePYR4 IiD1s1R7NxmnR3TCzpKEbWO6vTqJBk0HqkkWkn3EYKOHfFMTs9FnjW8UZYGxfCnoMFb58blrAsS vieHPLSWnrV4huuJFltWjD3x+UZR8Gr1JiYiVwduTg/A4SiKfs3Lx+Wnv7udoIHgNMh58qf3q4p JJmxGMDYw X-Google-Smtp-Source: AGHT+IHrVVy+10/IUYxb/sRN05Kd+r2OdqAwgMiQGJYndRIkSK8BxAO0QXGfpnuYysO+7Bw0Tr4oJqI4MUBR X-Received: by 2002:a17:903:4b2f:b0:298:616b:b2d with SMTP id d9443c01a7336-298616b1103mr4626595ad.51.1763026640920; Thu, 13 Nov 2025 01:37:20 -0800 (PST) Received: from postal.iol.unh.edu (postal.iol.unh.edu. [2606:4100:3880:1234::84]) by smtp-relay.gmail.com with ESMTPS id d9443c01a7336-2985c2c47d4sm1479635ad.61.2025.11.13.01.37.20 (version=TLS1_2 cipher=ECDHE-ECDSA-AES128-GCM-SHA256 bits=128/128); Thu, 13 Nov 2025 01:37:20 -0800 (PST) X-Relaying-Domain: iol.unh.edu Date: Thu, 13 Nov 2025 01:37:20 -0800 (PST) Message-ID: <6915a6d0.170a0220.98a81.7bd1SMTPIN_ADDED_MISSING@mx.google.com> Received: from [172.21.0.2] (unknown [172.18.0.240]) by postal.iol.unh.edu (Postfix) with ESMTP id 589C86051830; Thu, 13 Nov 2025 04:37:20 -0500 (EST) Subject: |SUCCESS| pw158707-158710 [PATCH] [v2,4/4] test: vary size of packet From: dpdklab@iol.unh.edu To: Test Report Cc: dpdk-test-reports@iol.unh.edu In-Reply-To: <20251112181421.285119-5-stephen@networkplumber.org> References: <20251112181421.285119-5-stephen@networkplumber.org> Content-Type: text/plain X-BeenThere: test-report@dpdk.org X-Mailman-Version: 2.1.29 Precedence: list List-Id: automatic DPDK test reports List-Unsubscribe: , List-Archive: List-Post: List-Help: List-Subscribe: , Errors-To: test-report-bounces@dpdk.org Test-Label: iol-compile-arm64-testing Test-Status: SUCCESS http://dpdk.org/patch/158710 _Testing PASS_ Submitter: Stephen Hemminger Date: Wednesday, November 12 2025 18:12:50 DPDK git baseline: Repo:dpdk Branch: master CommitID:be0112878b4fc3a1b918370ed2fe615c52039d77 158707-158710 --> testing pass Upstream job id: Generic-DPDK-Compile-Meson#443578 Test environment and result as below: +------------------------------+--------------------+ | Environment | dpdk_meson_compile | +==============================+====================+ | Red Hat Enterprise Linux 9.5 | PASS | +------------------------------+--------------------+ | Ubuntu 20.04 | PASS | +------------------------------+--------------------+ | Fedora Linux 42 | PASS | +------------------------------+--------------------+ | Debian GNU/Linux 12 | PASS | +------------------------------+--------------------+ | Ubuntu 22.04 | PASS | +------------------------------+--------------------+ | Ubuntu 24.04 | PASS | +------------------------------+--------------------+ | CentOS Stream 9 | PASS | +------------------------------+--------------------+ | CentOS Stream 10 | PASS | +------------------------------+--------------------+ Red Hat Enterprise Linux 9.5 Kernel: 5.4 Compiler: gcc gcc (GCC) 11.5.0 20240719 (Red Hat 11.5.0-2) Ubuntu 20.04 Kernel: 5.15 Compiler: aarch64-linux-gnu-gcc gcc (Ubuntu 9.4.0-1ubuntu1~20.04.2) 9.4.0 Fedora Linux 42 Kernel: 5.4 Compiler: gcc gcc (GCC) 15.2.1 20250808 (Red Hat 15.2.1-1) Debian GNU/Linux 12 Kernel: 5.4 Compiler: gcc gcc (Debian 12.2.0-14+deb12u1) 12.2.0 Ubuntu 22.04 Kernel: 5.4 Compiler: gcc gcc (Ubuntu 11.4.0-1ubuntu1~22.04) 11.4.0 Ubuntu 24.04 Kernel: 5.4 Compiler: gcc gcc (Ubuntu 13.3.0-6ubuntu2~24.04) 13.3.0 CentOS Stream 9 Kernel: 5.4 Compiler: gcc gcc (GCC) 11.5.0 20240719 (Red Hat 11.5.0-11) CentOS Stream 10 Kernel: 5.4 Compiler: gcc gcc (GCC) 14.2.1 20250110 (Red Hat 14.2.1-8) To view detailed results, visit: https://lab.dpdk.org/results/dashboard/patchsets/34559/ UNH-IOL DPDK Community Lab To manage your email subscriptions, visit: https://lab.dpdk.org/results/dashboard/preferences/subscriptions/