From mboxrd@z Thu Jan 1 00:00:00 1970 Return-Path: Received: from mails.dpdk.org (mails.dpdk.org [217.70.189.124]) by inbox.dpdk.org (Postfix) with ESMTP id 38D0B48AF8 for ; Thu, 13 Nov 2025 10:37:55 +0100 (CET) Received: from mails.dpdk.org (localhost [127.0.0.1]) by mails.dpdk.org (Postfix) with ESMTP id 3485E40151; Thu, 13 Nov 2025 10:37:55 +0100 (CET) Received: from mail-qv1-f97.google.com (mail-qv1-f97.google.com [209.85.219.97]) by mails.dpdk.org (Postfix) with ESMTP id D11CC40151 for ; Thu, 13 Nov 2025 10:37:53 +0100 (CET) Received: by mail-qv1-f97.google.com with SMTP id 6a1803df08f44-88246676008so7690026d6.3 for ; Thu, 13 Nov 2025 01:37:53 -0800 (PST) DKIM-Signature: v=1; a=rsa-sha256; c=relaxed/relaxed; d=iol.unh.edu; s=unh-iol; t=1763026673; x=1763631473; darn=dpdk.org; h=references:in-reply-to:cc:to:from:subject:message-id:date:from:to :cc:subject:date:message-id:reply-to; bh=DwqwinWzxAgFH9WwsQU2mdBaHoOpFp9RntzBqjw3c5k=; b=duNp1Eb4Ohkr+HUjx+unBzlXTvZer3u3jUo7JVzC/DibQTobA15jgB/GjaBZNyRObK xLWbO/5Yt/ZanHBRBZJdvwPn4NnfCWZ4itimlLepL5B/rY7hCTri7AOBGhzo5qi3AgVW iXJVsez3Zsh4DTf9r7uMQMsFx36AO4sCHk7Q0= X-Google-DKIM-Signature: v=1; a=rsa-sha256; c=relaxed/relaxed; d=1e100.net; s=20230601; t=1763026673; x=1763631473; h=references:in-reply-to:cc:to:from:subject:message-id:date:x-gm-gg :x-gm-message-state:from:to:cc:subject:date:message-id:reply-to; bh=DwqwinWzxAgFH9WwsQU2mdBaHoOpFp9RntzBqjw3c5k=; b=Y8Fr7npklSrw1Gv2pTVLTHNJYBWkQEPLxzGU8Boynf6EPH1aJLknHuiNbWYwnei4LN SCfmmEw6nZ9m1vVgNDDhn8eNtpxdzCwbwrZDoE/C2HLbC9U6R7sz+QoybVkrpteYydfV 2oVxEUU3xR3lPg9vGUzDXpu2RjZ96QUDdt0+0xXW1SZnpmt92LXckeAd42zC3lVJuJ/r ORShvgrvvC8Y/vX3Yabd7dHJusKtoMX6GxZQSeA9XJyxcoTlWuZdcePzusGRrn0St63Z NPNOIJATcW/xeYrc/j1ddgQM7a210hU9toOBu1RIM2lFd9+LroS0VKrzNT5xTlPRtstt DFYg== X-Gm-Message-State: AOJu0YzhnbdolB2GqnbHcSGXBvHO/NiiFqhq2u5vTPtC8rBE9LFZcziB 8UuTRDwe6ykcdZwJw93m2J8l7v/TvTUakqjKR4i1npP1tphxPJ+AyHl/wLFfEG/zYU69aNd8vFQ sjnFdTbAlxfmqjxxiDInXEbpf2W9SnPOBW+zaahPgGc28 X-Gm-Gg: ASbGnct/sMCZxR7sv2GBA4k/r3CS5LGkFNO3eC6VWlJHwhZkNs+JDTLDmiO9/ESj4Z7 rAQszqDIHoCxFjtbQpO17HLDLGidBkV4CFQDNyySriX/kfEg2kZyWm9igJ6EZK1yhyctWAFh3Kn Q9fZINKjO3uBPUdGqKECakSQkL85If0REOOn0q2/+nTvSaoluQZXiOcj2uRBHazY9qt85e3i0Pg H6HDin+w2E9oJF6hoNSecY1tFdy2hykZ5lvJ/XJEGsv8bVcZW9+629KF7/cq7pHw2OHYs40Oa98 xpRdBYaDImLxvGdM330rSBoNyrwF5VzYFFJQYnzA1LDqgwlGT1tNQSK7hTI6xzsLd7fpUWgaVab Anh7y9RCiQaH5d2nDuSddKjN+PK95jWs= X-Google-Smtp-Source: AGHT+IFBzETKYnHeZXF/8SPEnCOsgRbXKOZex2+C56HGyvCB+MGGN+LfvDYeFQbAmjslFnovpzGYvZ7WEIY9 X-Received: by 2002:a05:6214:528a:b0:87e:d590:8994 with SMTP id 6a1803df08f44-88271908d44mr83426796d6.24.1763026673201; Thu, 13 Nov 2025 01:37:53 -0800 (PST) Received: from postal.iol.unh.edu (postal.iol.unh.edu. [132.177.123.84]) by smtp-relay.gmail.com with ESMTPS id 6a1803df08f44-882865b72d7sm1635816d6.34.2025.11.13.01.37.53 (version=TLS1_2 cipher=ECDHE-ECDSA-AES128-GCM-SHA256 bits=128/128); Thu, 13 Nov 2025 01:37:53 -0800 (PST) X-Relaying-Domain: iol.unh.edu Date: Thu, 13 Nov 2025 01:37:53 -0800 (PST) Message-ID: <6915a6f1.050a0220.228f10.8145SMTPIN_ADDED_MISSING@mx.google.com> Received: from [172.21.0.2] (unknown [172.18.0.240]) by postal.iol.unh.edu (Postfix) with ESMTP id F2B736051830; Thu, 13 Nov 2025 04:37:52 -0500 (EST) Subject: |SUCCESS| pw158745 [PATCH] [v3] net/ice: fix statistics read error From: dpdklab@iol.unh.edu To: Test Report Cc: dpdk-test-reports@iol.unh.edu, Bruce Richardson In-Reply-To: <20251113074710.8251-1-zhichaox.zeng@intel.com> References: <20251113074710.8251-1-zhichaox.zeng@intel.com> Content-Type: text/plain X-BeenThere: test-report@dpdk.org X-Mailman-Version: 2.1.29 Precedence: list List-Id: automatic DPDK test reports List-Unsubscribe: , List-Archive: List-Post: List-Help: List-Subscribe: , Errors-To: test-report-bounces@dpdk.org Test-Label: iol-unit-amd64-testing Test-Status: SUCCESS http://dpdk.org/patch/158745 _Testing PASS_ Submitter: Zhichao Zeng Date: Thursday, November 13 2025 07:47:10 DPDK git baseline: Repo:dpdk-next-net-intel Branch: master CommitID:c63646d076330fb2ef3282cbd413aaf93f0509e6 158745 --> testing pass Upstream job id: Generic-Unit-Test-DPDK#391939 Test environment and result as below: +-------------------------------+----------------+ | Environment | dpdk_unit_test | +===============================+================+ | CentOS Stream 9 | PASS | +-------------------------------+----------------+ | Debian GNU/Linux 12 | PASS | +-------------------------------+----------------+ | Fedora Linux 41 | PASS | +-------------------------------+----------------+ | Fedora Linux 42 | PASS | +-------------------------------+----------------+ | Fedora Linux 40 | PASS | +-------------------------------+----------------+ | CentOS Stream 10 | PASS | +-------------------------------+----------------+ | Red Hat Enterprise Linux 8.10 | PASS | +-------------------------------+----------------+ | Red Hat Enterprise Linux 9.5 | PASS | +-------------------------------+----------------+ | Ubuntu 24.04 | PASS | +-------------------------------+----------------+ | Ubuntu 22.04 | PASS | +-------------------------------+----------------+ | Ubuntu 20.04 | PASS | +-------------------------------+----------------+ CentOS Stream 9 Kernel: 5.15 Compiler: gcc gcc (GCC) 11.5.0 20240719 (Red Hat 11.5.0-11) Debian GNU/Linux 12 Kernel: 5.15 Compiler: gcc gcc (Debian 12.2.0-14+deb12u1) 12.2.0 Fedora Linux 41 Kernel: 5.15 Compiler: clang gcc (GCC) 14.3.1 20250523 (Red Hat 14.3.1-1) Fedora Linux 42 Kernel: 5.15 Compiler: gcc gcc (GCC) 15.2.1 20250808 (Red Hat 15.2.1-1) Fedora Linux 40 Kernel: 5.15 Compiler: clang gcc (GCC) 14.2.1 20240912 (Red Hat 14.2.1-3) CentOS Stream 10 Kernel: 5.15 Compiler: gcc gcc (GCC) 14.2.1 20250110 (Red Hat 14.2.1-8) Red Hat Enterprise Linux 8.10 Kernel: 5.15 Compiler: gcc gcc (GCC) 8.5.0 20210514 (Red Hat 8.5.0-22) Red Hat Enterprise Linux 9.5 Kernel: 5.15 Compiler: gcc gcc (GCC) 11.5.0 20240719 (Red Hat 11.5.0-2) Ubuntu 24.04 Kernel: 5.15 Compiler: gcc gcc (Ubuntu 13.3.0-6ubuntu2~24.04) 13.3.0 Ubuntu 22.04 Kernel: 5.15 Compiler: gcc gcc (Ubuntu 11.4.0-1ubuntu1~22.04) 11.4.0 Ubuntu 20.04 Kernel: 5.15 Compiler: gcc gcc (Ubuntu 9.4.0-1ubuntu1~20.04.2) 9.4.0 To view detailed results, visit: https://lab.dpdk.org/results/dashboard/patchsets/34565/ UNH-IOL DPDK Community Lab To manage your email subscriptions, visit: https://lab.dpdk.org/results/dashboard/preferences/subscriptions/