From mboxrd@z Thu Jan 1 00:00:00 1970 Return-Path: Received: from mails.dpdk.org (mails.dpdk.org [217.70.189.124]) by inbox.dpdk.org (Postfix) with ESMTP id E1C2C48AF8 for ; Thu, 13 Nov 2025 10:44:31 +0100 (CET) Received: from mails.dpdk.org (localhost [127.0.0.1]) by mails.dpdk.org (Postfix) with ESMTP id B7D0E40151; Thu, 13 Nov 2025 10:44:31 +0100 (CET) Received: from mail-pj1-f100.google.com (mail-pj1-f100.google.com [209.85.216.100]) by mails.dpdk.org (Postfix) with ESMTP id B797340151 for ; Thu, 13 Nov 2025 10:44:29 +0100 (CET) Received: by mail-pj1-f100.google.com with SMTP id 98e67ed59e1d1-3418ad69672so433314a91.3 for ; Thu, 13 Nov 2025 01:44:29 -0800 (PST) DKIM-Signature: v=1; a=rsa-sha256; c=relaxed/relaxed; d=iol.unh.edu; s=unh-iol; t=1763027069; x=1763631869; darn=dpdk.org; h=references:in-reply-to:cc:to:from:subject:message-id:date:from:to :cc:subject:date:message-id:reply-to; bh=PQNb3POsem9OPTJDSIdl50okDkWhZGgybHVeC22xwfI=; b=eBJbwZ/gL4kXZ1m3OYJ0rcSyWAVQRjegSfB8xv6p7l5yyjhMAi15mNpwzadjtKj5Lq Z8j56xnOFxRQNajheU9nYtFZ26Zjd4z34Y4qahlEFFajhqLGA/zz8xHJ42JmWDhBzjYL vF4iw+6WD+/4OE37dCVq9CcfAKkVXQ7hah0pE= X-Google-DKIM-Signature: v=1; a=rsa-sha256; c=relaxed/relaxed; d=1e100.net; s=20230601; t=1763027069; x=1763631869; h=references:in-reply-to:cc:to:from:subject:message-id:date:x-gm-gg :x-gm-message-state:from:to:cc:subject:date:message-id:reply-to; bh=PQNb3POsem9OPTJDSIdl50okDkWhZGgybHVeC22xwfI=; b=Mq9VyzEOcGAaEk9d7g4XG+ocvtoZJr6oj+QZjNojYhHPmEyYk4iD3MNtMBJBrfi9Cb p479d2UDtjzM9/TQnU+Bl05uQjT5UvTBO4X6q2orqc1V3y+edFrGE3Cfhu6V6tpVUHqg dXihKlh/KMsQ0vUDiqY1rQrX1AXeqlO6nQzo1dzSAOhfh8mfXNA5AT1XEYxXKFpFW4ma ezZTsbzyLE+QybOWgBttTPqUjy5dZRFRfVZzQZnKr6SaKiQiNELKdIfXR5GQoLjvfEJb g4UZcTuAWBe6+7CgklfopzsstZZupxYKX1OWnyFJt2+g0v0MWG9Oor1ilBf1RoG6eHnc xjeg== X-Gm-Message-State: AOJu0YyoPu32Te4T+2xdr+Ybk/C/ZnrykvszrU/9p7yTx0hJLbbbRO3N Ex55yPv7xfVeIUvLeHYe1hFoe+R6URATO6NUhxSJVVj0bWNEl3B/3mb+t1DvtpatL+C5/s1Pppr JldBfRIwwvo6IeF4amhXGX9FctxkEhIMd1zfGzdxggHrCzXO8KFMkAlWjXTs4 X-Gm-Gg: ASbGncs8Jy2ckEvhxy7y/souWNhHkV7pbcLpuf6GNeMQxgwSS3TpE/FVSD3RJZr1VsC 7aUesjWopDJpmUCOoVLd3PUUYDXXheRCPVP0J8gOT3gLpW+bY8NV9hWUG7JCIgKBIC6sLFs7l+u pKfdrRPNf201ht0QW9GpdiWieSrVNE4K773W5Lew5EfZhojuEAOdqG8artKmICKCtRn5DeoiL5B ipa89v+YN1aKglkj7jACoDtz4AGmP6/VQBcCSoZpJVCp6lX7h0+L7/kk2LuS+gSJgu4rDLuY+F6 Ij35Et4Hle7D5/xnQj14vj3UtyLpBoq5+P9DcteaydUDw+1JHbwYtKZdV/3+J41Zk9IZINhmmLU BfljfPJOD X-Google-Smtp-Source: AGHT+IGuF/208te9zTGuKS1DcNgSJL+2rfjyyGLE+Fj2Jie7Gt5Ul6taX3Ypz01iPwHf59kwlFTpxU+BJlIy X-Received: by 2002:a17:90b:3803:b0:340:b501:7b7d with SMTP id 98e67ed59e1d1-343dddfc5damr7086629a91.14.1763027068729; Thu, 13 Nov 2025 01:44:28 -0800 (PST) Received: from postal.iol.unh.edu (postal.iol.unh.edu. [2606:4100:3880:1234::84]) by smtp-relay.gmail.com with ESMTPS id 98e67ed59e1d1-343e07e793fsm506338a91.8.2025.11.13.01.44.28 (version=TLS1_2 cipher=ECDHE-ECDSA-AES128-GCM-SHA256 bits=128/128); Thu, 13 Nov 2025 01:44:28 -0800 (PST) X-Relaying-Domain: iol.unh.edu Date: Thu, 13 Nov 2025 01:44:28 -0800 (PST) Message-ID: <6915a87c.170a0220.2f630a.9b8bSMTPIN_ADDED_MISSING@mx.google.com> Received: from [172.21.0.2] (unknown [172.18.0.240]) by postal.iol.unh.edu (Postfix) with ESMTP id ED46D6051830; Thu, 13 Nov 2025 04:44:27 -0500 (EST) Subject: |SUCCESS| pw158673-158675 [PATCH] [v5,3/3] ring: establish a safe pa From: dpdklab@iol.unh.edu To: Test Report Cc: dpdk-test-reports@iol.unh.edu In-Reply-To: <20251111183720.833295-3-wathsala.vithanage@arm.com> References: <20251111183720.833295-3-wathsala.vithanage@arm.com> Content-Type: text/plain X-BeenThere: test-report@dpdk.org X-Mailman-Version: 2.1.29 Precedence: list List-Id: automatic DPDK test reports List-Unsubscribe: , List-Archive: List-Post: List-Help: List-Subscribe: , Errors-To: test-report-bounces@dpdk.org Test-Label: iol-unit-amd64-testing Test-Status: SUCCESS http://dpdk.org/patch/158675 _Testing PASS_ Submitter: Wathsala Vithanage Date: Tuesday, November 11 2025 18:37:19 DPDK git baseline: Repo:dpdk Branch: master CommitID:2f8d3fda56754b13a09098fac1140d781366672f 158673-158675 --> testing pass Upstream job id: Generic-VM-Unit-Test-DPDK#32470 Test environment and result as below: +-------------------------------+----------------+ | Environment | dpdk_unit_test | +===============================+================+ | Fedora Linux 40 | PASS | +-------------------------------+----------------+ | Debian GNU/Linux 12 | PASS | +-------------------------------+----------------+ | CentOS Stream 9 | PASS | +-------------------------------+----------------+ | Red Hat Enterprise Linux 8.10 | PASS | +-------------------------------+----------------+ | CentOS Stream 10 | PASS | +-------------------------------+----------------+ | Fedora Linux 42 | PASS | +-------------------------------+----------------+ | Ubuntu 20.04 | PASS | +-------------------------------+----------------+ | Red Hat Enterprise Linux 9.5 | PASS | +-------------------------------+----------------+ | Fedora Linux 41 | PASS | +-------------------------------+----------------+ | Ubuntu 22.04 | PASS | +-------------------------------+----------------+ | Ubuntu 24.04 | PASS | +-------------------------------+----------------+ | Windows Server 2022 | PASS | +-------------------------------+----------------+ Fedora Linux 40 Kernel: 5.15 Compiler: gcc gcc (GCC) 14.2.1 20240912 (Red Hat 14.2.1-3) Debian GNU/Linux 12 Kernel: 5.15 Compiler: gcc gcc (Debian 12.2.0-14+deb12u1) 12.2.0 CentOS Stream 9 Kernel: 5.15 Compiler: gcc gcc (GCC) 11.5.0 20240719 (Red Hat 11.5.0-11) Red Hat Enterprise Linux 8.10 Kernel: 5.15 Compiler: gcc gcc (GCC) 8.5.0 20210514 (Red Hat 8.5.0-22) CentOS Stream 10 Kernel: 5.15 Compiler: gcc gcc (GCC) 14.2.1 20250110 (Red Hat 14.2.1-8) Fedora Linux 42 Kernel: 5.15 Compiler: gcc gcc (GCC) 15.2.1 20250808 (Red Hat 15.2.1-1) Ubuntu 20.04 Kernel: 5.15 Compiler: gcc gcc (Ubuntu 9.4.0-1ubuntu1~20.04.2) 9.4.0 Red Hat Enterprise Linux 9.5 Kernel: 5.15 Compiler: gcc gcc (GCC) 11.5.0 20240719 (Red Hat 11.5.0-2) Fedora Linux 41 Kernel: 5.15 Compiler: clang gcc (GCC) 14.3.1 20250523 (Red Hat 14.3.1-1) Ubuntu 22.04 Kernel: 5.15 Compiler: gcc gcc (Ubuntu 11.4.0-1ubuntu1~22.04) 11.4.0 Ubuntu 24.04 Kernel: 5.15 Compiler: gcc gcc (Ubuntu 13.3.0-6ubuntu2~24.04) 13.3.0 Windows Server 2022 Kernel: 10.0.20348.2031 Compiler: clang 15.0.7, gcc 14.1.0 (MinGW), and MSVC VS 19.39.33521 To view detailed results, visit: https://lab.dpdk.org/results/dashboard/patchsets/34539/ UNH-IOL DPDK Community Lab To manage your email subscriptions, visit: https://lab.dpdk.org/results/dashboard/preferences/subscriptions/