From mboxrd@z Thu Jan 1 00:00:00 1970 Return-Path: Received: from mails.dpdk.org (mails.dpdk.org [217.70.189.124]) by inbox.dpdk.org (Postfix) with ESMTP id D99DE48AF8 for ; Thu, 13 Nov 2025 10:54:11 +0100 (CET) Received: from mails.dpdk.org (localhost [127.0.0.1]) by mails.dpdk.org (Postfix) with ESMTP id D3FD940151; Thu, 13 Nov 2025 10:54:11 +0100 (CET) Received: from mail-oa1-f97.google.com (mail-oa1-f97.google.com [209.85.160.97]) by mails.dpdk.org (Postfix) with ESMTP id 36A9C40151 for ; Thu, 13 Nov 2025 10:54:11 +0100 (CET) Received: by mail-oa1-f97.google.com with SMTP id 586e51a60fabf-3d56d0cb3dbso358012fac.3 for ; Thu, 13 Nov 2025 01:54:11 -0800 (PST) DKIM-Signature: v=1; a=rsa-sha256; c=relaxed/relaxed; d=iol.unh.edu; s=unh-iol; t=1763027650; x=1763632450; darn=dpdk.org; h=references:in-reply-to:cc:to:from:subject:message-id:date:from:to :cc:subject:date:message-id:reply-to; bh=4utNTgJYKIgSFWR5kj7XGHJ/Lwzr2HmErlSel9bsWVc=; b=QNNGezpxppMO+zm6ePOnq0nEJ5lEWUnwcu+oQkTSYdAPssMY/akIfmlyyu7GC4n68i lkWIX3oRefjryKSjROtsAuPcsXmnrB7WbH4XjZAxC8ymGTKW6TO/xt/IMiXdwJg9iED4 UoHWLhl0Ba2/KyWxIkbS0urAHeaKNAK2xbG5g= X-Google-DKIM-Signature: v=1; a=rsa-sha256; c=relaxed/relaxed; d=1e100.net; s=20230601; t=1763027650; x=1763632450; h=references:in-reply-to:cc:to:from:subject:message-id:date:x-gm-gg :x-gm-message-state:from:to:cc:subject:date:message-id:reply-to; bh=4utNTgJYKIgSFWR5kj7XGHJ/Lwzr2HmErlSel9bsWVc=; b=gkv8+HIxKahSXpSVPu+mH3dr3+oJV+zFE4P83MlvXjgbXPsSOTWZ5rjvRixpT1868L xGLlsbyklXqj3a1WjKv+4KWk5ChloATuI9pg859l+76xJRpdE4G4b0n0AEVMH6NmIvnR sWJhe5NszDrZ5eVG9wXEWiRAuef/lCSYyX76fQ75JsxAWT0g0rZIpWgD63S+fTeu/lDI R0202+ZpEEpEZf/LbHrjf6GtlErLTDyCs9X95OAHAZeVIKqsHj9L3oQZaSTbTlXPHtr5 tHr6ExI1ZOwCnZMIAd/Uw5cdo80DKG6bdhwN1A4v3IytRKbAq++94jQWtM1FVr6LrMPJ xL8Q== X-Gm-Message-State: AOJu0Yx1qfJR/zMG8nZx/wRQt+40wXAcCGl4j6RFEATk1+3ED/uH0Ex4 2ioEUmEGC7SebJ/ajPIWQypEb/kbCG7MR7F3+G2fsr8dFEtdPYwkuVT2zQeh99wML9imD+O4fgV Omlcm8RIxJC6b+GrH8NTWvlNU8kmJXImj4p/3zLSRUUWtJXhF4aGb+TCiibae X-Gm-Gg: ASbGncvrBWovYzyhVFIK9+d/aTOlBdYw4n2I/1TalqF+5mFA0a25uGUBaGgrEFjmRGK TZHQhlv9emCJAMh5RiiGKVV8+N7QwDOjA41msTHzAPTlu3T7R6cJMHPxORyJK+/K+pFG4RsEjQH +rKxT6bRHlmAYkdovflC+xIi+a7KNcm2EdryHgsUsxU2EDQw0qg9u3Z8pDu9PKd6lK13cT9fbns PP7h4KFl7s1XpuEwUDbrcblXhy4gbujmpvSSwsYrcCUIgx6wir0uIM1JEecS3FPtZkG5rgbFfM6 g4kL60Kg6NGUHcdVVSq2IQlLPdVSkKpI9OGinK6lYwTvQWjQ6Vp7x4yO1V/roiI5YM0KyCc7pyr yyaiqD0vB X-Google-Smtp-Source: AGHT+IFXGvX85JJZoX1wQl9R/z5Do5ZEnkdFnzLhc22tZkDINj68q6TQVPtCN8CBRd3O7AYNwPtOfDMZ0T5t X-Received: by 2002:a05:6870:8dc9:b0:3e2:fe94:f128 with SMTP id 586e51a60fabf-3e833fc93b3mr3060971fac.19.1763027650518; Thu, 13 Nov 2025 01:54:10 -0800 (PST) Received: from postal.iol.unh.edu (postal.iol.unh.edu. [2606:4100:3880:1234::84]) by smtp-relay.gmail.com with ESMTPS id 586e51a60fabf-3e8522c77f1sm133872fac.19.2025.11.13.01.54.10 (version=TLS1_2 cipher=ECDHE-ECDSA-AES128-GCM-SHA256 bits=128/128); Thu, 13 Nov 2025 01:54:10 -0800 (PST) X-Relaying-Domain: iol.unh.edu Date: Thu, 13 Nov 2025 01:54:10 -0800 (PST) Message-ID: <6915aac2.050a0220.167f9f.6f96SMTPIN_ADDED_MISSING@mx.google.com> Received: from [172.21.0.2] (unknown [172.18.0.240]) by postal.iol.unh.edu (Postfix) with ESMTP id 0C52D6051830; Thu, 13 Nov 2025 04:54:10 -0500 (EST) Subject: |SUCCESS| pw158646-158647 [PATCH] [v7,2/2] app/testpmd: support mult From: dpdklab@iol.unh.edu To: Test Report Cc: dpdk-test-reports@iol.unh.edu, Stephen Hemminger In-Reply-To: <20251111091303.39491-3-fengchengwen@huawei.com> References: <20251111091303.39491-3-fengchengwen@huawei.com> Content-Type: text/plain X-BeenThere: test-report@dpdk.org X-Mailman-Version: 2.1.29 Precedence: list List-Id: automatic DPDK test reports List-Unsubscribe: , List-Archive: List-Post: List-Help: List-Subscribe: , Errors-To: test-report-bounces@dpdk.org Test-Label: iol-compile-amd64-testing Test-Status: SUCCESS http://dpdk.org/patch/158647 _Testing PASS_ Submitter: fengchengwen Date: Tuesday, November 11 2025 09:13:03 DPDK git baseline: Repo:dpdk-next-net Branch: master CommitID:591ee7f468aebec30d68d30afa8d5e4dcfc897dc 158646-158647 --> testing pass Upstream job id: Windows-Compile-DPDK-Native#32285 Test environment and result as below: +-------------------------------+--------------------+------------------+-------------------+-------------------------+----------------------+ | Environment | dpdk_meson_compile | dpdk_compile_ovs | dpdk_msvc_compile | dpdk_llvm_clang_compile | dpdk_mingw64_compile | +===============================+====================+==================+===================+=========================+======================+ | openSUSE Leap 15.6 | PASS | SKIPPED | SKIPPED | SKIPPED | SKIPPED | +-------------------------------+--------------------+------------------+-------------------+-------------------------+----------------------+ | CentOS Stream 9 | PASS | SKIPPED | SKIPPED | SKIPPED | SKIPPED | +-------------------------------+--------------------+------------------+-------------------+-------------------------+----------------------+ | Red Hat Enterprise Linux 9.5 | PASS | SKIPPED | SKIPPED | SKIPPED | SKIPPED | +-------------------------------+--------------------+------------------+-------------------+-------------------------+----------------------+ | CentOS Stream 10 | PASS | SKIPPED | SKIPPED | SKIPPED | SKIPPED | +-------------------------------+--------------------+------------------+-------------------+-------------------------+----------------------+ | Fedora Linux 42 | PASS | PASS | SKIPPED | SKIPPED | SKIPPED | +-------------------------------+--------------------+------------------+-------------------+-------------------------+----------------------+ | Ubuntu 20.04 | PASS | SKIPPED | SKIPPED | SKIPPED | SKIPPED | +-------------------------------+--------------------+------------------+-------------------+-------------------------+----------------------+ | Alpine Linux 3.22.0 | PASS | SKIPPED | SKIPPED | SKIPPED | SKIPPED | +-------------------------------+--------------------+------------------+-------------------+-------------------------+----------------------+ | Red Hat Enterprise Linux 8.10 | PASS | SKIPPED | SKIPPED | SKIPPED | SKIPPED | +-------------------------------+--------------------+------------------+-------------------+-------------------------+----------------------+ | Ubuntu 24.04 | PASS | PASS | SKIPPED | SKIPPED | SKIPPED | +-------------------------------+--------------------+------------------+-------------------+-------------------------+----------------------+ | Debian GNU/Linux 12 | PASS | SKIPPED | SKIPPED | SKIPPED | SKIPPED | +-------------------------------+--------------------+------------------+-------------------+-------------------------+----------------------+ | Ubuntu 22.04 | PASS | SKIPPED | SKIPPED | SKIPPED | SKIPPED | +-------------------------------+--------------------+------------------+-------------------+-------------------------+----------------------+ | FreeBSD 14.2 | PASS | SKIPPED | SKIPPED | SKIPPED | SKIPPED | +-------------------------------+--------------------+------------------+-------------------+-------------------------+----------------------+ | Windows Server 2022 | SKIPPED | SKIPPED | PASS | PASS | PASS | +-------------------------------+--------------------+------------------+-------------------+-------------------------+----------------------+ openSUSE Leap 15.6 Kernel: 5.15 Compiler: gcc gcc (SUSE Linux) 7.5.0 CentOS Stream 9 Kernel: 5.15 Compiler: gcc gcc (GCC) 11.5.0 20240719 (Red Hat 11.5.0-11) Red Hat Enterprise Linux 9.5 Kernel: 5.15 Compiler: gcc gcc (GCC) 11.5.0 20240719 (Red Hat 11.5.0-2) CentOS Stream 10 Kernel: 5.15 Compiler: gcc gcc (GCC) 14.2.1 20250110 (Red Hat 14.2.1-8) Fedora Linux 42 Kernel: 5.15 Compiler: clang gcc (GCC) 15.2.1 20250808 (Red Hat 15.2.1-1) Ubuntu 20.04 Kernel: 5.15 Compiler: gcc gcc (Ubuntu 9.4.0-1ubuntu1~20.04.2) 9.4.0 Alpine Linux 3.22.0 Kernel: 5.15 Compiler: gcc gcc (Alpine 14.2.0) 14.2.0 Red Hat Enterprise Linux 8.10 Kernel: 5.15 Compiler: gcc gcc (GCC) 8.5.0 20210514 (Red Hat 8.5.0-22) Ubuntu 24.04 Kernel: 5.15 Compiler: gcc gcc (Ubuntu 13.3.0-6ubuntu2~24.04) 13.3.0 Debian GNU/Linux 12 Kernel: 5.15 Compiler: gcc gcc (Debian 12.2.0-14+deb12u1) 12.2.0 Ubuntu 22.04 Kernel: 5.15 Compiler: gcc gcc (Ubuntu 11.4.0-1ubuntu1~22.04) 11.4.0 FreeBSD 14.2 Kernel: 14.2-RELEASE Compiler: clang 18.1.6 Windows Server 2022 Kernel: 10.0.20348.2031 Compiler: clang 15.0.7, gcc 14.1.0 (MinGW), and MSVC VS 19.39.33521 To view detailed results, visit: https://lab.dpdk.org/results/dashboard/patchsets/34531/ UNH-IOL DPDK Community Lab To manage your email subscriptions, visit: https://lab.dpdk.org/results/dashboard/preferences/subscriptions/