From mboxrd@z Thu Jan 1 00:00:00 1970 Return-Path: Received: from mails.dpdk.org (mails.dpdk.org [217.70.189.124]) by inbox.dpdk.org (Postfix) with ESMTP id 9B0C448AF8 for ; Thu, 13 Nov 2025 10:56:45 +0100 (CET) Received: from mails.dpdk.org (localhost [127.0.0.1]) by mails.dpdk.org (Postfix) with ESMTP id 9209340151; Thu, 13 Nov 2025 10:56:45 +0100 (CET) Received: from mail-oa1-f99.google.com (mail-oa1-f99.google.com [209.85.160.99]) by mails.dpdk.org (Postfix) with ESMTP id 6661740151 for ; Thu, 13 Nov 2025 10:56:44 +0100 (CET) Received: by mail-oa1-f99.google.com with SMTP id 586e51a60fabf-3e2d1477b9cso327883fac.2 for ; Thu, 13 Nov 2025 01:56:44 -0800 (PST) DKIM-Signature: v=1; a=rsa-sha256; c=relaxed/relaxed; d=iol.unh.edu; s=unh-iol; t=1763027803; x=1763632603; darn=dpdk.org; h=references:in-reply-to:cc:to:from:subject:message-id:date:from:to :cc:subject:date:message-id:reply-to; bh=kpWXOZGnuko2NmizcIl7FHfewrZTxFDrJwcwHXxRoQs=; b=gcEpFCZMKCF8beBhgDcd831j1H7/R1RWxyWgA06nJ1jhIamJZx8Da3M7ttNQMVqy1s A3KVW6IX8yjLDC0yuSI0AzzTIK50K11Q1L917m0bBFHq1AclWKTRMZ8AYLftFR4wgK/I zpVVKQ1anIBvjFQBggu+NeyND3V8/dUKdYHFw= X-Google-DKIM-Signature: v=1; a=rsa-sha256; c=relaxed/relaxed; d=1e100.net; s=20230601; t=1763027803; x=1763632603; h=references:in-reply-to:cc:to:from:subject:message-id:date:x-gm-gg :x-gm-message-state:from:to:cc:subject:date:message-id:reply-to; bh=kpWXOZGnuko2NmizcIl7FHfewrZTxFDrJwcwHXxRoQs=; b=FcMa/KmQ7vjhP69La9yVkOIbIPm9TgHM3uo8VG64kEuhT/m2afnKpmup79HiZFf05F cpkwV38jxFfIECv8FS/zP/XivGE9r4+sUxnXhxyGM9F0aizXvmbuG7iY8gYC+vibpYcq qMpYJ7iN6b3rHOOFEWzlmpOCyqyFKwRSWxQil5HnvJeBwnJHc2Ieginq0JPeGJBCcvGy XJYNsVW8HP+XQYU20snGaJBvL/1UXkvNp+IbV4T+RLUbZx10YyZtaQot1rLjm7G8q5bA m28INeTEoxExqELn3Rh9kKRgar6Ze0LEejFHt0+MdB57URFAiW9L7q4DqrWGyc3uPwnb TylQ== X-Gm-Message-State: AOJu0Yx0GsBZL6/7TWSxHMbpsDAfTb45qWhVX5Q4sFObfOAo+XuL1nci Oe/77nKhx3mt6M1hWczfA7bAjxdfQ1uqGHOvVkHgNI3mA3V4A1590Q5Ak5LF8+umoBlSj3xcrcH KgqkjpLjAJ2V6ntJbNLYtJzFwLCq8dRVlu3B7JqtkORNM X-Gm-Gg: ASbGncv/ItN3KdmfGEiDZFuIlJxDDSfIBD0LyaaqWTeCdpKxoFsO/zYtZ5cjkt/pXPW 2AcztADFAG9VAaD39xpAJFFzgiIJ4wi1/oDo072vRxGlUUQ/zSyfPvsY+GEaVbUHRg882zAe8V8 YEr1i0i/PlkUoGpXBSiDSWmn1sav5iKA04Eaor8PQm4KqSy/SNh+J2sL030rjchBZ5izMCFKIYl L/l/lFolQuS8WgcexhqAUeEakb7XaiEVM8DeNZqrTO3J/Jw/CM0PCuV02FXP4B1hxRTuqU26yOB ziRI6vN2RNzAHg6HDSX7lvreCW4wB5N6Sf6KJNFww01O4zKCJtIjB1K5+lnnVKeDFykxGOxXfRq Z3uJJUBIiw7ESG3SZaHsXtxcWwpAtdwg= X-Google-Smtp-Source: AGHT+IGBCxOAgL+cbnIQVWbWf+SwqJSjn5NXy44eg91Mvhv01vFkKMpOc3dqGZttI4NAYkIdUWUS6/il5oKx X-Received: by 2002:a05:6870:34e:b0:3e0:ffcb:2f84 with SMTP id 586e51a60fabf-3e834127e7amr3152295fac.28.1763027803694; Thu, 13 Nov 2025 01:56:43 -0800 (PST) Received: from postal.iol.unh.edu (postal.iol.unh.edu. [132.177.123.84]) by smtp-relay.gmail.com with ESMTPS id 586e51a60fabf-3e85200cecesm120958fac.7.2025.11.13.01.56.43 (version=TLS1_2 cipher=ECDHE-ECDSA-AES128-GCM-SHA256 bits=128/128); Thu, 13 Nov 2025 01:56:43 -0800 (PST) X-Relaying-Domain: iol.unh.edu Date: Thu, 13 Nov 2025 01:56:43 -0800 (PST) Message-ID: <6915ab5b.050a0220.3d9d56.69edSMTPIN_ADDED_MISSING@mx.google.com> Received: from [172.21.0.2] (unknown [172.18.0.240]) by postal.iol.unh.edu (Postfix) with ESMTP id 32E436051830; Thu, 13 Nov 2025 04:56:43 -0500 (EST) Subject: |SUCCESS| pw158699 [PATCH] net/ice: fix path selection for QinQ Tx o From: dpdklab@iol.unh.edu To: Test Report Cc: dpdk-test-reports@iol.unh.edu, Bruce Richardson In-Reply-To: <20251112115726.1286735-1-bruce.richardson@intel.com> References: <20251112115726.1286735-1-bruce.richardson@intel.com> Content-Type: text/plain X-BeenThere: test-report@dpdk.org X-Mailman-Version: 2.1.29 Precedence: list List-Id: automatic DPDK test reports List-Unsubscribe: , List-Archive: List-Post: List-Help: List-Subscribe: , Errors-To: test-report-bounces@dpdk.org Test-Label: iol-unit-arm64-testing Test-Status: SUCCESS http://dpdk.org/patch/158699 _Testing PASS_ Submitter: Bruce Richardson Date: Wednesday, November 12 2025 11:57:26 DPDK git baseline: Repo:dpdk-next-net-intel Branch: master CommitID:1655dc989bc95fa85fc76d32912d2e46c0851148 158699 --> testing pass Upstream job id: Generic-Unit-Test-DPDK#391503 Test environment and result as below: +------------------------------+--------------+---------------------------+------------------------------+----------------+ | Environment | lpm_autotest | cryptodev_sw_zuc_autotest | cryptodev_sw_snow3g_autotest | dpdk_unit_test | +==============================+==============+===========================+==============================+================+ | Ubuntu 20.04 | PASS | SKIPPED | SKIPPED | PASS | +------------------------------+--------------+---------------------------+------------------------------+----------------+ | Debian 12 (arm) | SKIPPED | PASS | PASS | SKIPPED | +------------------------------+--------------+---------------------------+------------------------------+----------------+ | Ubuntu 22.04 | SKIPPED | SKIPPED | SKIPPED | PASS | +------------------------------+--------------+---------------------------+------------------------------+----------------+ | CentOS Stream 10 | SKIPPED | SKIPPED | SKIPPED | PASS | +------------------------------+--------------+---------------------------+------------------------------+----------------+ | CentOS Stream 9 | SKIPPED | SKIPPED | SKIPPED | PASS | +------------------------------+--------------+---------------------------+------------------------------+----------------+ | Fedora Linux 40 | SKIPPED | SKIPPED | SKIPPED | PASS | +------------------------------+--------------+---------------------------+------------------------------+----------------+ | Fedora Linux 41 | SKIPPED | SKIPPED | SKIPPED | PASS | +------------------------------+--------------+---------------------------+------------------------------+----------------+ | Debian GNU/Linux 12 | SKIPPED | SKIPPED | SKIPPED | PASS | +------------------------------+--------------+---------------------------+------------------------------+----------------+ | Fedora Linux 42 | SKIPPED | SKIPPED | SKIPPED | PASS | +------------------------------+--------------+---------------------------+------------------------------+----------------+ | Red Hat Enterprise Linux 9.5 | SKIPPED | SKIPPED | SKIPPED | PASS | +------------------------------+--------------+---------------------------+------------------------------+----------------+ | Ubuntu 24.04 | SKIPPED | SKIPPED | SKIPPED | PASS | +------------------------------+--------------+---------------------------+------------------------------+----------------+ Ubuntu 20.04 Kernel: 5.4 Compiler: gcc gcc (Ubuntu 9.4.0-1ubuntu1~20.04.2) 9.4.0 Debian 12 (arm) Kernel: Depends on container host Compiler: gcc (Debian 12.2.0-14) 12.2.0 Ubuntu 22.04 Kernel: 5.15 Compiler: gcc gcc (Ubuntu 11.4.0-1ubuntu1~22.04.2) 11.4.0 CentOS Stream 10 Kernel: 5.4 Compiler: gcc gcc (GCC) 14.2.1 20250110 (Red Hat 14.2.1-8) CentOS Stream 9 Kernel: 5.4 Compiler: gcc gcc (GCC) 11.5.0 20240719 (Red Hat 11.5.0-11) Fedora Linux 40 Kernel: 5.4 Compiler: clang gcc (GCC) 14.2.1 20240912 (Red Hat 14.2.1-3) Fedora Linux 41 Kernel: 5.4 Compiler: gcc gcc (GCC) 14.3.1 20250523 (Red Hat 14.3.1-1) Debian GNU/Linux 12 Kernel: 5.4 Compiler: gcc gcc (Debian 12.2.0-14+deb12u1) 12.2.0 Fedora Linux 42 Kernel: 5.4 Compiler: clang gcc (GCC) 15.2.1 20250808 (Red Hat 15.2.1-1) Red Hat Enterprise Linux 9.5 Kernel: 5.4 Compiler: gcc gcc (GCC) 11.5.0 20240719 (Red Hat 11.5.0-2) Ubuntu 24.04 Kernel: 5.4 Compiler: gcc gcc (Ubuntu 13.3.0-6ubuntu2~24.04) 13.3.0 To view detailed results, visit: https://lab.dpdk.org/results/dashboard/patchsets/34548/ UNH-IOL DPDK Community Lab To manage your email subscriptions, visit: https://lab.dpdk.org/results/dashboard/preferences/subscriptions/