From mboxrd@z Thu Jan 1 00:00:00 1970 Return-Path: Received: from mails.dpdk.org (mails.dpdk.org [217.70.189.124]) by inbox.dpdk.org (Postfix) with ESMTP id 3A0AA48AF8 for ; Thu, 13 Nov 2025 11:01:10 +0100 (CET) Received: from mails.dpdk.org (localhost [127.0.0.1]) by mails.dpdk.org (Postfix) with ESMTP id 346C740151; Thu, 13 Nov 2025 11:01:10 +0100 (CET) Received: from mail-yw1-f228.google.com (mail-yw1-f228.google.com [209.85.128.228]) by mails.dpdk.org (Postfix) with ESMTP id 99D3740151 for ; Thu, 13 Nov 2025 11:01:08 +0100 (CET) Received: by mail-yw1-f228.google.com with SMTP id 00721157ae682-7880686d178so6749437b3.1 for ; Thu, 13 Nov 2025 02:01:08 -0800 (PST) DKIM-Signature: v=1; a=rsa-sha256; c=relaxed/relaxed; d=iol.unh.edu; s=unh-iol; t=1763028068; x=1763632868; darn=dpdk.org; h=references:in-reply-to:cc:to:from:subject:message-id:date:from:to :cc:subject:date:message-id:reply-to; bh=+fcLtS8FAMI3pPRW3bPck8UkI+n7vgPg+GfZrNkd190=; b=hxnvizCPLNyMvjJFqXeStjYVorgPsXMzIVif5C75odzrD8V7eWSS6lrGjMg1BHuvn7 s1W7NkYOclqZCyHrVonCGq8HbSlkuI39b31KuOiMPvuuU2uemUoauN8kuh+x8S0qwPlB Qy9nfUpnVucdtXzdeLbq2wl+URI+IYRXyOuts= X-Google-DKIM-Signature: v=1; a=rsa-sha256; c=relaxed/relaxed; d=1e100.net; s=20230601; t=1763028068; x=1763632868; h=references:in-reply-to:cc:to:from:subject:message-id:date:x-gm-gg :x-gm-message-state:from:to:cc:subject:date:message-id:reply-to; bh=+fcLtS8FAMI3pPRW3bPck8UkI+n7vgPg+GfZrNkd190=; b=bv8aax3UeE/ltBwOPiOZ1DPgylsfzDbimRiypjpS4T3j1V9sBMgtw/69UX8FPjUG1Y uRrQLeiyOyj4fdc/+LVMfBqC4pS64Ns2JdEZYqawEgmNAn9Qpfje11pIv9mF/IDO3rVm 8HaG5FKWXh2imcEPaq/+ZG78CJpZvR4mMsT96M2ICtizG8mWDdoCGqRVDDvEtL6/bB3R 6ReaBCyzCLrn1TwzjPHNCDM5nmNApvbX+8UsxI0bWk/zbS0a3W+dBFgzNsXXW+v8KPud Jf+V/gqNv9FPHyCk5h5mrcxaB42YYGL6ZUM0fAAx98v4URprvDov8VcVP0XIxrG8/1em o6ew== X-Gm-Message-State: AOJu0YwaNwlAFb+Ijj8nnnKGj9er+l3b/V4I0/dNycJHfnzxjV2X8JBk aZ6xJPmK3jC3CdiohOc7KN2nFddS7chCEwR4BWQnIOZ1kLGCD5Ariu4nHTbK5VdRzY8YZ4D4265 ReKAjF20l4shVAennCv5E4bYpNV7FbHkR1cF0RYkPQKFc X-Gm-Gg: ASbGncvBL+csJBPqkcGTgrLFQrOTjnv9kJfGFn2C3oq8heUjX0nqzFGoaSwQE0ym68p V8IPoNcKomle0u3BR3vTKWFQ+UoaeeimbvXdmGjVkqfItOXDN3SSQB74SO4Mmrxf88UGMuMSCb0 0IG+6TpBSlDnRU8EUzirgUFF6X9Hd6swBnZZp19IhBJp/gekd6yz+rQVdYt0d3Eai832y1dmOJn AOP5AUAT+elzvY+Rbp+SKg/65t1TbHcxZ2WZTR3G9VNUbivk4/WkxvVdDXhCFel00+e87FV+acZ meJkG5RqGPXo50rVQVJWj+k9wTFiKMr9bUdXZl7lmJBWXnfryAEWqtZRCeqCapXfYT7WHl9Y6/U wdJE6Lq9dV2gNoIqHLCRZTM5K9u4DtXk= X-Google-Smtp-Source: AGHT+IF3DPbfSOFqZI2scMyAEtAhx/I1qHRnlPwXoUCSuucBzIQJ8OVhoyt5z1eqieLot9L66RdGOt3a6+av X-Received: by 2002:a05:690c:64c7:b0:788:c21:b05c with SMTP id 00721157ae682-788136cd72bmr57592427b3.63.1763028067980; Thu, 13 Nov 2025 02:01:07 -0800 (PST) Received: from postal.iol.unh.edu (postal.iol.unh.edu. [132.177.123.84]) by smtp-relay.gmail.com with ESMTPS id 00721157ae682-78821f65cf0sm814227b3.22.2025.11.13.02.01.07 (version=TLS1_2 cipher=ECDHE-ECDSA-AES128-GCM-SHA256 bits=128/128); Thu, 13 Nov 2025 02:01:07 -0800 (PST) X-Relaying-Domain: iol.unh.edu Date: Thu, 13 Nov 2025 02:01:07 -0800 (PST) Message-ID: <6915ac63.050a0220.3cef13.4290SMTPIN_ADDED_MISSING@mx.google.com> Received: from [172.21.0.3] (unknown [172.18.0.240]) by postal.iol.unh.edu (Postfix) with ESMTP id 9CF606051835; Thu, 13 Nov 2025 05:01:07 -0500 (EST) Subject: |SUCCESS| pw158676 [PATCH] config/arm: update mcpu for Cobalt-100 So From: dpdklab@iol.unh.edu To: Test Report Cc: dpdk-test-reports@iol.unh.edu In-Reply-To: <20251111190639.3470596-1-doug.foster@arm.com> References: <20251111190639.3470596-1-doug.foster@arm.com> Content-Type: text/plain X-BeenThere: test-report@dpdk.org X-Mailman-Version: 2.1.29 Precedence: list List-Id: automatic DPDK test reports List-Unsubscribe: , List-Archive: List-Post: List-Help: List-Subscribe: , Errors-To: test-report-bounces@dpdk.org Test-Label: iol-unit-amd64-testing Test-Status: SUCCESS http://dpdk.org/patch/158676 _Testing PASS_ Submitter: Doug Foster Date: Tuesday, November 11 2025 19:06:38 DPDK git baseline: Repo:dpdk Branch: master CommitID:be0112878b4fc3a1b918370ed2fe615c52039d77 158676 --> testing pass Upstream job id: Generic-VM-Unit-Test-DPDK#32471 Test environment and result as below: +-------------------------------+----------------+ | Environment | dpdk_unit_test | +===============================+================+ | Fedora Linux 42 | PASS | +-------------------------------+----------------+ | CentOS Stream 10 | PASS | +-------------------------------+----------------+ | Ubuntu 24.04 | PASS | +-------------------------------+----------------+ | Fedora Linux 40 | PASS | +-------------------------------+----------------+ | Debian GNU/Linux 12 | PASS | +-------------------------------+----------------+ | Ubuntu 20.04 | PASS | +-------------------------------+----------------+ | Red Hat Enterprise Linux 9.5 | PASS | +-------------------------------+----------------+ | Ubuntu 22.04 | PASS | +-------------------------------+----------------+ | Fedora Linux 41 | PASS | +-------------------------------+----------------+ | Red Hat Enterprise Linux 8.10 | PASS | +-------------------------------+----------------+ | CentOS Stream 9 | PASS | +-------------------------------+----------------+ | Windows Server 2022 | PASS | +-------------------------------+----------------+ Fedora Linux 42 Kernel: 5.15 Compiler: gcc gcc (GCC) 15.2.1 20250808 (Red Hat 15.2.1-1) CentOS Stream 10 Kernel: 5.15 Compiler: gcc gcc (GCC) 14.2.1 20250110 (Red Hat 14.2.1-8) Ubuntu 24.04 Kernel: 5.15 Compiler: gcc gcc (Ubuntu 13.3.0-6ubuntu2~24.04) 13.3.0 Fedora Linux 40 Kernel: 5.15 Compiler: gcc gcc (GCC) 14.2.1 20240912 (Red Hat 14.2.1-3) Debian GNU/Linux 12 Kernel: 5.15 Compiler: gcc gcc (Debian 12.2.0-14+deb12u1) 12.2.0 Ubuntu 20.04 Kernel: 5.15 Compiler: gcc gcc (Ubuntu 9.4.0-1ubuntu1~20.04.2) 9.4.0 Red Hat Enterprise Linux 9.5 Kernel: 5.15 Compiler: gcc gcc (GCC) 11.5.0 20240719 (Red Hat 11.5.0-2) Ubuntu 22.04 Kernel: 5.15 Compiler: gcc gcc (Ubuntu 11.4.0-1ubuntu1~22.04) 11.4.0 Fedora Linux 41 Kernel: 5.15 Compiler: clang gcc (GCC) 14.3.1 20250523 (Red Hat 14.3.1-1) Red Hat Enterprise Linux 8.10 Kernel: 5.15 Compiler: gcc gcc (GCC) 8.5.0 20210514 (Red Hat 8.5.0-22) CentOS Stream 9 Kernel: 5.15 Compiler: gcc gcc (GCC) 11.5.0 20240719 (Red Hat 11.5.0-11) Windows Server 2022 Kernel: 10.0.20348.2031 Compiler: clang 15.0.7, gcc 14.1.0 (MinGW), and MSVC VS 19.39.33521 To view detailed results, visit: https://lab.dpdk.org/results/dashboard/patchsets/34540/ UNH-IOL DPDK Community Lab To manage your email subscriptions, visit: https://lab.dpdk.org/results/dashboard/preferences/subscriptions/