From mboxrd@z Thu Jan 1 00:00:00 1970 Return-Path: Received: from mails.dpdk.org (mails.dpdk.org [217.70.189.124]) by inbox.dpdk.org (Postfix) with ESMTP id 5713A48AF8 for ; Thu, 13 Nov 2025 11:26:36 +0100 (CET) Received: from mails.dpdk.org (localhost [127.0.0.1]) by mails.dpdk.org (Postfix) with ESMTP id 4F88440151; Thu, 13 Nov 2025 11:26:36 +0100 (CET) Received: from mail-oa1-f99.google.com (mail-oa1-f99.google.com [209.85.160.99]) by mails.dpdk.org (Postfix) with ESMTP id D2EB340151 for ; Thu, 13 Nov 2025 11:26:34 +0100 (CET) Received: by mail-oa1-f99.google.com with SMTP id 586e51a60fabf-3e284c5fe0aso143498fac.1 for ; Thu, 13 Nov 2025 02:26:34 -0800 (PST) DKIM-Signature: v=1; a=rsa-sha256; c=relaxed/relaxed; d=iol.unh.edu; s=unh-iol; t=1763029594; x=1763634394; darn=dpdk.org; h=references:in-reply-to:cc:to:from:subject:message-id:date:from:to :cc:subject:date:message-id:reply-to; bh=3KRL+asdqgbAYjqS3OqjY7+HU0zI70Hn+9JykOONkW8=; b=Bd4EJKOoTmZ3fDxBEbIDZj3A6oONZmsJHJxJ9uoIEvQ0rRQmpGzDBc9Eyl07QH1fUd 8Eyt4IVe3/+swmJ/BSQnLLdEZOEtgdfyOT/1ZX4m5mkoid9Jg2nZ84+yyB7zTPT0nOaa 1ceD7VGzvhg//pUnmAEHeoJ247ilSWRp9BiF0= X-Google-DKIM-Signature: v=1; a=rsa-sha256; c=relaxed/relaxed; d=1e100.net; s=20230601; t=1763029594; x=1763634394; h=references:in-reply-to:cc:to:from:subject:message-id:date:x-gm-gg :x-gm-message-state:from:to:cc:subject:date:message-id:reply-to; bh=3KRL+asdqgbAYjqS3OqjY7+HU0zI70Hn+9JykOONkW8=; b=ZaPbOXBg7xDbKgRA92V+Kq4aGTikcReCO05Jc0r12xicq0Ii9WnJdIsyvafHXhMcxM cpJhvvszJBr6j9G3Bu0HxN+RJyTgiSvZXs61FCvWhJzbJVFb8N60Y6fyTQyBhcvMkfLd 5VZ7fBSGp2IDfzRnfcfjptog7pCn9pc0J2ziYYy+ZGG6qA7WteFzUhYUBvb34aSfFnFa vB1BTDms47tDora/gPW/Dkyjim3r0Go6YhwLDo/Y4Yt/S2R7fTC10BcWgbLNUvlbqE/3 LI3rUcN0AcPNkhhS4KLLfK7gTJ5eGMgMIve/Osy7SWiljmzLr/KDlXuVtn/0mTxSzxYW Auhg== X-Gm-Message-State: AOJu0YyXlw6tRn3E3vf4Ttf/9DadBiSBUSYGh9kfJlCmOU0GcyMmj0ow 3yRXVY2tLResQzyO94Pj8Dlp1tkS+LFuldTc/gmH4zJ/s1kngOyoZSuwIMLTmMFkAOE1pNU2H3I uWmQbJlAO9WOMjQZ+IPnvISR0OUpinqI7EJZFjN7g5VKd3bSOLlH1HlDKiqqR X-Gm-Gg: ASbGnct5VZuEZ/sdz8WpGIKGsdof1uhHcqhUNZ/X8cYm1RU4XX/tdx1wWSCW3KUnVyD TaTHETs8pKUJ6NxHudDtX+ZqcgJbSOlRMjB5L1XGH68pS6YRN3/aQB5D6TryyrBRz2E/+WecEIN YbcPpW8VjKoPsSuGjtaE6YuiHB7ZPPJ2Nu3UGlvJk132HMMbVTmIZQFlKtFMnFyESnD4x7Xe/Qn RtWlHrz6KaMPK1muicCVyZb72y1ynyM3YOPTuY0d5n4P+ZNA2AcCUXv5QcE4tdBGwxz0ELODLuA JZFa0eMQe//tRmquuHH/ixAcFNkkm2TODWtsynqvwznJziX0lE8Dni84g/w+BqGggdMwrLHFAC+ +aTzgZ1MN X-Google-Smtp-Source: AGHT+IGEuYNqwqFGmNZOvcK0V+1velvJoezh6X6PamKOiEMMEEBlMXmsn+2AyhoJDJYKE7I95L5B+Q2xdVWO X-Received: by 2002:a05:6870:7a0c:b0:3e3:48b7:341e with SMTP id 586e51a60fabf-3e83418d9c5mr2876359fac.28.1763029594164; Thu, 13 Nov 2025 02:26:34 -0800 (PST) Received: from postal.iol.unh.edu (postal.iol.unh.edu. [2606:4100:3880:1234::84]) by smtp-relay.gmail.com with ESMTPS id 586e51a60fabf-3e8522779ddsm115556fac.16.2025.11.13.02.26.34 (version=TLS1_2 cipher=ECDHE-ECDSA-AES128-GCM-SHA256 bits=128/128); Thu, 13 Nov 2025 02:26:34 -0800 (PST) X-Relaying-Domain: iol.unh.edu Date: Thu, 13 Nov 2025 02:26:34 -0800 (PST) Message-ID: <6915b25a.050a0220.2f1759.5d9fSMTPIN_ADDED_MISSING@mx.google.com> Received: from [172.21.0.3] (unknown [172.18.0.240]) by postal.iol.unh.edu (Postfix) with ESMTP id AC47A6051830; Thu, 13 Nov 2025 05:26:33 -0500 (EST) Subject: |SUCCESS| pw158676 [PATCH] config/arm: update mcpu for Cobalt-100 So From: dpdklab@iol.unh.edu To: Test Report Cc: dpdk-test-reports@iol.unh.edu In-Reply-To: <20251111190639.3470596-1-doug.foster@arm.com> References: <20251111190639.3470596-1-doug.foster@arm.com> Content-Type: text/plain X-BeenThere: test-report@dpdk.org X-Mailman-Version: 2.1.29 Precedence: list List-Id: automatic DPDK test reports List-Unsubscribe: , List-Archive: List-Post: List-Help: List-Subscribe: , Errors-To: test-report-bounces@dpdk.org Test-Label: iol-unit-amd64-testing Test-Status: SUCCESS http://dpdk.org/patch/158676 _Testing PASS_ Submitter: Doug Foster Date: Tuesday, November 11 2025 19:06:38 DPDK git baseline: Repo:dpdk Branch: master CommitID:be0112878b4fc3a1b918370ed2fe615c52039d77 158676 --> testing pass Upstream job id: Generic-VM-Unit-Test-DPDK#32472 Test environment and result as below: +-------------------------------+----------------+ | Environment | dpdk_unit_test | +===============================+================+ | Fedora Linux 42 | PASS | +-------------------------------+----------------+ | CentOS Stream 10 | PASS | +-------------------------------+----------------+ | Ubuntu 24.04 | PASS | +-------------------------------+----------------+ | Fedora Linux 40 | PASS | +-------------------------------+----------------+ | Debian GNU/Linux 12 | PASS | +-------------------------------+----------------+ | Ubuntu 20.04 | PASS | +-------------------------------+----------------+ | Red Hat Enterprise Linux 9.5 | PASS | +-------------------------------+----------------+ | Ubuntu 22.04 | PASS | +-------------------------------+----------------+ | Fedora Linux 41 | PASS | +-------------------------------+----------------+ | Red Hat Enterprise Linux 8.10 | PASS | +-------------------------------+----------------+ | CentOS Stream 9 | PASS | +-------------------------------+----------------+ | Windows Server 2022 | PASS | +-------------------------------+----------------+ Fedora Linux 42 Kernel: 5.15 Compiler: gcc gcc (GCC) 15.2.1 20250808 (Red Hat 15.2.1-1) CentOS Stream 10 Kernel: 5.15 Compiler: gcc gcc (GCC) 14.2.1 20250110 (Red Hat 14.2.1-8) Ubuntu 24.04 Kernel: 5.15 Compiler: gcc gcc (Ubuntu 13.3.0-6ubuntu2~24.04) 13.3.0 Fedora Linux 40 Kernel: 5.15 Compiler: gcc gcc (GCC) 14.2.1 20240912 (Red Hat 14.2.1-3) Debian GNU/Linux 12 Kernel: 5.15 Compiler: gcc gcc (Debian 12.2.0-14+deb12u1) 12.2.0 Ubuntu 20.04 Kernel: 5.15 Compiler: gcc gcc (Ubuntu 9.4.0-1ubuntu1~20.04.2) 9.4.0 Red Hat Enterprise Linux 9.5 Kernel: 5.15 Compiler: gcc gcc (GCC) 11.5.0 20240719 (Red Hat 11.5.0-2) Ubuntu 22.04 Kernel: 5.15 Compiler: gcc gcc (Ubuntu 11.4.0-1ubuntu1~22.04) 11.4.0 Fedora Linux 41 Kernel: 5.15 Compiler: clang gcc (GCC) 14.3.1 20250523 (Red Hat 14.3.1-1) Red Hat Enterprise Linux 8.10 Kernel: 5.15 Compiler: gcc gcc (GCC) 8.5.0 20210514 (Red Hat 8.5.0-22) CentOS Stream 9 Kernel: 5.15 Compiler: gcc gcc (GCC) 11.5.0 20240719 (Red Hat 11.5.0-11) Windows Server 2022 Kernel: 10.0.20348.2031 Compiler: clang 15.0.7, gcc 14.1.0 (MinGW), and MSVC VS 19.39.33521 To view detailed results, visit: https://lab.dpdk.org/results/dashboard/patchsets/34540/ UNH-IOL DPDK Community Lab To manage your email subscriptions, visit: https://lab.dpdk.org/results/dashboard/preferences/subscriptions/