From mboxrd@z Thu Jan 1 00:00:00 1970 Return-Path: Received: from mails.dpdk.org (mails.dpdk.org [217.70.189.124]) by inbox.dpdk.org (Postfix) with ESMTP id 69A7248AF8 for ; Thu, 13 Nov 2025 11:27:03 +0100 (CET) Received: from mails.dpdk.org (localhost [127.0.0.1]) by mails.dpdk.org (Postfix) with ESMTP id 64CA140151; Thu, 13 Nov 2025 11:27:03 +0100 (CET) Received: from mail-pf1-f226.google.com (mail-pf1-f226.google.com [209.85.210.226]) by mails.dpdk.org (Postfix) with ESMTP id EBA7140151 for ; Thu, 13 Nov 2025 11:27:01 +0100 (CET) Received: by mail-pf1-f226.google.com with SMTP id d2e1a72fcca58-7b8d99ad095so615374b3a.0 for ; Thu, 13 Nov 2025 02:27:01 -0800 (PST) DKIM-Signature: v=1; a=rsa-sha256; c=relaxed/relaxed; d=iol.unh.edu; s=unh-iol; t=1763029621; x=1763634421; darn=dpdk.org; h=references:in-reply-to:cc:to:from:subject:message-id:date:from:to :cc:subject:date:message-id:reply-to; bh=hwgNlLux6EJIlnU9NFm1rhq2uFujZFC4bMtTAtYMo54=; b=cC+XfoyBeW9jw/cAFeCgrpdNAvSDhfIsyylfh4d+x0g8SxepnEPx5QHLQWppFvDqCh YRzsyMYXeN98Pv6DN5aooYKQpDYDMZFalfPGXUFViKigBZNTIw52VrGiIDnzUyVGz8ts 6t4NCErk21TdvKUfKq75f24ximAo5+ZteBTvE= X-Google-DKIM-Signature: v=1; a=rsa-sha256; c=relaxed/relaxed; d=1e100.net; s=20230601; t=1763029621; x=1763634421; h=references:in-reply-to:cc:to:from:subject:message-id:date:x-gm-gg :x-gm-message-state:from:to:cc:subject:date:message-id:reply-to; bh=hwgNlLux6EJIlnU9NFm1rhq2uFujZFC4bMtTAtYMo54=; b=f0mGzmTlOEDUJgCqGE1ch+3g6iA6ZOwyiylQrZ8VI/4r0p7K+Y/9WCAdtVRSe/yqzm +JHZTAu7zrqK4fI3ObDWLTsLINXDlsoByY7PHWlrWckvGnnR/lSTfNa6LK0LJNYSmMbV SQsm3/T6j4GCqpVuh8lVtU9LRMTM+crfwv2pn5C+wDWINvM0F4356hrJCfeyIk9+nLIU F5RovAOyNI/4udSKYwDizsMgdB/0XNTYLOTQ370oJKlX9k/E10Y1PtNV6jWHOA34ECn7 w3AzHDkYvUmXwuiYpM0fiTJK2NkeLZvr03mnt2OLjW30by+sqdJc2r+a++Nsg1u6ftrO QesQ== X-Gm-Message-State: AOJu0Yz8EzyrD8dgAQUxcAfH7B+FOmrQxGG6/UqCBgridQjx1zJxk2cU cSGuMto42WCrBqFrWg65b5Ll9jV+z6YRDvvO37zOsexcLkrKBmMQp7PgtGBKqNOtfFAKHsMloVk sYucS6pEfjBcuijIlm6xSCvIqqNcRZKJVQn86paKl/3iL X-Gm-Gg: ASbGncv8VYz5t8U6LG85SM4Zrr1WFdoMq+RAinHglSxEes3E+wF3kDyl4OLy0wHd0pT QaNLlsnDzKIP0u34XJBt8EWRXL6BwwjF0Hu0qGj1CnJF/1hnVxNjRlmzsD2laWq2Z1EnjGBWyRK xtAnYmFw2BxURlpm33dc6UYLr2/xhLCnOPH5Y4OaVvyv4MW5CI911r6zVmlScoouSxxAva/lHh5 YB0Mfk1hi51pVVaGh6GjVYa9aWUOLCZUFl1m3c3KhQa2eihnDWiPfwL+O04x4/EJLp3Wt71E18a chyvqr3gTLiR2edmRI04/hpv7LfAKTaW+YC+4Df9EQ8MDtIQurOOxgHEdB8oL4vQX5PEStHuoIV RByIYhNMDMLV2aYXbdunajLnAMtSWy1Q= X-Google-Smtp-Source: AGHT+IHNQXLF5MP3IUD4Gd91VxzWuLPSeehYBmFZw3gqwlhTh/hnh2n3YG/DKiqAftKUdc0luF1eDGiUkLsE X-Received: by 2002:a17:903:1a07:b0:295:28a4:f0c6 with SMTP id d9443c01a7336-2985a425afdmr28877395ad.0.1763029620962; Thu, 13 Nov 2025 02:27:00 -0800 (PST) Received: from postal.iol.unh.edu (postal.iol.unh.edu. [132.177.123.84]) by smtp-relay.gmail.com with ESMTPS id d9443c01a7336-2985c2c3f5dsm1818535ad.59.2025.11.13.02.27.00 (version=TLS1_2 cipher=ECDHE-ECDSA-AES128-GCM-SHA256 bits=128/128); Thu, 13 Nov 2025 02:27:00 -0800 (PST) X-Relaying-Domain: iol.unh.edu Date: Thu, 13 Nov 2025 02:27:00 -0800 (PST) Message-ID: <6915b274.170a0220.2ea11d.923fSMTPIN_ADDED_MISSING@mx.google.com> Received: from [172.21.0.3] (unknown [172.18.0.240]) by postal.iol.unh.edu (Postfix) with ESMTP id 743A76051830; Thu, 13 Nov 2025 05:27:00 -0500 (EST) Subject: |SUCCESS| pw158713-158715 [PATCH] [v7,3/3] dts: add performance test From: dpdklab@iol.unh.edu To: Test Report Cc: dpdk-test-reports@iol.unh.edu In-Reply-To: <20251113012732.1059669-4-probb@iol.unh.edu> References: <20251113012732.1059669-4-probb@iol.unh.edu> Content-Type: text/plain X-BeenThere: test-report@dpdk.org X-Mailman-Version: 2.1.29 Precedence: list List-Id: automatic DPDK test reports List-Unsubscribe: , List-Archive: List-Post: List-Help: List-Subscribe: , Errors-To: test-report-bounces@dpdk.org Test-Label: iol-compile-amd64-testing Test-Status: SUCCESS http://dpdk.org/patch/158715 _Testing PASS_ Submitter: Patrick Robb Date: Thursday, November 13 2025 01:27:32 DPDK git baseline: Repo:dpdk-next-dts Branch: master CommitID:8dcc93a520b22330e0ad59d360a4594b854f9ddd 158713-158715 --> testing pass Upstream job id: Generic-DPDK-Compile-Meson#443689 Test environment and result as below: +-------------------------------+--------------------+------------------+ | Environment | dpdk_meson_compile | dpdk_compile_ovs | +===============================+====================+==================+ | Ubuntu 20.04 | PASS | SKIPPED | +-------------------------------+--------------------+------------------+ | FreeBSD 14.2 | PASS | SKIPPED | +-------------------------------+--------------------+------------------+ | CentOS Stream 9 | PASS | SKIPPED | +-------------------------------+--------------------+------------------+ | CentOS Stream 10 | PASS | SKIPPED | +-------------------------------+--------------------+------------------+ | Debian GNU/Linux 12 | PASS | SKIPPED | +-------------------------------+--------------------+------------------+ | Fedora Linux 42 | PASS | PASS | +-------------------------------+--------------------+------------------+ | openSUSE Leap 15.6 | PASS | SKIPPED | +-------------------------------+--------------------+------------------+ | Red Hat Enterprise Linux 8.10 | PASS | SKIPPED | +-------------------------------+--------------------+------------------+ | Red Hat Enterprise Linux 9.5 | PASS | SKIPPED | +-------------------------------+--------------------+------------------+ | Ubuntu 22.04 | PASS | SKIPPED | +-------------------------------+--------------------+------------------+ | Ubuntu 24.04 | PASS | PASS | +-------------------------------+--------------------+------------------+ | Alpine Linux 3.22.0 | PASS | SKIPPED | +-------------------------------+--------------------+------------------+ Ubuntu 20.04 Kernel: 4.19 Compiler: gcc gcc (Ubuntu 9.4.0-1ubuntu1~20.04.2) 9.4.0 FreeBSD 14.2 Kernel: 14.2-RELEASE Compiler: clang 18.1.6 CentOS Stream 9 Kernel: 5.15 Compiler: gcc gcc (GCC) 11.5.0 20240719 (Red Hat 11.5.0-11) CentOS Stream 10 Kernel: 5.15 Compiler: gcc gcc (GCC) 14.2.1 20250110 (Red Hat 14.2.1-8) Debian GNU/Linux 12 Kernel: 5.15 Compiler: gcc gcc (Debian 12.2.0-14+deb12u1) 12.2.0 Fedora Linux 42 Kernel: 5.15 Compiler: clang gcc (GCC) 15.2.1 20250808 (Red Hat 15.2.1-1) openSUSE Leap 15.6 Kernel: 5.15 Compiler: gcc gcc (SUSE Linux) 7.5.0 Red Hat Enterprise Linux 8.10 Kernel: 5.15 Compiler: gcc gcc (GCC) 8.5.0 20210514 (Red Hat 8.5.0-22) Red Hat Enterprise Linux 9.5 Kernel: 5.15 Compiler: gcc gcc (GCC) 11.5.0 20240719 (Red Hat 11.5.0-2) Ubuntu 22.04 Kernel: 5.15 Compiler: gcc gcc (Ubuntu 11.4.0-1ubuntu1~22.04) 11.4.0 Ubuntu 24.04 Kernel: 5.15 Compiler: gcc gcc (Ubuntu 13.3.0-6ubuntu2~24.04) 13.3.0 Alpine Linux 3.22.0 Kernel: 5.15 Compiler: gcc gcc (Alpine 14.2.0) 14.2.0 To view detailed results, visit: https://lab.dpdk.org/results/dashboard/patchsets/34561/ UNH-IOL DPDK Community Lab To manage your email subscriptions, visit: https://lab.dpdk.org/results/dashboard/preferences/subscriptions/