From mboxrd@z Thu Jan 1 00:00:00 1970 Return-Path: Received: from mails.dpdk.org (mails.dpdk.org [217.70.189.124]) by inbox.dpdk.org (Postfix) with ESMTP id 0B65848AF8 for ; Thu, 13 Nov 2025 11:38:26 +0100 (CET) Received: from mails.dpdk.org (localhost [127.0.0.1]) by mails.dpdk.org (Postfix) with ESMTP id 0413A40151; Thu, 13 Nov 2025 11:38:26 +0100 (CET) Received: from mail-pg1-f228.google.com (mail-pg1-f228.google.com [209.85.215.228]) by mails.dpdk.org (Postfix) with ESMTP id A0BDC40151 for ; Thu, 13 Nov 2025 11:38:24 +0100 (CET) Received: by mail-pg1-f228.google.com with SMTP id 41be03b00d2f7-b99bfb451e5so428203a12.2 for ; Thu, 13 Nov 2025 02:38:24 -0800 (PST) DKIM-Signature: v=1; a=rsa-sha256; c=relaxed/relaxed; d=iol.unh.edu; s=unh-iol; t=1763030304; x=1763635104; darn=dpdk.org; h=cc:to:from:subject:message-id:date:from:to:cc:subject:date :message-id:reply-to; bh=cpQuHBw9J9qS+ZSgDBsrqGTZq3NplBM4TDk19LX1uNY=; b=hk+HVpHlFlyU6W3bmClqgEkaF6U+y+QHX+6t1lRfDd6eJeD65TqgboA/sjJWzI5KxC NgQ6n6fxl2sMXhXV/IwLLDyIcvuiTidnNNHssSjNF4LVTjCpz9SCy5vL8JZ1bt7M71ke 1ZPusFqgFKH9LEYYyUNKnTd9FrNWFLUjOGjMY= X-Google-DKIM-Signature: v=1; a=rsa-sha256; c=relaxed/relaxed; d=1e100.net; s=20230601; t=1763030304; x=1763635104; h=cc:to:from:subject:message-id:date:x-gm-gg:x-gm-message-state:from :to:cc:subject:date:message-id:reply-to; bh=cpQuHBw9J9qS+ZSgDBsrqGTZq3NplBM4TDk19LX1uNY=; b=YKtGsoKF01epuHz8N6HDZm57NpKBL8xQseLyRHlkWct4sGf8nvd3yDqkQfpr/bVUWW JgJEkLyJtvuK53aHWZOYxphDnfRGTekahSBdWSo2dXfqfpvj9btdee/esdftX9oCZ/oJ JOyRdS+hC/y4QZUmnFLz0GvPNeWhc5BogJlUIuEDgGy+FXFlZGM42+YLbdCF4yHVqNc5 KUcvP4XxR79UVykmn7Qq51puHr0TCQtdso6mxT8mkIttZo0AcJBNLNj5tbzz8aGK4Fjq PTMv56xlMkR2Dr4eNRFSxL1JB+LVSsy0PmVhZOAA0vEO1ua8v2kp5AJVl7kKhdxvhgwE mPcQ== X-Gm-Message-State: AOJu0Yzg/7EBdkhKDbL4MtY3Hvwlh5dkN6A9DvcMjq9NSBlk+edr3+Mi /VyrscB2oq9rW+niaxTQbU/JrZuS38J/JacBD23Kw55ovzTsq9ntwl3ScKj7G6gy/H+Hg6PkwHn KyzmZ8ZFWaXsB94o9wtlPfOer87VixAlE1FJO+3FDUIoegqN3FRf+lhDHkmb+ X-Gm-Gg: ASbGnctkGJslYDlSDwKd2q24ff4aSC7zZ7UZwvqLGdalpnFMROXHMomthSPZsc9wWMH 9vKsA1YVubsHja6Krwok364qQWnRtUvH6TTayKwb4pauYInCBzQiXz6hOuoGXYM7bwmFAVArcXl beStlgRbtYDWybRxO+ZIBY9qozqog+ipMsT8Z0kcAK25rkUvsX/cA+85kntDNMGZDNfPxUb5V01 pZEOjjk7CjV/YPIRobi7HX3utcV1BhJsl68pkWqCfjYMs303/9xTTbkhceniM0L2Lk4uYj4+nc6 tCyGGIEa0WjMk3EdH0zN85A/S/MD8q02QV3qE4XYQWwlEMTlyYyv/0emDI9x5+kuy/YSGxL8GoD Zphp5XjfV X-Google-Smtp-Source: AGHT+IEpYQaizQRuvhXSIxIV04w5jD8i4dD0dJjXrr4mDZqZ7ZGJ4IrzyDe3w+6XeqoPw9TbUedNqsTFgLlF X-Received: by 2002:a17:902:e788:b0:297:d4c4:4d99 with SMTP id d9443c01a7336-2984ed30d02mr78898865ad.6.1763030303728; Thu, 13 Nov 2025 02:38:23 -0800 (PST) Received: from postal.iol.unh.edu (postal.iol.unh.edu. [2606:4100:3880:1234::84]) by smtp-relay.gmail.com with ESMTPS id d9443c01a7336-2986181be8dsm515995ad.13.2025.11.13.02.38.23 (version=TLS1_2 cipher=ECDHE-ECDSA-AES128-GCM-SHA256 bits=128/128); Thu, 13 Nov 2025 02:38:23 -0800 (PST) X-Relaying-Domain: iol.unh.edu Date: Thu, 13 Nov 2025 02:38:23 -0800 (PST) Message-ID: <6915b51f.170a0220.d5672.2595SMTPIN_ADDED_MISSING@mx.google.com> Received: from [172.21.0.3] (unknown [172.18.0.240]) by postal.iol.unh.edu (Postfix) with ESMTP id 737326051830; Thu, 13 Nov 2025 05:38:22 -0500 (EST) Subject: |SUCCESS| [GIT MASTER] be0112878b4fc3a1b918370ed2fe615c52039d77 From: dpdklab@iol.unh.edu To: Test Report Cc: dpdk-test-reports@iol.unh.edu Content-Type: text/plain X-BeenThere: test-report@dpdk.org X-Mailman-Version: 2.1.29 Precedence: list List-Id: automatic DPDK test reports List-Unsubscribe: , List-Archive: List-Post: List-Help: List-Subscribe: , Errors-To: test-report-bounces@dpdk.org _Testing PASS_ Branch: dpdk be0112878b4fc3a1b918370ed2fe615c52039d77 --> testing pass Upstream job id: Windows-Compile-DPDK-VS#7508 Test environment and result as below: +-------------------------------+--------------------+------------------+-------------------+ | Environment | dpdk_meson_compile | dpdk_compile_ovs | dpdk_msvc_compile | +===============================+====================+==================+===================+ | Ubuntu 20.04 | PASS | SKIPPED | SKIPPED | +-------------------------------+--------------------+------------------+-------------------+ | FreeBSD 14.2 | PASS | SKIPPED | SKIPPED | +-------------------------------+--------------------+------------------+-------------------+ | CentOS Stream 9 | PASS | SKIPPED | SKIPPED | +-------------------------------+--------------------+------------------+-------------------+ | CentOS Stream 10 | PASS | SKIPPED | SKIPPED | +-------------------------------+--------------------+------------------+-------------------+ | Debian GNU/Linux 12 | PASS | SKIPPED | SKIPPED | +-------------------------------+--------------------+------------------+-------------------+ | Fedora Linux 42 | PASS | PASS | SKIPPED | +-------------------------------+--------------------+------------------+-------------------+ | openSUSE Leap 15.6 | PASS | SKIPPED | SKIPPED | +-------------------------------+--------------------+------------------+-------------------+ | Red Hat Enterprise Linux 8.10 | PASS | SKIPPED | SKIPPED | +-------------------------------+--------------------+------------------+-------------------+ | Red Hat Enterprise Linux 9.5 | PASS | SKIPPED | SKIPPED | +-------------------------------+--------------------+------------------+-------------------+ | Ubuntu 22.04 | PASS | SKIPPED | SKIPPED | +-------------------------------+--------------------+------------------+-------------------+ | Ubuntu 24.04 | PASS | PASS | SKIPPED | +-------------------------------+--------------------+------------------+-------------------+ | Alpine Linux 3.22.0 | PASS | SKIPPED | SKIPPED | +-------------------------------+--------------------+------------------+-------------------+ | Arch Linux 20250613.0.365270 | PASS | SKIPPED | SKIPPED | +-------------------------------+--------------------+------------------+-------------------+ | Windows Server 2022 | SKIPPED | SKIPPED | PASS | +-------------------------------+--------------------+------------------+-------------------+ Ubuntu 20.04 Kernel: 4.19 Compiler: gcc gcc (Ubuntu 9.4.0-1ubuntu1~20.04.2) 9.4.0 FreeBSD 14.2 Kernel: 14.2-RELEASE Compiler: clang 18.1.6 CentOS Stream 9 Kernel: 5.15 Compiler: gcc gcc (GCC) 11.5.0 20240719 (Red Hat 11.5.0-11) CentOS Stream 10 Kernel: 5.15 Compiler: gcc gcc (GCC) 14.2.1 20250110 (Red Hat 14.2.1-8) Debian GNU/Linux 12 Kernel: 5.15 Compiler: gcc gcc (Debian 12.2.0-14+deb12u1) 12.2.0 Fedora Linux 42 Kernel: 5.15 Compiler: clang gcc (GCC) 15.2.1 20250808 (Red Hat 15.2.1-1) openSUSE Leap 15.6 Kernel: 5.15 Compiler: gcc gcc (SUSE Linux) 7.5.0 Red Hat Enterprise Linux 8.10 Kernel: 5.15 Compiler: gcc gcc (GCC) 8.5.0 20210514 (Red Hat 8.5.0-22) Red Hat Enterprise Linux 9.5 Kernel: 5.15 Compiler: gcc gcc (GCC) 11.5.0 20240719 (Red Hat 11.5.0-2) Ubuntu 22.04 Kernel: 5.15 Compiler: gcc gcc (Ubuntu 11.4.0-1ubuntu1~22.04) 11.4.0 Ubuntu 24.04 Kernel: 5.15 Compiler: gcc gcc (Ubuntu 13.3.0-6ubuntu2~24.04) 13.3.0 Alpine Linux 3.22.0 Kernel: 5.15 Compiler: gcc gcc (Alpine 14.2.0) 14.2.0 Arch Linux 20250613.0.365270 Kernel: 5.15 Compiler: gcc gcc (GCC) 15.1.1 20250425 Windows Server 2022 Kernel: 10.0.20348.2031 Compiler: clang 15.0.7, gcc 14.1.0 (MinGW), and MSVC VS 19.39.33521 To view detailed results, visit: https://lab.dpdk.org/results/dashboard/tarballs/35547/ UNH-IOL DPDK Community Lab To manage your email subscriptions, visit: https://lab.dpdk.org/results/dashboard/preferences/subscriptions/