From mboxrd@z Thu Jan 1 00:00:00 1970 Return-Path: Received: from mails.dpdk.org (mails.dpdk.org [217.70.189.124]) by inbox.dpdk.org (Postfix) with ESMTP id 7D9F048AF8 for ; Thu, 13 Nov 2025 11:42:53 +0100 (CET) Received: from mails.dpdk.org (localhost [127.0.0.1]) by mails.dpdk.org (Postfix) with ESMTP id 773B540151; Thu, 13 Nov 2025 11:42:53 +0100 (CET) Received: from mail-pl1-f228.google.com (mail-pl1-f228.google.com [209.85.214.228]) by mails.dpdk.org (Postfix) with ESMTP id 5E7BF40151 for ; Thu, 13 Nov 2025 11:42:52 +0100 (CET) Received: by mail-pl1-f228.google.com with SMTP id d9443c01a7336-297e264528aso6204085ad.2 for ; Thu, 13 Nov 2025 02:42:52 -0800 (PST) DKIM-Signature: v=1; a=rsa-sha256; c=relaxed/relaxed; d=iol.unh.edu; s=unh-iol; t=1763030571; x=1763635371; darn=dpdk.org; h=references:in-reply-to:cc:to:from:subject:message-id:date:from:to :cc:subject:date:message-id:reply-to; bh=is2/L82gLec6cCFgyEqsMx+cmtdfrYnrr7n35Pv+GcA=; b=SuhJ1QGX85q3rIz70qgiH68gFBg4HyRSvqQRrTUSz9zEMOi0Ar6TIjyUze8/DE9o8W OzxHydLYEyEJFm2Smtu7XXoAJz+ilHICxcIYw2QTZpDCFWpcC2iuJt4JAQTps0xymhzf LFj7T7VHYvNj1E01EHLYRHP8ry9UyoNBIWOgU= X-Google-DKIM-Signature: v=1; a=rsa-sha256; c=relaxed/relaxed; d=1e100.net; s=20230601; t=1763030571; x=1763635371; h=references:in-reply-to:cc:to:from:subject:message-id:date:x-gm-gg :x-gm-message-state:from:to:cc:subject:date:message-id:reply-to; bh=is2/L82gLec6cCFgyEqsMx+cmtdfrYnrr7n35Pv+GcA=; b=R5PQrISVlZR6VyqbC+mn3S5uC+Hv427tmgoZkYdf60QQ7iVa6Cfj35Tiqy4/6qRs4l iYFxQ/08iFSeHhxrbxVli/1JzUcybjuAI5oLK1i5npansspg+rLd9xa84BoKKvVgkVh0 wNpuB86ueuQbelYsi9P3DOWSQ02xrdyK/sx0XjUE8QL/nPmqbno5/z5ELOv6nfE/ouq3 Ysw0FGpD8/j3w/fYTlOhJl4Sk+kJVg93uMYtD50rZz4pkcD29gMRnTyldLw/6+VJW8Tv dzyQLf4Cze5UwzAAJVdJRkBr18SPGteNr3i7nePLg14vObHdBvniOiZ0Vys6VjLiP616 yBmw== X-Gm-Message-State: AOJu0YyaDVIkGl+yOZByn3/3ILu/5oc6oHI028PFUcISD/lHv09X5yr3 dzcFTGap9xMhFqp/053Mb5s1WCqzBHrBQbEBH/enh/kYPQplJVnkDwKhWqMi/kZEdZ41VvLadQD G4IVrvS9ICYQXBRCwqDe6A0m7bEG5wqJn+eSvApVllQ5M X-Gm-Gg: ASbGnctRY7XQo1AkljSrC6Wrbvhi9tqwX6/EgmvCIm2tjRATPqAkjBXTDzDdDlxjUzX OBCsOM9xIwD93Tdax4emko+QNCkVsKHcIU6wwmI9a6hHkAzNIBIIsqQeJe0m8vLEO9+7Ulb/ITr zm03gVc1dAUtJrKR7Lw+7ltvaljD/jUVIY5wcWH504z7G/STZVOLRkTR/KDjT5q+bqmopnKDrVm iU9Mp8EHUhoqYecYYuj6PT/qSpu+FFKc3Tv6BvXb4eGICak/yyFRfprUC65MTGRVtgiimkqYHZR 6Q7UPttGbHDwIDZfyRk3GmloNZUgZMaOGc2GpF1df4U1k6iOQ9wURKpULyg8T3uCfUjzKFcnHvA RyeBDf+Oi1yf5OI20fyYjMnwEwha9Abk= X-Google-Smtp-Source: AGHT+IEtwSj+CG96MS4l9lziNuG5r36CDFNMUGJa4TpneKvzYHzjqXKrpV0ok27NNKd1pQAuqRhY29od3gDw X-Received: by 2002:a17:902:f645:b0:298:42ba:c422 with SMTP id d9443c01a7336-2984edc8dc0mr86254405ad.31.1763030571503; Thu, 13 Nov 2025 02:42:51 -0800 (PST) Received: from postal.iol.unh.edu (postal.iol.unh.edu. [132.177.123.84]) by smtp-relay.gmail.com with ESMTPS id d9443c01a7336-2985c2422a6sm1761765ad.25.2025.11.13.02.42.51 (version=TLS1_2 cipher=ECDHE-ECDSA-AES128-GCM-SHA256 bits=128/128); Thu, 13 Nov 2025 02:42:51 -0800 (PST) X-Relaying-Domain: iol.unh.edu Date: Thu, 13 Nov 2025 02:42:51 -0800 (PST) Message-ID: <6915b62b.170a0220.2917a7.90c7SMTPIN_ADDED_MISSING@mx.google.com> Received: from [172.21.0.3] (unknown [172.18.0.240]) by postal.iol.unh.edu (Postfix) with ESMTP id 9B06F6051830; Thu, 13 Nov 2025 05:42:50 -0500 (EST) Subject: |SUCCESS| pw158653 [PATCH] crypto/cnxk: add CPT CQ support for cn20k From: dpdklab@iol.unh.edu To: Test Report Cc: dpdk-test-reports@iol.unh.edu, Akhil Goyal In-Reply-To: <20251111111643.2279586-1-ktejasree@marvell.com> References: <20251111111643.2279586-1-ktejasree@marvell.com> Content-Type: text/plain X-BeenThere: test-report@dpdk.org X-Mailman-Version: 2.1.29 Precedence: list List-Id: automatic DPDK test reports List-Unsubscribe: , List-Archive: List-Post: List-Help: List-Subscribe: , Errors-To: test-report-bounces@dpdk.org Test-Label: iol-compile-amd64-testing Test-Status: SUCCESS http://dpdk.org/patch/158653 _Testing PASS_ Submitter: Tejasree Kondoj Date: Tuesday, November 11 2025 11:16:43 DPDK git baseline: Repo:dpdk-next-crypto Branch: master CommitID:8ae4f1d511226fd65a979e9f8a1e51835281a59b 158653 --> testing pass Upstream job id: Windows-Compile-DPDK-Native#32286 Test environment and result as below: +-------------------------------+--------------------+------------------+-------------------+-------------------------+ | Environment | dpdk_meson_compile | dpdk_compile_ovs | dpdk_msvc_compile | dpdk_llvm_clang_compile | +===============================+====================+==================+===================+=========================+ | FreeBSD 14.2 | PASS | SKIPPED | SKIPPED | SKIPPED | +-------------------------------+--------------------+------------------+-------------------+-------------------------+ | Ubuntu 20.04 | PASS | SKIPPED | SKIPPED | SKIPPED | +-------------------------------+--------------------+------------------+-------------------+-------------------------+ | CentOS Stream 9 | PASS | SKIPPED | SKIPPED | SKIPPED | +-------------------------------+--------------------+------------------+-------------------+-------------------------+ | Fedora Linux 42 | PASS | PASS | SKIPPED | SKIPPED | +-------------------------------+--------------------+------------------+-------------------+-------------------------+ | Debian GNU/Linux 12 | PASS | SKIPPED | SKIPPED | SKIPPED | +-------------------------------+--------------------+------------------+-------------------+-------------------------+ | openSUSE Leap 15.6 | PASS | SKIPPED | SKIPPED | SKIPPED | +-------------------------------+--------------------+------------------+-------------------+-------------------------+ | Red Hat Enterprise Linux 8.10 | PASS | SKIPPED | SKIPPED | SKIPPED | +-------------------------------+--------------------+------------------+-------------------+-------------------------+ | Red Hat Enterprise Linux 9.5 | PASS | SKIPPED | SKIPPED | SKIPPED | +-------------------------------+--------------------+------------------+-------------------+-------------------------+ | CentOS Stream 10 | PASS | SKIPPED | SKIPPED | SKIPPED | +-------------------------------+--------------------+------------------+-------------------+-------------------------+ | Ubuntu 22.04 | PASS | SKIPPED | SKIPPED | SKIPPED | +-------------------------------+--------------------+------------------+-------------------+-------------------------+ | Ubuntu 24.04 | PASS | PASS | SKIPPED | SKIPPED | +-------------------------------+--------------------+------------------+-------------------+-------------------------+ | Alpine Linux 3.22.0 | PASS | SKIPPED | SKIPPED | SKIPPED | +-------------------------------+--------------------+------------------+-------------------+-------------------------+ | Windows Server 2022 | SKIPPED | SKIPPED | PASS | PASS | +-------------------------------+--------------------+------------------+-------------------+-------------------------+ FreeBSD 14.2 Kernel: 14.2-RELEASE Compiler: clang 18.1.6 Ubuntu 20.04 Kernel: 4.19 Compiler: gcc gcc (Ubuntu 9.4.0-1ubuntu1~20.04.2) 9.4.0 CentOS Stream 9 Kernel: 5.15 Compiler: gcc gcc (GCC) 11.5.0 20240719 (Red Hat 11.5.0-11) Fedora Linux 42 Kernel: 5.15 Compiler: gcc gcc (GCC) 15.2.1 20250808 (Red Hat 15.2.1-1) Debian GNU/Linux 12 Kernel: 5.15 Compiler: gcc gcc (Debian 12.2.0-14+deb12u1) 12.2.0 openSUSE Leap 15.6 Kernel: 5.15 Compiler: gcc gcc (SUSE Linux) 7.5.0 Red Hat Enterprise Linux 8.10 Kernel: 5.15 Compiler: gcc gcc (GCC) 8.5.0 20210514 (Red Hat 8.5.0-22) Red Hat Enterprise Linux 9.5 Kernel: 5.15 Compiler: gcc gcc (GCC) 11.5.0 20240719 (Red Hat 11.5.0-2) CentOS Stream 10 Kernel: 5.15 Compiler: gcc gcc (GCC) 14.2.1 20250110 (Red Hat 14.2.1-8) Ubuntu 22.04 Kernel: 5.15 Compiler: gcc gcc (Ubuntu 11.4.0-1ubuntu1~22.04) 11.4.0 Ubuntu 24.04 Kernel: 5.15 Compiler: gcc gcc (Ubuntu 13.3.0-6ubuntu2~24.04) 13.3.0 Alpine Linux 3.22.0 Kernel: 5.15 Compiler: gcc gcc (Alpine 14.2.0) 14.2.0 Windows Server 2022 Kernel: 10.0.20348.2031 Compiler: clang 15.0.7, gcc 14.1.0 (MinGW), and MSVC VS 19.39.33521 To view detailed results, visit: https://lab.dpdk.org/results/dashboard/patchsets/34532/ UNH-IOL DPDK Community Lab To manage your email subscriptions, visit: https://lab.dpdk.org/results/dashboard/preferences/subscriptions/