From mboxrd@z Thu Jan 1 00:00:00 1970 Return-Path: Received: from mails.dpdk.org (mails.dpdk.org [217.70.189.124]) by inbox.dpdk.org (Postfix) with ESMTP id 54BF948AF8 for ; Thu, 13 Nov 2025 11:54:07 +0100 (CET) Received: from mails.dpdk.org (localhost [127.0.0.1]) by mails.dpdk.org (Postfix) with ESMTP id 4E56B40151; Thu, 13 Nov 2025 11:54:07 +0100 (CET) Received: from mail-qv1-f99.google.com (mail-qv1-f99.google.com [209.85.219.99]) by mails.dpdk.org (Postfix) with ESMTP id D4C8F40151 for ; Thu, 13 Nov 2025 11:54:06 +0100 (CET) Received: by mail-qv1-f99.google.com with SMTP id 6a1803df08f44-88059c28da1so6589326d6.2 for ; Thu, 13 Nov 2025 02:54:06 -0800 (PST) DKIM-Signature: v=1; a=rsa-sha256; c=relaxed/relaxed; d=iol.unh.edu; s=unh-iol; t=1763031246; x=1763636046; darn=dpdk.org; h=references:in-reply-to:cc:to:from:subject:message-id:date:from:to :cc:subject:date:message-id:reply-to; bh=rAoWX+GaTAw5DVfnWhpZQCbgv4OrVVO09tpPdebahY8=; b=b2WBv/tJI0+VyEG5hiytpnCgPIS46kGsjCzIEP4ACLU/tdLEqXNTKzvPjjMc94nEs6 BkWT4hsR/hgQx15+JMIGS6jfTynVN7LtrNEQ+I0YRRu2qqPlw2UsRWz99SLn1ctoP+Pl 4DzaEzmCmnH+JmHFQVtXPw18xaOXs4MAOpI2s= X-Google-DKIM-Signature: v=1; a=rsa-sha256; c=relaxed/relaxed; d=1e100.net; s=20230601; t=1763031246; x=1763636046; h=references:in-reply-to:cc:to:from:subject:message-id:date:x-gm-gg :x-gm-message-state:from:to:cc:subject:date:message-id:reply-to; bh=rAoWX+GaTAw5DVfnWhpZQCbgv4OrVVO09tpPdebahY8=; b=ZFVUv1ZN7JTX+fdsR/ZbDE5NXMpPaPLdGhXCnb0jFHrRODYT32BiycuthSK+ovG8i8 bY/HtSS46NGMlpwIrn9Z4gMTJhCr81zRXFb5JVt7DtBCLqM1Bd+2xbFYI4cPosIZAGlc Xr8DFEmHwQ1Vqy6nBhWHIsydX1ahcKONRBD27zoOR6LgIw6J2zrGkgnrCP36iUOb+0EY tFuXzPV8ZLAaTQP7iMsD0su9xtktSyGquCBrLozYsaeuGdsbVqUtyIFHz45jzUeBRZVL EDETpslmhz51pRyuqvcu2HmSbzMXA4MXL3AZgIbiMf8pXizLDGrbRD/MxBGseHRMWO3U x1Kg== X-Gm-Message-State: AOJu0YyRLtmfNEnWOrxGDHq13kGGsEX3M9uXeMPAn/C5WDWjQbpv1Kmq ccJuvOLL5Trve/lYDCFjih6M7rJMuZFafweKnnICz6Cae6RJSdOGb32Lw/Hf75PXSQwytSJ11U/ 1e2zpC9TdBxE63eIUrsRCujGl9JmeWU69gABou+ctxRzYNXCG6WoA5zRp7rjw X-Gm-Gg: ASbGncsYIxqwkXd5f9ujBao0ObTWppYHmtcnDtBzHD2EbFd7v2fCO7aaMQxUw5oEN20 Rvs/Oln3VC+Mh/swkDgINvCSLAteVM7QDKdEJ/EzzGOG7LP4fNoHkRZRjIeu+xsG7sTu3GE4X2h k7F/7+ezs1H43PkAee+1n/bw3IA9bDvmHn1e5Fk85+ybNP/04gkU/vclGoi50Nsj6xj28hulczz 5d/ZGCP8K8FLdhkkzkYUunFzZ+aB/mDSACupKvPpaIliprxSHE2qrTpSdzopuwFEu7RJYhGTpYF Nb1LY4H8o7Q1fd/g1S9n54iE4By7JCm//JKhBCBDHBV2FOHsYPxtW1ec8zukaDwZuRmZ5Kg3JdF qix/OtMeN X-Google-Smtp-Source: AGHT+IHLEDzM57gnNWQy21NKdNqURx6lCXKpp6SaaR3JWMCQzDimG9i0hGx+PqPdTkgM2vyE5J5de+VPDVGt X-Received: by 2002:ad4:5ba2:0:b0:87e:32:8f16 with SMTP id 6a1803df08f44-88271a21fb2mr93654826d6.52.1763031243320; Thu, 13 Nov 2025 02:54:03 -0800 (PST) Received: from postal.iol.unh.edu (postal.iol.unh.edu. [2606:4100:3880:1234::84]) by smtp-relay.gmail.com with ESMTPS id 6a1803df08f44-882865b63absm1772806d6.32.2025.11.13.02.54.03 (version=TLS1_2 cipher=ECDHE-ECDSA-AES128-GCM-SHA256 bits=128/128); Thu, 13 Nov 2025 02:54:03 -0800 (PST) X-Relaying-Domain: iol.unh.edu Date: Thu, 13 Nov 2025 02:54:03 -0800 (PST) Message-ID: <6915b8cb.050a0220.1d05ea.8b99SMTPIN_ADDED_MISSING@mx.google.com> Received: from [172.21.0.3] (unknown [172.18.0.240]) by postal.iol.unh.edu (Postfix) with ESMTP id DF5F06051830; Thu, 13 Nov 2025 05:54:02 -0500 (EST) Subject: |SUCCESS| pw158716-158738 [PATCH] [v5,23/23] net/cnxk: check for inv From: dpdklab@iol.unh.edu To: Test Report Cc: dpdk-test-reports@iol.unh.edu In-Reply-To: <20251113043808.1180851-23-ndabilpuram@marvell.com> References: <20251113043808.1180851-23-ndabilpuram@marvell.com> Content-Type: text/plain X-BeenThere: test-report@dpdk.org X-Mailman-Version: 2.1.29 Precedence: list List-Id: automatic DPDK test reports List-Unsubscribe: , List-Archive: List-Post: List-Help: List-Subscribe: , Errors-To: test-report-bounces@dpdk.org Test-Label: iol-compile-amd64-testing Test-Status: SUCCESS http://dpdk.org/patch/158738 _Testing PASS_ Submitter: Nithin Dabilpuram Date: Thursday, November 13 2025 04:38:08 DPDK git baseline: Repo:dpdk-next-net-mrvl Branch: master CommitID:be0112878b4fc3a1b918370ed2fe615c52039d77 158716-158738 --> testing pass Upstream job id: Generic-DPDK-Compile-Meson#443738 Test environment and result as below: +-------------------------------+--------------------+------------------+ | Environment | dpdk_meson_compile | dpdk_compile_ovs | +===============================+====================+==================+ | Ubuntu 20.04 | PASS | SKIPPED | +-------------------------------+--------------------+------------------+ | FreeBSD 14.2 | PASS | SKIPPED | +-------------------------------+--------------------+------------------+ | CentOS Stream 9 | PASS | SKIPPED | +-------------------------------+--------------------+------------------+ | CentOS Stream 10 | PASS | SKIPPED | +-------------------------------+--------------------+------------------+ | Debian GNU/Linux 12 | PASS | SKIPPED | +-------------------------------+--------------------+------------------+ | Fedora Linux 42 | PASS | PASS | +-------------------------------+--------------------+------------------+ | openSUSE Leap 15.6 | PASS | SKIPPED | +-------------------------------+--------------------+------------------+ | Red Hat Enterprise Linux 8.10 | PASS | SKIPPED | +-------------------------------+--------------------+------------------+ | Red Hat Enterprise Linux 9.5 | PASS | SKIPPED | +-------------------------------+--------------------+------------------+ | Ubuntu 22.04 | PASS | SKIPPED | +-------------------------------+--------------------+------------------+ | Ubuntu 24.04 | PASS | PASS | +-------------------------------+--------------------+------------------+ | Alpine Linux 3.22.0 | PASS | SKIPPED | +-------------------------------+--------------------+------------------+ Ubuntu 20.04 Kernel: 4.19 Compiler: gcc gcc (Ubuntu 9.4.0-1ubuntu1~20.04.2) 9.4.0 FreeBSD 14.2 Kernel: 14.2-RELEASE Compiler: clang 18.1.6 CentOS Stream 9 Kernel: 5.15 Compiler: gcc gcc (GCC) 11.5.0 20240719 (Red Hat 11.5.0-11) CentOS Stream 10 Kernel: 5.15 Compiler: gcc gcc (GCC) 14.2.1 20250110 (Red Hat 14.2.1-8) Debian GNU/Linux 12 Kernel: 5.15 Compiler: gcc gcc (Debian 12.2.0-14+deb12u1) 12.2.0 Fedora Linux 42 Kernel: 5.15 Compiler: clang gcc (GCC) 15.2.1 20250808 (Red Hat 15.2.1-1) openSUSE Leap 15.6 Kernel: 5.15 Compiler: gcc gcc (SUSE Linux) 7.5.0 Red Hat Enterprise Linux 8.10 Kernel: 5.15 Compiler: gcc gcc (GCC) 8.5.0 20210514 (Red Hat 8.5.0-22) Red Hat Enterprise Linux 9.5 Kernel: 5.15 Compiler: gcc gcc (GCC) 11.5.0 20240719 (Red Hat 11.5.0-2) Ubuntu 22.04 Kernel: 5.15 Compiler: gcc gcc (Ubuntu 11.4.0-1ubuntu1~22.04) 11.4.0 Ubuntu 24.04 Kernel: 5.15 Compiler: gcc gcc (Ubuntu 13.3.0-6ubuntu2~24.04) 13.3.0 Alpine Linux 3.22.0 Kernel: 5.15 Compiler: gcc gcc (Alpine 14.2.0) 14.2.0 To view detailed results, visit: https://lab.dpdk.org/results/dashboard/patchsets/34562/ UNH-IOL DPDK Community Lab To manage your email subscriptions, visit: https://lab.dpdk.org/results/dashboard/preferences/subscriptions/