From mboxrd@z Thu Jan 1 00:00:00 1970 Return-Path: Received: from mails.dpdk.org (mails.dpdk.org [217.70.189.124]) by inbox.dpdk.org (Postfix) with ESMTP id BF12948AF9 for ; Thu, 13 Nov 2025 12:20:22 +0100 (CET) Received: from mails.dpdk.org (localhost [127.0.0.1]) by mails.dpdk.org (Postfix) with ESMTP id B944440151; Thu, 13 Nov 2025 12:20:22 +0100 (CET) Received: from mail-il1-f227.google.com (mail-il1-f227.google.com [209.85.166.227]) by mails.dpdk.org (Postfix) with ESMTP id 1133140151 for ; Thu, 13 Nov 2025 12:20:21 +0100 (CET) Received: by mail-il1-f227.google.com with SMTP id e9e14a558f8ab-4337076ae3fso3606855ab.1 for ; Thu, 13 Nov 2025 03:20:21 -0800 (PST) DKIM-Signature: v=1; a=rsa-sha256; c=relaxed/relaxed; d=iol.unh.edu; s=unh-iol; t=1763032820; x=1763637620; darn=dpdk.org; h=references:in-reply-to:cc:to:from:subject:message-id:date:from:to :cc:subject:date:message-id:reply-to; bh=cSC4N64D/UIsJE4L7HO71RZAmkXqz7U6J5+Bs8DERYU=; b=RPW1/3uCEeh4630FKoJ4nowYnZHxG1CITuxbjgea7CdknH4dnuGfnGpV72tQO10jpC IvjKGEyjdrsLx+wJK1EAGF8P/f9aK8sCbCCUJiE8z43S50FIKIVh6PKkBH2jrmVOjSRP x2Ln9Zs6b6Llw2LloQjOzBrdgoGiZohbVj0zc= X-Google-DKIM-Signature: v=1; a=rsa-sha256; c=relaxed/relaxed; d=1e100.net; s=20230601; t=1763032820; x=1763637620; h=references:in-reply-to:cc:to:from:subject:message-id:date:x-gm-gg :x-gm-message-state:from:to:cc:subject:date:message-id:reply-to; bh=cSC4N64D/UIsJE4L7HO71RZAmkXqz7U6J5+Bs8DERYU=; b=TuHy3BwTpeOlDuYOhLFkhyfHjI66ckSnDcl2J9QWIY0az8yBfuzvQoNrXlBgEtWSQl BdHbPPkzx4sYEgk+7hibrWeU/0uyWSeQpCZw7g+7XKFoU6TqvJpLv4835GIOExo1SpLD l3m5dWcccyhkcvkhhfQSThqS1vjDI7UX6VPuYoGMQTZUxVq/0up4aeFVH6j3vw6onmYf UJZF1m33W9p1IkRsPCPPFoRgj5iIB53d/7Sgz/bQ+yAhmGMNCFdfoWVwLApMtY5Uws9/ 8FsmShZH/oFgk3vGMui8p5DCvzkITokwvjgaY1x9+Mj3aUUHwhC4hgY9z2zCa75+olSG CxdQ== X-Gm-Message-State: AOJu0YxvEHgx/3Z28cOxVlhu79cMeHGm3duDOLggGT2ONfAN74L4wIuP VmIuiYETLK20soLaLfr/QYIRzlPIHhorlfbJunCe9a7DLUnGLtIMAIwKZoiD1QDS28/nUaY57D9 17dKXYUUXE8z8EvT5ykplHjib79ZXM+t711x6MzwHAk9U+pwMRXdfdLZCF9Cj X-Gm-Gg: ASbGnctUJCMtoLQfqOWvbtU0PAKckC/njBEOwcLiAs4FexnOTJUL5v/2/U/ZvpbrSq5 zJ8CF4mBSdFuS7IW9vgjEaamx8Hp2RMGJgT+mkh+Sky0Kc5FSAkXVYTHd3K/6xE2ap5fsgMGYfr woC1vAO3yEEG2pnZpVWT4vAA3s2+0BFfsjpkeqCqy/iTRexqB2Ow0udSWKcb9A7IlRrMzulqhV4 Tu+5bksbAyZbF/vScVVcNRHr12MN1l6dJkuEFcqJ5uiNPKDXOBHcp894pRJYh0vIJWNOZXfzV28 zmGiEM7uUIVsaYsNZcce+mlZyXZ7whDBZ5RfY1srsfgQdFSkpfPXw1BB2IHPjheRRI3KrSn6eR+ paVKF5Rq5 X-Google-Smtp-Source: AGHT+IFqHP1nITk6SvlxomIxzXHiM/W8wRU385+kbfSOeUPImJkqBn5MMkiBHkKJ+0wzWx1dlMLmWyAPR5wP X-Received: by 2002:a05:6e02:2508:b0:434:6ef2:a433 with SMTP id e9e14a558f8ab-43473d3cc98mr73732735ab.5.1763032820313; Thu, 13 Nov 2025 03:20:20 -0800 (PST) Received: from postal.iol.unh.edu (postal.iol.unh.edu. [2606:4100:3880:1234::84]) by smtp-relay.gmail.com with ESMTPS id e9e14a558f8ab-43483992476sm1144665ab.17.2025.11.13.03.20.20 (version=TLS1_2 cipher=ECDHE-ECDSA-AES128-GCM-SHA256 bits=128/128); Thu, 13 Nov 2025 03:20:20 -0800 (PST) X-Relaying-Domain: iol.unh.edu Date: Thu, 13 Nov 2025 03:20:20 -0800 (PST) Message-ID: <6915bef4.920a0220.33f9e8.57afSMTPIN_ADDED_MISSING@mx.google.com> Received: from [172.21.0.3] (unknown [172.18.0.240]) by postal.iol.unh.edu (Postfix) with ESMTP id D93E36051830; Thu, 13 Nov 2025 06:20:19 -0500 (EST) Subject: |SUCCESS| pw158653 [PATCH] crypto/cnxk: add CPT CQ support for cn20k From: dpdklab@iol.unh.edu To: Test Report Cc: dpdk-test-reports@iol.unh.edu, Akhil Goyal In-Reply-To: <20251111111643.2279586-1-ktejasree@marvell.com> References: <20251111111643.2279586-1-ktejasree@marvell.com> Content-Type: text/plain X-BeenThere: test-report@dpdk.org X-Mailman-Version: 2.1.29 Precedence: list List-Id: automatic DPDK test reports List-Unsubscribe: , List-Archive: List-Post: List-Help: List-Subscribe: , Errors-To: test-report-bounces@dpdk.org Test-Label: iol-compile-amd64-testing Test-Status: SUCCESS http://dpdk.org/patch/158653 _Testing PASS_ Submitter: Tejasree Kondoj Date: Tuesday, November 11 2025 11:16:43 DPDK git baseline: Repo:dpdk-next-crypto Branch: master CommitID:8ae4f1d511226fd65a979e9f8a1e51835281a59b 158653 --> testing pass Upstream job id: Windows-Compile-DPDK-Native#32287 Test environment and result as below: +-------------------------------+--------------------+------------------+-------------------+-------------------------+----------------------+ | Environment | dpdk_meson_compile | dpdk_compile_ovs | dpdk_msvc_compile | dpdk_llvm_clang_compile | dpdk_mingw64_compile | +===============================+====================+==================+===================+=========================+======================+ | FreeBSD 14.2 | PASS | SKIPPED | SKIPPED | SKIPPED | SKIPPED | +-------------------------------+--------------------+------------------+-------------------+-------------------------+----------------------+ | Ubuntu 20.04 | PASS | SKIPPED | SKIPPED | SKIPPED | SKIPPED | +-------------------------------+--------------------+------------------+-------------------+-------------------------+----------------------+ | CentOS Stream 9 | PASS | SKIPPED | SKIPPED | SKIPPED | SKIPPED | +-------------------------------+--------------------+------------------+-------------------+-------------------------+----------------------+ | Fedora Linux 42 | PASS | PASS | SKIPPED | SKIPPED | SKIPPED | +-------------------------------+--------------------+------------------+-------------------+-------------------------+----------------------+ | Debian GNU/Linux 12 | PASS | SKIPPED | SKIPPED | SKIPPED | SKIPPED | +-------------------------------+--------------------+------------------+-------------------+-------------------------+----------------------+ | openSUSE Leap 15.6 | PASS | SKIPPED | SKIPPED | SKIPPED | SKIPPED | +-------------------------------+--------------------+------------------+-------------------+-------------------------+----------------------+ | Red Hat Enterprise Linux 8.10 | PASS | SKIPPED | SKIPPED | SKIPPED | SKIPPED | +-------------------------------+--------------------+------------------+-------------------+-------------------------+----------------------+ | Red Hat Enterprise Linux 9.5 | PASS | SKIPPED | SKIPPED | SKIPPED | SKIPPED | +-------------------------------+--------------------+------------------+-------------------+-------------------------+----------------------+ | CentOS Stream 10 | PASS | SKIPPED | SKIPPED | SKIPPED | SKIPPED | +-------------------------------+--------------------+------------------+-------------------+-------------------------+----------------------+ | Ubuntu 22.04 | PASS | SKIPPED | SKIPPED | SKIPPED | SKIPPED | +-------------------------------+--------------------+------------------+-------------------+-------------------------+----------------------+ | Ubuntu 24.04 | PASS | PASS | SKIPPED | SKIPPED | SKIPPED | +-------------------------------+--------------------+------------------+-------------------+-------------------------+----------------------+ | Alpine Linux 3.22.0 | PASS | SKIPPED | SKIPPED | SKIPPED | SKIPPED | +-------------------------------+--------------------+------------------+-------------------+-------------------------+----------------------+ | Windows Server 2022 | SKIPPED | SKIPPED | PASS | PASS | PASS | +-------------------------------+--------------------+------------------+-------------------+-------------------------+----------------------+ FreeBSD 14.2 Kernel: 14.2-RELEASE Compiler: clang 18.1.6 Ubuntu 20.04 Kernel: 4.19 Compiler: gcc gcc (Ubuntu 9.4.0-1ubuntu1~20.04.2) 9.4.0 CentOS Stream 9 Kernel: 5.15 Compiler: gcc gcc (GCC) 11.5.0 20240719 (Red Hat 11.5.0-11) Fedora Linux 42 Kernel: 5.15 Compiler: gcc gcc (GCC) 15.2.1 20250808 (Red Hat 15.2.1-1) Debian GNU/Linux 12 Kernel: 5.15 Compiler: gcc gcc (Debian 12.2.0-14+deb12u1) 12.2.0 openSUSE Leap 15.6 Kernel: 5.15 Compiler: gcc gcc (SUSE Linux) 7.5.0 Red Hat Enterprise Linux 8.10 Kernel: 5.15 Compiler: gcc gcc (GCC) 8.5.0 20210514 (Red Hat 8.5.0-22) Red Hat Enterprise Linux 9.5 Kernel: 5.15 Compiler: gcc gcc (GCC) 11.5.0 20240719 (Red Hat 11.5.0-2) CentOS Stream 10 Kernel: 5.15 Compiler: gcc gcc (GCC) 14.2.1 20250110 (Red Hat 14.2.1-8) Ubuntu 22.04 Kernel: 5.15 Compiler: gcc gcc (Ubuntu 11.4.0-1ubuntu1~22.04) 11.4.0 Ubuntu 24.04 Kernel: 5.15 Compiler: gcc gcc (Ubuntu 13.3.0-6ubuntu2~24.04) 13.3.0 Alpine Linux 3.22.0 Kernel: 5.15 Compiler: gcc gcc (Alpine 14.2.0) 14.2.0 Windows Server 2022 Kernel: 10.0.20348.2031 Compiler: clang 15.0.7, gcc 14.1.0 (MinGW), and MSVC VS 19.39.33521 To view detailed results, visit: https://lab.dpdk.org/results/dashboard/patchsets/34532/ UNH-IOL DPDK Community Lab To manage your email subscriptions, visit: https://lab.dpdk.org/results/dashboard/preferences/subscriptions/