From mboxrd@z Thu Jan 1 00:00:00 1970 Return-Path: Received: from mails.dpdk.org (mails.dpdk.org [217.70.189.124]) by inbox.dpdk.org (Postfix) with ESMTP id 4610548AF9 for ; Thu, 13 Nov 2025 12:23:46 +0100 (CET) Received: from mails.dpdk.org (localhost [127.0.0.1]) by mails.dpdk.org (Postfix) with ESMTP id 414B240151; Thu, 13 Nov 2025 12:23:46 +0100 (CET) Received: from mail-pf1-f228.google.com (mail-pf1-f228.google.com [209.85.210.228]) by mails.dpdk.org (Postfix) with ESMTP id 6EB9240151 for ; Thu, 13 Nov 2025 12:23:45 +0100 (CET) Received: by mail-pf1-f228.google.com with SMTP id d2e1a72fcca58-7a9c64dfa8aso601109b3a.3 for ; Thu, 13 Nov 2025 03:23:45 -0800 (PST) DKIM-Signature: v=1; a=rsa-sha256; c=relaxed/relaxed; d=iol.unh.edu; s=unh-iol; t=1763033024; x=1763637824; darn=dpdk.org; h=cc:to:from:subject:message-id:date:from:to:cc:subject:date :message-id:reply-to; bh=hLDS2aBZ4JVPyiPFLY3OUkdGRuJiucyrOepdyNYbuQc=; b=gbwPbVq4BCQIFga7f5aME0pqUrfeGuIbkfuumkwOVcU6oNmU/A1uedYDZIYTBnvv0V f/eskoKf+OYMiFediNojElSc+KZej7n3WW/ySRZdVfQY8VDegdhQLpUO1Jhv4gOF1lE/ 4XIi4H4kobOVb3WdGZANu23Mi+lSvedHE3SSA= X-Google-DKIM-Signature: v=1; a=rsa-sha256; c=relaxed/relaxed; d=1e100.net; s=20230601; t=1763033024; x=1763637824; h=cc:to:from:subject:message-id:date:x-gm-gg:x-gm-message-state:from :to:cc:subject:date:message-id:reply-to; bh=hLDS2aBZ4JVPyiPFLY3OUkdGRuJiucyrOepdyNYbuQc=; b=ZNiBkj/x/nK/eWSt8mpZKx7We6l/ITtdqhVLypFwl7nPgNMAy/14BXfDmIq8io2dkO 0sl3FQQL168ckZV7WDsoItf+Z5xRuMXC7FvQW4VuqMqeLypiHaLBSj42GclVXyxpn3rr HdjJFJUFc8Ue9JVgwjWg3WxDHoByqgHINmJGJeymwhsg+mRfbUwXQrWE0O9zgzj8kf2R c64VsJFULe0dFgfy5OYqyKe1peAnZe0GeFsveYWrVRqoLwTcZ/r9zjZMY8J7voZY64Y1 Z2Rw9ULNM+4fOVnF6ViP8tydQOKkQxPik4svYif2YDsSNuQ8YkFRx5qrn5IqYBL2eOc9 WA3Q== X-Gm-Message-State: AOJu0YwGrN/Syao/bJUqeadso37omcZ1sUC3ueKVgD4je6c9ZckeaCDM 1gLCHL9Hoi1JFdTSpX1jmoEzaUwVGwZye+CKF4roPmF2V3cQIto3Amy4z4wrZrX6BjF+hWLUG3V TreDJFMr9j+mJQyrROrU/doqW+aj9sowqtIi5/O6DASYRaYHiQLdIBqs3HVOx X-Gm-Gg: ASbGnct6ayi+IAhFsN7V94nfqiDgPcnis8MlOlwstEQaBrmA/cgxVLF129snQv2JGIz UFXaty3EVOEZDC8kbvMqcvdbsvkhrqADeLqQXNSCOTyKalcyEvt0eJn4BAVxNPCvGEnGgItItzc F5jsKfo3vJeCBiDREPOto62a8riRx5nCVa4iMPewwO+gXu0AkSTgSg+YKwU1otkqcY6Oecgi2aq HJQPYnhYeAxyZ0w/DpThopIvVngU5glPO9E1Vt0yfYFnMNzMnYk8luXu2V7Ez9v4hwQTHsJ2u2E pBGOunXKyE8TeMlc7T3Rx/Cgt/XwCwmJ1sZIGdWsNt+qnOUs4wMbfu2krc3UJb/Bpr8fnEaFNzP dre0/mYCS X-Google-Smtp-Source: AGHT+IHrCzOFtvlr2WRNRSgA8DBOqSwY8qO6JUQihDVZlaXV+SuYoTqapLizAjgYncb52ss2y/Ed1HsxpuFQ X-Received: by 2002:a17:902:ce10:b0:298:3a2f:2333 with SMTP id d9443c01a7336-2984ede9f70mr83839695ad.31.1763033024504; Thu, 13 Nov 2025 03:23:44 -0800 (PST) Received: from postal.iol.unh.edu (postal.iol.unh.edu. [2606:4100:3880:1234::84]) by smtp-relay.gmail.com with ESMTPS id d9443c01a7336-298629cf1d3sm386965ad.49.2025.11.13.03.23.44 (version=TLS1_2 cipher=ECDHE-ECDSA-AES128-GCM-SHA256 bits=128/128); Thu, 13 Nov 2025 03:23:44 -0800 (PST) X-Relaying-Domain: iol.unh.edu Date: Thu, 13 Nov 2025 03:23:44 -0800 (PST) Message-ID: <6915bfc0.170a0220.2d0fd0.1bc7SMTPIN_ADDED_MISSING@mx.google.com> Received: from [172.21.0.2] (unknown [172.18.0.240]) by postal.iol.unh.edu (Postfix) with ESMTP id C44FF6051830; Thu, 13 Nov 2025 06:23:43 -0500 (EST) Subject: |SUCCESS| [GIT MASTER] be0112878b4fc3a1b918370ed2fe615c52039d77 From: dpdklab@iol.unh.edu To: Test Report Cc: dpdk-test-reports@iol.unh.edu Content-Type: text/plain X-BeenThere: test-report@dpdk.org X-Mailman-Version: 2.1.29 Precedence: list List-Id: automatic DPDK test reports List-Unsubscribe: , List-Archive: List-Post: List-Help: List-Subscribe: , Errors-To: test-report-bounces@dpdk.org _Testing PASS_ Branch: dpdk be0112878b4fc3a1b918370ed2fe615c52039d77 --> testing pass Upstream job id: Generic-VM-Unit-Test-DPDK#32475 Test environment and result as below: +-------------------------------+----------------+ | Environment | dpdk_unit_test | +===============================+================+ | Fedora Linux 41 | PASS | +-------------------------------+----------------+ | Ubuntu 22.04 | PASS | +-------------------------------+----------------+ | Fedora Linux 40 | PASS | +-------------------------------+----------------+ | Red Hat Enterprise Linux 9.5 | PASS | +-------------------------------+----------------+ | Fedora Linux 42 | PASS | +-------------------------------+----------------+ | Arch Linux 20250613.0.365270 | PASS | +-------------------------------+----------------+ | Ubuntu 24.04 | PASS | +-------------------------------+----------------+ | Red Hat Enterprise Linux 8.10 | PASS | +-------------------------------+----------------+ | Debian GNU/Linux 12 | PASS | +-------------------------------+----------------+ | CentOS Stream 9 | PASS | +-------------------------------+----------------+ | CentOS Stream 10 | PASS | +-------------------------------+----------------+ | Ubuntu 20.04 | PASS | +-------------------------------+----------------+ | Windows Server 2022 | PASS | +-------------------------------+----------------+ Fedora Linux 41 Kernel: 5.15 Compiler: gcc gcc (GCC) 14.3.1 20250523 (Red Hat 14.3.1-1) Ubuntu 22.04 Kernel: 5.15 Compiler: gcc gcc (Ubuntu 11.4.0-1ubuntu1~22.04) 11.4.0 Fedora Linux 40 Kernel: 5.15 Compiler: clang gcc (GCC) 14.2.1 20240912 (Red Hat 14.2.1-3) Red Hat Enterprise Linux 9.5 Kernel: 5.15 Compiler: gcc gcc (GCC) 11.5.0 20240719 (Red Hat 11.5.0-2) Fedora Linux 42 Kernel: 5.15 Compiler: clang gcc (GCC) 15.2.1 20250808 (Red Hat 15.2.1-1) Arch Linux 20250613.0.365270 Kernel: 5.15 Compiler: gcc gcc (GCC) 15.1.1 20250425 Ubuntu 24.04 Kernel: 5.15 Compiler: gcc gcc (Ubuntu 13.3.0-6ubuntu2~24.04) 13.3.0 Red Hat Enterprise Linux 8.10 Kernel: 5.15 Compiler: gcc gcc (GCC) 8.5.0 20210514 (Red Hat 8.5.0-22) Debian GNU/Linux 12 Kernel: 5.15 Compiler: gcc gcc (Debian 12.2.0-14+deb12u1) 12.2.0 CentOS Stream 9 Kernel: 5.15 Compiler: gcc gcc (GCC) 11.5.0 20240719 (Red Hat 11.5.0-11) CentOS Stream 10 Kernel: 5.15 Compiler: gcc gcc (GCC) 14.2.1 20250110 (Red Hat 14.2.1-8) Ubuntu 20.04 Kernel: 5.15 Compiler: gcc gcc (Ubuntu 9.4.0-1ubuntu1~20.04.2) 9.4.0 Windows Server 2022 Kernel: 10.0.20348.2031 Compiler: clang 15.0.7, gcc 14.1.0 (MinGW), and MSVC VS 19.39.33521 To view detailed results, visit: https://lab.dpdk.org/results/dashboard/tarballs/35547/ UNH-IOL DPDK Community Lab To manage your email subscriptions, visit: https://lab.dpdk.org/results/dashboard/preferences/subscriptions/