From mboxrd@z Thu Jan 1 00:00:00 1970 Return-Path: Received: from mails.dpdk.org (mails.dpdk.org [217.70.189.124]) by inbox.dpdk.org (Postfix) with ESMTP id E62BB48AF9 for ; Thu, 13 Nov 2025 12:27:49 +0100 (CET) Received: from mails.dpdk.org (localhost [127.0.0.1]) by mails.dpdk.org (Postfix) with ESMTP id E0818406A2; Thu, 13 Nov 2025 12:27:49 +0100 (CET) Received: from mail-yw1-f225.google.com (mail-yw1-f225.google.com [209.85.128.225]) by mails.dpdk.org (Postfix) with ESMTP id 9269640151 for ; Thu, 13 Nov 2025 12:27:48 +0100 (CET) Received: by mail-yw1-f225.google.com with SMTP id 00721157ae682-78802ac2296so7488577b3.3 for ; Thu, 13 Nov 2025 03:27:48 -0800 (PST) DKIM-Signature: v=1; a=rsa-sha256; c=relaxed/relaxed; d=iol.unh.edu; s=unh-iol; t=1763033268; x=1763638068; darn=dpdk.org; h=references:in-reply-to:cc:to:from:subject:message-id:date:from:to :cc:subject:date:message-id:reply-to; bh=Tivmg2z4Bg1pjbzmhCAhxT99CORbpV2mMH2t1W8xAI8=; b=gRfIS31rj4kuyqBff/kjtcwDwP8aUv9jwanY+Hi8z0sFxfdjTGpjQ1gGlP9PTl9Kny keYUFNDOPdzsXWKpCeDkn56Is/2GDZ6odahyrRyS8tVFad8aQGFbmLjk/ZM6gCP7XPz6 aJdBVC6qP1lcpbVozDlndDXzJ2vPCdretAi4o= X-Google-DKIM-Signature: v=1; a=rsa-sha256; c=relaxed/relaxed; d=1e100.net; s=20230601; t=1763033268; x=1763638068; h=references:in-reply-to:cc:to:from:subject:message-id:date:x-gm-gg :x-gm-message-state:from:to:cc:subject:date:message-id:reply-to; bh=Tivmg2z4Bg1pjbzmhCAhxT99CORbpV2mMH2t1W8xAI8=; b=istpaMtDx/DNmP8xOlVafraZW0Wz8Ut0OGAuxraEM2gkkixQJyUcfCQBVmWoOOc26v gEsJ/8svOLJ/IiLOmLBK2UPluBMEhGDgDGMs4A6mEdt+djOz7IyUyn8E9MGzsXPXY1Mq tiHveVFMGqXpV+sKhEJkLpAR7Tpbd5kjRjbSaUZOHmugKpjehCtcBWzFHKT44RUlt/+K 4aNjSU609LNAC0eXdjl7re3/PJvOHPNvcS/9x4sXcrbDHtB27ZnhLPkAQFIduz/V7K7y DL10fmKTAMJm4vkXiRpOV5OJkrQ3CGhEI2TlUea4l5YEfUsVNUmBdyX1ywRjYAdryvNe XNtg== X-Gm-Message-State: AOJu0YwueTTtyrouQn+tfOkJc5Kv8fTZayu7dtn8R1jzhUiAACtLot7R vW9DApQasM6Bz3TP9pts0dkJPc/HN6V5PfaJSFAPq/1EupmuBPLDPXqIOISlF/jyOkQEffWl46F R/KU5RHIMTcyC9YzpF1KQ5tMnEKAyc91zO+APL+A5r7/uJPULww+QUTX+tsCX X-Gm-Gg: ASbGncsKm1LGaV0eeOp5rjvr7bVAC1ObRFfgnk9BPtKo3wM4B50PFP4oR60Q81YvhsO 3Iu4GW3XHfpOZFYDpqxyRCv8cTQCLPZ2jg/eKOsePr75ddlh4d4ZiEDNsusTHfFyZwT7JzLURJI z+Zj7947LDYP8h406pvh+kfAxdIu8zZ1djEDVfg7zwLUIejOGBsf6Zo7O9UT0yM7sYfAHDRai4m jumdELCIlQ+cuWI+NQSYYcvQ3KJqnuvnHJxUaApr/G6k43OiLb0SFXLd4BU6Nr77Cb2U04i3Gq8 6Gnv6z49Wgav2fAZPNbVOnkacMCVmXbk5egByejhIqXLumTJDKSyREZUpSn3KNv8T9AV+Is3RvD /T78f6WPQ X-Google-Smtp-Source: AGHT+IFykYBMD6vnfLN/4tdRxidQlHoxviVk4ks6OLtqo0W3dwoQdrvnNYwzhelaOuyESr7DrvgA6lxBKOBT X-Received: by 2002:a05:690c:67c6:b0:788:1b67:d741 with SMTP id 00721157ae682-7881b67e021mr45655157b3.3.1763033267921; Thu, 13 Nov 2025 03:27:47 -0800 (PST) Received: from postal.iol.unh.edu (postal.iol.unh.edu. [2606:4100:3880:1234::84]) by smtp-relay.gmail.com with ESMTPS id 00721157ae682-78821df1c8dsm928737b3.4.2025.11.13.03.27.47 (version=TLS1_2 cipher=ECDHE-ECDSA-AES128-GCM-SHA256 bits=128/128); Thu, 13 Nov 2025 03:27:47 -0800 (PST) X-Relaying-Domain: iol.unh.edu Date: Thu, 13 Nov 2025 03:27:47 -0800 (PST) Message-ID: <6915c0b3.050a0220.10e4fd.4934SMTPIN_ADDED_MISSING@mx.google.com> Received: from [172.21.0.2] (unknown [172.18.0.240]) by postal.iol.unh.edu (Postfix) with ESMTP id 961166051830; Thu, 13 Nov 2025 06:27:47 -0500 (EST) Subject: |SUCCESS| pw158658-158662 [PATCH] [v4,5/5] vhost_user: Increase numb From: dpdklab@iol.unh.edu To: Test Report Cc: dpdk-test-reports@iol.unh.edu, Chenbo Xia , Maxime Coquelin In-Reply-To: <20251111114002.2902696-6-pravin.bathija@dell.com> References: <20251111114002.2902696-6-pravin.bathija@dell.com> Content-Type: text/plain X-BeenThere: test-report@dpdk.org X-Mailman-Version: 2.1.29 Precedence: list List-Id: automatic DPDK test reports List-Unsubscribe: , List-Archive: List-Post: List-Help: List-Subscribe: , Errors-To: test-report-bounces@dpdk.org Test-Label: iol-compile-amd64-testing Test-Status: SUCCESS http://dpdk.org/patch/158662 _Testing PASS_ Submitter: Bathija, Pravin Date: Tuesday, November 11 2025 11:40:02 DPDK git baseline: Repo:dpdk-next-virtio Branch: master CommitID:6b37c26a95388aa41bb5267c7c42f604fd571a38 158658-158662 --> testing pass Upstream job id: Windows-Compile-DPDK-Native#32288 Test environment and result as below: +-------------------------------+--------------------+------------------+-------------------+-------------------------+ | Environment | dpdk_meson_compile | dpdk_compile_ovs | dpdk_msvc_compile | dpdk_llvm_clang_compile | +===============================+====================+==================+===================+=========================+ | Ubuntu 20.04 | PASS | SKIPPED | SKIPPED | SKIPPED | +-------------------------------+--------------------+------------------+-------------------+-------------------------+ | FreeBSD 14.2 | PASS | SKIPPED | SKIPPED | SKIPPED | +-------------------------------+--------------------+------------------+-------------------+-------------------------+ | CentOS Stream 9 | PASS | SKIPPED | SKIPPED | SKIPPED | +-------------------------------+--------------------+------------------+-------------------+-------------------------+ | CentOS Stream 10 | PASS | SKIPPED | SKIPPED | SKIPPED | +-------------------------------+--------------------+------------------+-------------------+-------------------------+ | Debian GNU/Linux 12 | PASS | SKIPPED | SKIPPED | SKIPPED | +-------------------------------+--------------------+------------------+-------------------+-------------------------+ | Fedora Linux 42 | PASS | PASS | SKIPPED | SKIPPED | +-------------------------------+--------------------+------------------+-------------------+-------------------------+ | openSUSE Leap 15.6 | PASS | SKIPPED | SKIPPED | SKIPPED | +-------------------------------+--------------------+------------------+-------------------+-------------------------+ | Red Hat Enterprise Linux 8.10 | PASS | SKIPPED | SKIPPED | SKIPPED | +-------------------------------+--------------------+------------------+-------------------+-------------------------+ | Red Hat Enterprise Linux 9.5 | PASS | SKIPPED | SKIPPED | SKIPPED | +-------------------------------+--------------------+------------------+-------------------+-------------------------+ | Ubuntu 22.04 | PASS | SKIPPED | SKIPPED | SKIPPED | +-------------------------------+--------------------+------------------+-------------------+-------------------------+ | Ubuntu 24.04 | PASS | PASS | SKIPPED | SKIPPED | +-------------------------------+--------------------+------------------+-------------------+-------------------------+ | Alpine Linux 3.22.0 | PASS | SKIPPED | SKIPPED | SKIPPED | +-------------------------------+--------------------+------------------+-------------------+-------------------------+ | Windows Server 2022 | SKIPPED | SKIPPED | PASS | PASS | +-------------------------------+--------------------+------------------+-------------------+-------------------------+ Ubuntu 20.04 Kernel: 4.19 Compiler: gcc gcc (Ubuntu 9.4.0-1ubuntu1~20.04.2) 9.4.0 FreeBSD 14.2 Kernel: 14.2-RELEASE Compiler: clang 18.1.6 CentOS Stream 9 Kernel: 5.15 Compiler: gcc gcc (GCC) 11.5.0 20240719 (Red Hat 11.5.0-11) CentOS Stream 10 Kernel: 5.15 Compiler: gcc gcc (GCC) 14.2.1 20250110 (Red Hat 14.2.1-8) Debian GNU/Linux 12 Kernel: 5.15 Compiler: gcc gcc (Debian 12.2.0-14+deb12u1) 12.2.0 Fedora Linux 42 Kernel: 5.15 Compiler: clang gcc (GCC) 15.2.1 20250808 (Red Hat 15.2.1-1) openSUSE Leap 15.6 Kernel: 5.15 Compiler: gcc gcc (SUSE Linux) 7.5.0 Red Hat Enterprise Linux 8.10 Kernel: 5.15 Compiler: gcc gcc (GCC) 8.5.0 20210514 (Red Hat 8.5.0-22) Red Hat Enterprise Linux 9.5 Kernel: 5.15 Compiler: gcc gcc (GCC) 11.5.0 20240719 (Red Hat 11.5.0-2) Ubuntu 22.04 Kernel: 5.15 Compiler: gcc gcc (Ubuntu 11.4.0-1ubuntu1~22.04) 11.4.0 Ubuntu 24.04 Kernel: 5.15 Compiler: gcc gcc (Ubuntu 13.3.0-6ubuntu2~24.04) 13.3.0 Alpine Linux 3.22.0 Kernel: 5.15 Compiler: gcc gcc (Alpine 14.2.0) 14.2.0 Windows Server 2022 Kernel: 10.0.20348.2031 Compiler: clang 15.0.7, gcc 14.1.0 (MinGW), and MSVC VS 19.39.33521 To view detailed results, visit: https://lab.dpdk.org/results/dashboard/patchsets/34533/ UNH-IOL DPDK Community Lab To manage your email subscriptions, visit: https://lab.dpdk.org/results/dashboard/preferences/subscriptions/