From mboxrd@z Thu Jan 1 00:00:00 1970 Return-Path: Received: from mails.dpdk.org (mails.dpdk.org [217.70.189.124]) by inbox.dpdk.org (Postfix) with ESMTP id 549F548AF9 for ; Thu, 13 Nov 2025 12:28:26 +0100 (CET) Received: from mails.dpdk.org (localhost [127.0.0.1]) by mails.dpdk.org (Postfix) with ESMTP id 463A3406A2; Thu, 13 Nov 2025 12:28:26 +0100 (CET) Received: from mail-il1-f226.google.com (mail-il1-f226.google.com [209.85.166.226]) by mails.dpdk.org (Postfix) with ESMTP id B474C40DCD for ; Thu, 13 Nov 2025 12:28:25 +0100 (CET) Received: by mail-il1-f226.google.com with SMTP id e9e14a558f8ab-43325879139so6185905ab.1 for ; Thu, 13 Nov 2025 03:28:25 -0800 (PST) DKIM-Signature: v=1; a=rsa-sha256; c=relaxed/relaxed; d=iol.unh.edu; s=unh-iol; t=1763033305; x=1763638105; darn=dpdk.org; h=cc:to:from:subject:message-id:date:from:to:cc:subject:date :message-id:reply-to; bh=9ObfmdhxepFdb/eicdRotXrG9rOGM84owmkf95JfSko=; b=Y9VCMfuXJs9arHp9T0evxn1dfvxjbczvPXRz40v3nXuzZ97EitxGYSMCBWrpGKMf/6 SDV4fNp7csVgj4NMleMi4ceAPc2UbVZ70EiNkBaA2q3uK+WYAAVx6IugfiiZ3jVdS3gM AXpQ9SJ7lFQhYp0vNQzTLhamD8OwC+2KLA6ig= X-Google-DKIM-Signature: v=1; a=rsa-sha256; c=relaxed/relaxed; d=1e100.net; s=20230601; t=1763033305; x=1763638105; h=cc:to:from:subject:message-id:date:x-gm-gg:x-gm-message-state:from :to:cc:subject:date:message-id:reply-to; bh=9ObfmdhxepFdb/eicdRotXrG9rOGM84owmkf95JfSko=; b=C+z8kc3XAEoOYHy+w5Gje8nqfQRwcQdYeNjMcshqpgxJNN85fbl1Pm5T4oEI83P3oO h8/6XuXwq4LyUU6935MAbdTZO+28EM9yxFaZuDq6hXXjMHnykSi3Nl6IG1Uxi5tSM4w+ I+JVUUgEGyGqem9CQTLmdMSK5MCPlPYjSKhAGWM51r3icE9htbviQAQOyIkrhpm+mmnK 9LweGBr4O4svzzrZZ+YTuY2IcC4FJLMnhzmbDXmvfDzpknyiX8gwprJc6qKcOu+NmnkG EVInmisz1JEYegGG3Uqb2T4Oau4g5d0GkSamqutqEry/ysU+t6AmbQt1t3e1tAyryKFu MtUA== X-Gm-Message-State: AOJu0Yx04/SQ1mALiPYINOzN2LIg0eg4xSbNMamlWeZ3BoFlRp8qR28+ ocqOXVHQyKa5U0xTVtHHOKtnagXwHYfyacakJnT0r2m7I149QZYFKRchnS6f3AiT4DuWFhMSfht bNQsMSwbdUrnRL9ETzP+jdiT0HDhSfjDTWUrn X-Gm-Gg: ASbGncvEFg+05550VVs7eAEjtTItPhoQUq3G4B7xgbS5IVt7GH04s0tyUxQ8c2jTsxW IdHl7QiM+L4NzOeZSrrJaP5QC4hNNcQHDHP8Ii2PU4UgZ/FQ85kpAx4NSCXw/yLs/qoe6QIEd2Z xhg7FSq+6NZH8s7Bi6mgZFjzxqmJa8OP8OLCdv6doRsvz0AqIr67oUcMU5fhsnxfgeaPBW8RPJ0 KXCP162lEbc5STUXF3oR7KtlIDCBn3CfhRBXlCMOnzyvvC3AWP93BNH1Wgq86LihYXFSWU0yoOK vy9yvq8zVXffsvEiVjEoqeaU4cWWT5kFci6UnWM8vg5bXQCTX8zag5Wm+Sv6D+DAod9VnJ0aC2V neqlB6ndu2DeqneHFW63A0fvpX0qKx9c= X-Google-Smtp-Source: AGHT+IF086modQzk77AZxbbrGl6eqJARnvvzoQSP8BH/Nf6rfEcMP494XnJHcBY4A8ah9uVEyz2oOLWoj353 X-Received: by 2002:a92:ca0a:0:b0:433:80eb:c1bb with SMTP id e9e14a558f8ab-43473daddfcmr84474595ab.23.1763033305062; Thu, 13 Nov 2025 03:28:25 -0800 (PST) Received: from postal.iol.unh.edu (postal.iol.unh.edu. [132.177.123.84]) by smtp-relay.gmail.com with ESMTPS id e9e14a558f8ab-434839fb89asm1174165ab.34.2025.11.13.03.28.24 (version=TLS1_2 cipher=ECDHE-ECDSA-AES128-GCM-SHA256 bits=128/128); Thu, 13 Nov 2025 03:28:25 -0800 (PST) X-Relaying-Domain: iol.unh.edu Date: Thu, 13 Nov 2025 03:28:25 -0800 (PST) Message-ID: <6915c0d9.050a0220.2bc3f3.63d0SMTPIN_ADDED_MISSING@mx.google.com> Received: from [172.21.0.4] (unknown [172.18.0.240]) by postal.iol.unh.edu (Postfix) with ESMTP id 952176051830; Thu, 13 Nov 2025 06:28:24 -0500 (EST) Subject: |SUCCESS| [GIT MASTER] 0bd935abcb823f581ce53986986aa54eaf6f8140 From: dpdklab@iol.unh.edu To: Test Report Cc: dpdk-test-reports@iol.unh.edu, Xueming Li , Christian Ehrhardt , Kevin Traynor , Luca Boccassi Content-Type: text/plain X-BeenThere: test-report@dpdk.org X-Mailman-Version: 2.1.29 Precedence: list List-Id: automatic DPDK test reports List-Unsubscribe: , List-Archive: List-Post: List-Help: List-Subscribe: , Errors-To: test-report-bounces@dpdk.org _Testing PASS_ Branch: tags/v24.11 0bd935abcb823f581ce53986986aa54eaf6f8140 --> testing pass Upstream job id: Windows-Compile-DPDK-VS#7511 Test environment and result as below: +-------------------------------+--------------------+------------------+-------------------+ | Environment | dpdk_meson_compile | dpdk_compile_ovs | dpdk_msvc_compile | +===============================+====================+==================+===================+ | Ubuntu 20.04 | PASS | SKIPPED | SKIPPED | +-------------------------------+--------------------+------------------+-------------------+ | FreeBSD 14.2 | PASS | SKIPPED | SKIPPED | +-------------------------------+--------------------+------------------+-------------------+ | CentOS Stream 9 | PASS | SKIPPED | SKIPPED | +-------------------------------+--------------------+------------------+-------------------+ | CentOS Stream 10 | PASS | SKIPPED | SKIPPED | +-------------------------------+--------------------+------------------+-------------------+ | Debian GNU/Linux 12 | PASS | SKIPPED | SKIPPED | +-------------------------------+--------------------+------------------+-------------------+ | Fedora Linux 42 | PASS | PASS | SKIPPED | +-------------------------------+--------------------+------------------+-------------------+ | openSUSE Leap 15.6 | PASS | SKIPPED | SKIPPED | +-------------------------------+--------------------+------------------+-------------------+ | Red Hat Enterprise Linux 8.10 | PASS | SKIPPED | SKIPPED | +-------------------------------+--------------------+------------------+-------------------+ | Red Hat Enterprise Linux 9.5 | PASS | SKIPPED | SKIPPED | +-------------------------------+--------------------+------------------+-------------------+ | Ubuntu 22.04 | PASS | SKIPPED | SKIPPED | +-------------------------------+--------------------+------------------+-------------------+ | Ubuntu 24.04 | PASS | PASS | SKIPPED | +-------------------------------+--------------------+------------------+-------------------+ | Alpine Linux 3.22.0 | PASS | SKIPPED | SKIPPED | +-------------------------------+--------------------+------------------+-------------------+ | Windows Server 2022 | SKIPPED | SKIPPED | PASS | +-------------------------------+--------------------+------------------+-------------------+ Ubuntu 20.04 Kernel: 4.19 Compiler: gcc gcc (Ubuntu 9.4.0-1ubuntu1~20.04.2) 9.4.0 FreeBSD 14.2 Kernel: 14.2-RELEASE Compiler: clang 18.1.6 CentOS Stream 9 Kernel: 5.15 Compiler: gcc gcc (GCC) 11.5.0 20240719 (Red Hat 11.5.0-11) CentOS Stream 10 Kernel: 5.15 Compiler: gcc gcc (GCC) 14.2.1 20250110 (Red Hat 14.2.1-8) Debian GNU/Linux 12 Kernel: 5.15 Compiler: gcc gcc (Debian 12.2.0-14+deb12u1) 12.2.0 Fedora Linux 42 Kernel: 5.15 Compiler: clang gcc (GCC) 15.2.1 20250808 (Red Hat 15.2.1-1) openSUSE Leap 15.6 Kernel: 5.15 Compiler: gcc gcc (SUSE Linux) 7.5.0 Red Hat Enterprise Linux 8.10 Kernel: 5.15 Compiler: gcc gcc (GCC) 8.5.0 20210514 (Red Hat 8.5.0-22) Red Hat Enterprise Linux 9.5 Kernel: 5.15 Compiler: gcc gcc (GCC) 11.5.0 20240719 (Red Hat 11.5.0-2) Ubuntu 22.04 Kernel: 5.15 Compiler: gcc gcc (Ubuntu 11.4.0-1ubuntu1~22.04) 11.4.0 Ubuntu 24.04 Kernel: 5.15 Compiler: gcc gcc (Ubuntu 13.3.0-6ubuntu2~24.04) 13.3.0 Alpine Linux 3.22.0 Kernel: 5.15 Compiler: gcc gcc (Alpine 14.2.0) 14.2.0 Windows Server 2022 Kernel: 10.0.20348.2031 Compiler: clang 15.0.7, gcc 14.1.0 (MinGW), and MSVC VS 19.39.33521 To view detailed results, visit: https://lab.dpdk.org/results/dashboard/tarballs/35551/ UNH-IOL DPDK Community Lab To manage your email subscriptions, visit: https://lab.dpdk.org/results/dashboard/preferences/subscriptions/