From mboxrd@z Thu Jan 1 00:00:00 1970 Return-Path: Received: from mails.dpdk.org (mails.dpdk.org [217.70.189.124]) by inbox.dpdk.org (Postfix) with ESMTP id CF4C948AF9 for ; Thu, 13 Nov 2025 12:32:31 +0100 (CET) Received: from mails.dpdk.org (localhost [127.0.0.1]) by mails.dpdk.org (Postfix) with ESMTP id CA409406A2; Thu, 13 Nov 2025 12:32:31 +0100 (CET) Received: from mail-pf1-f227.google.com (mail-pf1-f227.google.com [209.85.210.227]) by mails.dpdk.org (Postfix) with ESMTP id 8B349406A2 for ; Thu, 13 Nov 2025 12:32:30 +0100 (CET) Received: by mail-pf1-f227.google.com with SMTP id d2e1a72fcca58-7acd9a03ba9so558785b3a.1 for ; Thu, 13 Nov 2025 03:32:30 -0800 (PST) DKIM-Signature: v=1; a=rsa-sha256; c=relaxed/relaxed; d=iol.unh.edu; s=unh-iol; t=1763033550; x=1763638350; darn=dpdk.org; h=cc:to:from:subject:message-id:date:from:to:cc:subject:date :message-id:reply-to; bh=TfD/PEYzq0bFpVW4XobgeHIhs1GQZmDyppNAgTxiz0g=; b=GdzJmkhc/7WNSvTlkBKGbU2Iumlr+NbcB+fnlyOsrzyRxGygFOjsTtSTnt3tHo5QdP NFVflOoIMpISZ5i6LECCOScloALsZU5eLLkproa3GFRbCQp+OZnAnYBLeTZtZRrvqDM2 M0IPjEQwMdEqZflL4pnOlNGDMwjRSe+KEmsjg= X-Google-DKIM-Signature: v=1; a=rsa-sha256; c=relaxed/relaxed; d=1e100.net; s=20230601; t=1763033550; x=1763638350; h=cc:to:from:subject:message-id:date:x-gm-gg:x-gm-message-state:from :to:cc:subject:date:message-id:reply-to; bh=TfD/PEYzq0bFpVW4XobgeHIhs1GQZmDyppNAgTxiz0g=; b=n1/J+swPYidzfB8Uz7mHA3koJR5i3rHGfZ9Wzkeyh0g/plJSG790ID9chGdKlWTElH gn4TCWWDGx8nzYhBTd3BQJar03WKomIOTrQhigrjbgCxm0KV9uqd3A4Nwo/k9BFrMoSL 05zR9fzpHL5+5h8xY2YReocve0qktxGtoSZ/RVwCwKNwNBxjofF7Jcw3Pq3QMRIkigOs l9yEfs9g1kmc6NY54LJkIhneFy6XU8NycV4LxgZqt95Bq9Y3yprS0s55fetOBFsf9Ky9 wHArdRzkaZRTEFv9Bh58j6Hdf1Txse3Lg28tG3Gryq3h5QeDqM624d1FXFyT5QQ841mg ZGmQ== X-Gm-Message-State: AOJu0YzkatWBjO4jM7JBqeYAZt0CUIv3cbKb7VhXlZgb/2iUCwMyvkpX b+qpPqFS/QlAYJ7dsHLYHlAhrqIUjzXHimrgX2hHE2HW4uKmv7j9JWiaI5D+CsYzPCCgmcM73dL rqPwSCMZ1O8z3BZhYZ6MEa02vu7QyReXx2J1ZLlfW3YJpnQNFci8MwYVt6PwS X-Gm-Gg: ASbGnct8gW7q6tnhBNs8WNUS8m3QsTvEJlOBHNzUtdYREEfbNLMCFKrKRPX8Pzg8gZa BqZEUmjlWi+j9ou71+FMTFDXGIRIT8Vnypk3XxuEEZ8rm1zbtpxg6ix4HQVK+aCglSCDVSYG+Lc iOkIAobUx/q410b47ucA/Nua35GXN4o8wAWaxEpls8EBfFdkiSB3h2vTx/1VNmtcSOvqazXYlgt lu9KT8Qjp38FR8OfsVYtz1uWr4pSZ+1w9b936edZpFoVmhxPsMSl3j0SBo3pqK37RTgE8oOZ1P5 XG8VE6GPYwCk1wV0wHrTSl66kyup9QHrXfcmfk0kCGmhKSLNBxX9j19TvDrFKC24NyOkAqkvKNe uEWf3Y63b X-Google-Smtp-Source: AGHT+IE4U44mqRrMZKVlwe4iwmGBRju9cazZDVXs4vGnFeBIgT5EKYjzt9uy8aR3zQf/H21xuUaWbU28D2Lw X-Received: by 2002:a17:90b:5784:b0:341:a9e7:e5f9 with SMTP id 98e67ed59e1d1-343ddcaefb4mr7326419a91.0.1763033549680; Thu, 13 Nov 2025 03:32:29 -0800 (PST) Received: from postal.iol.unh.edu (postal.iol.unh.edu. [2606:4100:3880:1234::84]) by smtp-relay.gmail.com with ESMTPS id 98e67ed59e1d1-343e0624e10sm561158a91.0.2025.11.13.03.32.29 (version=TLS1_2 cipher=ECDHE-ECDSA-AES128-GCM-SHA256 bits=128/128); Thu, 13 Nov 2025 03:32:29 -0800 (PST) X-Relaying-Domain: iol.unh.edu Date: Thu, 13 Nov 2025 03:32:29 -0800 (PST) Message-ID: <6915c1cd.170a0220.39f8a6.bc0fSMTPIN_ADDED_MISSING@mx.google.com> Received: from [172.21.0.3] (unknown [172.18.0.240]) by postal.iol.unh.edu (Postfix) with ESMTP id EF3AE6051830; Thu, 13 Nov 2025 06:32:28 -0500 (EST) Subject: |SUCCESS| [GIT MASTER] be0112878b4fc3a1b918370ed2fe615c52039d77 From: dpdklab@iol.unh.edu To: Test Report Cc: dpdk-test-reports@iol.unh.edu Content-Type: text/plain X-BeenThere: test-report@dpdk.org X-Mailman-Version: 2.1.29 Precedence: list List-Id: automatic DPDK test reports List-Unsubscribe: , List-Archive: List-Post: List-Help: List-Subscribe: , Errors-To: test-report-bounces@dpdk.org _Testing PASS_ Branch: dpdk be0112878b4fc3a1b918370ed2fe615c52039d77 --> testing pass Upstream job id: Generic-VM-Unit-Test-DPDK#32476 Test environment and result as below: +-------------------------------+----------------+ | Environment | dpdk_unit_test | +===============================+================+ | Fedora Linux 41 | PASS | +-------------------------------+----------------+ | Ubuntu 22.04 | PASS | +-------------------------------+----------------+ | Fedora Linux 40 | PASS | +-------------------------------+----------------+ | Red Hat Enterprise Linux 9.5 | PASS | +-------------------------------+----------------+ | Fedora Linux 42 | PASS | +-------------------------------+----------------+ | Arch Linux 20250613.0.365270 | PASS | +-------------------------------+----------------+ | Ubuntu 24.04 | PASS | +-------------------------------+----------------+ | Red Hat Enterprise Linux 8.10 | PASS | +-------------------------------+----------------+ | Debian GNU/Linux 12 | PASS | +-------------------------------+----------------+ | CentOS Stream 9 | PASS | +-------------------------------+----------------+ | CentOS Stream 10 | PASS | +-------------------------------+----------------+ | Ubuntu 20.04 | PASS | +-------------------------------+----------------+ | Windows Server 2022 | PASS | +-------------------------------+----------------+ Fedora Linux 41 Kernel: 5.15 Compiler: gcc gcc (GCC) 14.3.1 20250523 (Red Hat 14.3.1-1) Ubuntu 22.04 Kernel: 5.15 Compiler: gcc gcc (Ubuntu 11.4.0-1ubuntu1~22.04) 11.4.0 Fedora Linux 40 Kernel: 5.15 Compiler: clang gcc (GCC) 14.2.1 20240912 (Red Hat 14.2.1-3) Red Hat Enterprise Linux 9.5 Kernel: 5.15 Compiler: gcc gcc (GCC) 11.5.0 20240719 (Red Hat 11.5.0-2) Fedora Linux 42 Kernel: 5.15 Compiler: clang gcc (GCC) 15.2.1 20250808 (Red Hat 15.2.1-1) Arch Linux 20250613.0.365270 Kernel: 5.15 Compiler: gcc gcc (GCC) 15.1.1 20250425 Ubuntu 24.04 Kernel: 5.15 Compiler: gcc gcc (Ubuntu 13.3.0-6ubuntu2~24.04) 13.3.0 Red Hat Enterprise Linux 8.10 Kernel: 5.15 Compiler: gcc gcc (GCC) 8.5.0 20210514 (Red Hat 8.5.0-22) Debian GNU/Linux 12 Kernel: 5.15 Compiler: gcc gcc (Debian 12.2.0-14+deb12u1) 12.2.0 CentOS Stream 9 Kernel: 5.15 Compiler: gcc gcc (GCC) 11.5.0 20240719 (Red Hat 11.5.0-11) CentOS Stream 10 Kernel: 5.15 Compiler: gcc gcc (GCC) 14.2.1 20250110 (Red Hat 14.2.1-8) Ubuntu 20.04 Kernel: 5.15 Compiler: gcc gcc (Ubuntu 9.4.0-1ubuntu1~20.04.2) 9.4.0 Windows Server 2022 Kernel: 10.0.20348.2031 Compiler: clang 15.0.7, gcc 14.1.0 (MinGW), and MSVC VS 19.39.33521 To view detailed results, visit: https://lab.dpdk.org/results/dashboard/tarballs/35547/ UNH-IOL DPDK Community Lab To manage your email subscriptions, visit: https://lab.dpdk.org/results/dashboard/preferences/subscriptions/