From mboxrd@z Thu Jan 1 00:00:00 1970 Return-Path: Received: from mails.dpdk.org (mails.dpdk.org [217.70.189.124]) by inbox.dpdk.org (Postfix) with ESMTP id 19BC248AF9 for ; Thu, 13 Nov 2025 12:32:36 +0100 (CET) Received: from mails.dpdk.org (localhost [127.0.0.1]) by mails.dpdk.org (Postfix) with ESMTP id 0ADC440E19; Thu, 13 Nov 2025 12:32:36 +0100 (CET) Received: from mail-ot1-f100.google.com (mail-ot1-f100.google.com [209.85.210.100]) by mails.dpdk.org (Postfix) with ESMTP id C2D2740E19 for ; Thu, 13 Nov 2025 12:32:34 +0100 (CET) Received: by mail-ot1-f100.google.com with SMTP id 46e09a7af769-7c52fa75cd3so571982a34.3 for ; Thu, 13 Nov 2025 03:32:34 -0800 (PST) DKIM-Signature: v=1; a=rsa-sha256; c=relaxed/relaxed; d=iol.unh.edu; s=unh-iol; t=1763033554; x=1763638354; darn=dpdk.org; h=references:in-reply-to:cc:to:from:subject:message-id:date:from:to :cc:subject:date:message-id:reply-to; bh=9Y28gdXdK844cp3Mxox9iBvzpOTfc3Td9eIz1jBgtKk=; b=e9bhU4LCsDXsRHGFI8KpfJvCQNCJWQVSiQjBIsaDGURZ04rxWkB5ci42vVA07bwfig HfoHkxlDW0KbFC5+wqkigdI41rnIu1GtbU1uNHrBOxtyqeN7kcSgN2bQlKyUcYCjw2G0 fcr6sHAcmncy3V4+tNE5XTjPj3royRvju9FSo= X-Google-DKIM-Signature: v=1; a=rsa-sha256; c=relaxed/relaxed; d=1e100.net; s=20230601; t=1763033554; x=1763638354; h=references:in-reply-to:cc:to:from:subject:message-id:date:x-gm-gg :x-gm-message-state:from:to:cc:subject:date:message-id:reply-to; bh=9Y28gdXdK844cp3Mxox9iBvzpOTfc3Td9eIz1jBgtKk=; b=INn6XK8sMdfyT6TZO3yHzB0sTKCPT7jUBCf7F9Q1vdlqCVzcBL9Vhd3NuqP80rvCOf TYknCSpnok76fLUmdK+TOJjEdfN7Y37ywngKz6BJJ72tY76mwFe2LkNIQh8X27aAlnAe 7H3S77mEAwDzb3YjzCZcS5Lpb2n4bcMhgR4SFX5sFqkzdvRTj1RHVSO7ZsI9TfTtAjFD NR8j/yTJHPVS0AzSewZRRlj9mGYFoYjJ4Fq3RG/YRvLkE99Y+AlKmtie5bC0GgNUInQ7 f5u2sNONbwo0dvCiStqCvSpekbbTUBGQGPqYZiSKq3PX5Ml1Oe9ZL3QxhgznIw7xoXUG 3xnA== X-Gm-Message-State: AOJu0YxC2yHZH/VZhmN/Y0svcoKhYnklYZ/p7oEqOtRjMnWrnpAewpWO VeHBy5xUeBHmQq9ccYM2JJ2SkQCAVLxd4H8t3WUtqbby9kwYlnjgchtG7p56RPItu5PIdTOPNhV IMC7S5Q+JpTED0VvVJPQ575kXv3UUSQrEPIMEcteJPv8Wz8J2zlSeW2wT7i4N X-Gm-Gg: ASbGncsM3BdZ9PJsUvuMrP3df3wAR0k/oURGn5whi7ZKJZgMoEuhiBOoMys+naGeI1r qjy5L8nfeaOQIpN/hPIVoAsqFzBgAOVAiG4N5D+jd0Yc/ztAUCKxOc3l9ntsS0k9gAgUtNC32o2 KyKxdaYDtOEObvpnmhejpuHc4PtN5LhmDlZTi/ZgBqwa8XzCRmiXA+m7mfKiChBkhHF2URmtQVq re9ryI5//m9zkgMQJAP3gsM5IBMX/e5O8fKAPW+eJIIpIbGk2qOe1FddHCGPO1Cf0JAMWqdY9le oipfhLdyCXTfC2USo1cefGL+wGTWXXp0r5OQV0V+dWmJYMBz7IzRPGLYMo1MjVFuPcr9aZTjazs pE2TRreFH X-Google-Smtp-Source: AGHT+IH5zAObKalaGYuyNvr9YrZPIUpwAWAZ1iM21shMjWrEphp3m0Hm+ZCrXyCb5l1/JM6vRmrPESeckt94 X-Received: by 2002:a05:6830:44a9:b0:7c6:ca92:3621 with SMTP id 46e09a7af769-7c72e389a85mr2811924a34.22.1763033554097; Thu, 13 Nov 2025 03:32:34 -0800 (PST) Received: from postal.iol.unh.edu (postal.iol.unh.edu. [2606:4100:3880:1234::84]) by smtp-relay.gmail.com with ESMTPS id 46e09a7af769-7c73a34a50csm140477a34.5.2025.11.13.03.32.34 (version=TLS1_2 cipher=ECDHE-ECDSA-AES128-GCM-SHA256 bits=128/128); Thu, 13 Nov 2025 03:32:34 -0800 (PST) X-Relaying-Domain: iol.unh.edu Date: Thu, 13 Nov 2025 03:32:34 -0800 (PST) Message-ID: <6915c1d2.050a0220.1f9d45.6db8SMTPIN_ADDED_MISSING@mx.google.com> Received: from [172.21.0.2] (unknown [172.18.0.240]) by postal.iol.unh.edu (Postfix) with ESMTP id A1A806051830; Thu, 13 Nov 2025 06:32:33 -0500 (EST) Subject: |SUCCESS| pw158745 [PATCH] [v3] net/ice: fix statistics read error From: dpdklab@iol.unh.edu To: Test Report Cc: dpdk-test-reports@iol.unh.edu, Bruce Richardson In-Reply-To: <20251113074710.8251-1-zhichaox.zeng@intel.com> References: <20251113074710.8251-1-zhichaox.zeng@intel.com> Content-Type: text/plain X-BeenThere: test-report@dpdk.org X-Mailman-Version: 2.1.29 Precedence: list List-Id: automatic DPDK test reports List-Unsubscribe: , List-Archive: List-Post: List-Help: List-Subscribe: , Errors-To: test-report-bounces@dpdk.org Test-Label: iol-compile-amd64-testing Test-Status: SUCCESS http://dpdk.org/patch/158745 _Testing PASS_ Submitter: Zhichao Zeng Date: Thursday, November 13 2025 07:47:10 DPDK git baseline: Repo:dpdk-next-net-intel Branch: master CommitID:c63646d076330fb2ef3282cbd413aaf93f0509e6 158745 --> testing pass Upstream job id: Windows-Compile-DPDK-Native#32289 Test environment and result as below: +---------------------+--------------------+-------------------------+ | Environment | dpdk_meson_compile | dpdk_llvm_clang_compile | +=====================+====================+=========================+ | FreeBSD 14.2 | PASS | SKIPPED | +---------------------+--------------------+-------------------------+ | Ubuntu 20.04 | PASS | SKIPPED | +---------------------+--------------------+-------------------------+ | Windows Server 2022 | SKIPPED | PASS | +---------------------+--------------------+-------------------------+ FreeBSD 14.2 Kernel: 14.2-RELEASE Compiler: clang 18.1.6 Ubuntu 20.04 Kernel: 4.19 Compiler: gcc gcc (Ubuntu 9.4.0-1ubuntu1~20.04.2) 9.4.0 Windows Server 2022 Kernel: 10.0.20348.2031 Compiler: clang 15.0.7, gcc 14.1.0 (MinGW), and MSVC VS 19.39.33521 To view detailed results, visit: https://lab.dpdk.org/results/dashboard/patchsets/34565/ UNH-IOL DPDK Community Lab To manage your email subscriptions, visit: https://lab.dpdk.org/results/dashboard/preferences/subscriptions/